BEGIN:VCALENDAR
VERSION:2.0
PRODID:-//Grace Espicopal Church Windsor Connecticut - ECPv6.15.20//NONSGML v1.0//EN
CALSCALE:GREGORIAN
METHOD:PUBLISH
X-WR-CALNAME:Grace Espicopal Church Windsor Connecticut
X-ORIGINAL-URL:https://gracewindsor.org
X-WR-CALDESC:Events for Grace Espicopal Church Windsor Connecticut
REFRESH-INTERVAL;VALUE=DURATION:PT1H
X-Robots-Tag:noindex
X-PUBLISHED-TTL:PT1H
BEGIN:VTIMEZONE
TZID:America/New_York
BEGIN:DAYLIGHT
TZOFFSETFROM:-0500
TZOFFSETTO:-0400
TZNAME:EDT
DTSTART:20270314T070000
END:DAYLIGHT
BEGIN:STANDARD
TZOFFSETFROM:-0400
TZOFFSETTO:-0500
TZNAME:EST
DTSTART:20271107T060000
END:STANDARD
BEGIN:DAYLIGHT
TZOFFSETFROM:-0500
TZOFFSETTO:-0400
TZNAME:EDT
DTSTART:20280312T070000
END:DAYLIGHT
BEGIN:STANDARD
TZOFFSETFROM:-0400
TZOFFSETTO:-0500
TZNAME:EST
DTSTART:20281105T060000
END:STANDARD
BEGIN:DAYLIGHT
TZOFFSETFROM:-0500
TZOFFSETTO:-0400
TZNAME:EDT
DTSTART:20290311T070000
END:DAYLIGHT
BEGIN:STANDARD
TZOFFSETFROM:-0400
TZOFFSETTO:-0500
TZNAME:EST
DTSTART:20291104T060000
END:STANDARD
END:VTIMEZONE
BEGIN:VEVENT
DTSTART;TZID=America/New_York:20280417T190000
DTEND;TZID=America/New_York:20280417T200000
DTSTAMP:20260422T185522
CREATED:20230624T192836Z
LAST-MODIFIED:20240427T141930Z
UID:10004092-1839610800-1839614400@gracewindsor.org
SUMMARY:Alcoholics Anonymous Meeting
DESCRIPTION:
URL:https://gracewindsor.org/event/alcoholics-anonymous-meeting/2028-04-17/
LOCATION:Grace Church Lower Parish Hall\, 311 Broad Streeet\, Windsor\,\, Connecticut\, 06095
CATEGORIES:Meetings
ATTACH;FMTTYPE=image/jpeg:https://gracewindsor.org/wp-content/uploads/2023/06/AA-logo-cat-icon.jpg
END:VEVENT
BEGIN:VEVENT
DTSTART;TZID=America/New_York:20280418T180000
DTEND;TZID=America/New_York:20280418T190000
DTSTAMP:20260422T185522
CREATED:20240920T194545Z
LAST-MODIFIED:20241117T140913Z
UID:10006981-1839693600-1839697200@gracewindsor.org
SUMMARY:BSA\, Troop 1149
DESCRIPTION:
URL:https://gracewindsor.org/event/bsa-troop-1149-4/2028-04-18/
LOCATION:Grace Church Lower Parish Hall\, 311 Broad Streeet\, Windsor\,\, Connecticut\, 06095
CATEGORIES:Meetings
ATTACH;FMTTYPE=image/png:https://gracewindsor.org/wp-content/uploads/2023/10/March-29-2024-7.png
END:VEVENT
BEGIN:VEVENT
DTSTART;TZID=America/New_York:20280424T190000
DTEND;TZID=America/New_York:20280424T200000
DTSTAMP:20260422T185522
CREATED:20230624T192836Z
LAST-MODIFIED:20240427T141930Z
UID:10004093-1840215600-1840219200@gracewindsor.org
SUMMARY:Alcoholics Anonymous Meeting
DESCRIPTION:
URL:https://gracewindsor.org/event/alcoholics-anonymous-meeting/2028-04-24/
LOCATION:Grace Church Lower Parish Hall\, 311 Broad Streeet\, Windsor\,\, Connecticut\, 06095
CATEGORIES:Meetings
ATTACH;FMTTYPE=image/jpeg:https://gracewindsor.org/wp-content/uploads/2023/06/AA-logo-cat-icon.jpg
END:VEVENT
BEGIN:VEVENT
DTSTART;TZID=America/New_York:20280425T130000
DTEND;TZID=America/New_York:20280425T150000
DTSTAMP:20260422T185522
CREATED:20240825T000806Z
LAST-MODIFIED:20241104T162155Z
UID:10000586-1840280400-1840287600@gracewindsor.org
SUMMARY:Grace Church Book Club
DESCRIPTION:
URL:https://gracewindsor.org/event/grace-church-book-club-3/2028-04-25/
LOCATION:Grace Church Lower Parish Hall\, 311 Broad Streeet\, Windsor\,\, Connecticut\, 06095
ATTACH;FMTTYPE=image/png:https://gracewindsor.org/wp-content/uploads/2024/08/Book-1.png
END:VEVENT
BEGIN:VEVENT
DTSTART;TZID=America/New_York:20280425T180000
DTEND;TZID=America/New_York:20280425T190000
DTSTAMP:20260422T185522
CREATED:20240920T194545Z
LAST-MODIFIED:20241117T140913Z
UID:10006982-1840298400-1840302000@gracewindsor.org
SUMMARY:BSA\, Troop 1149
DESCRIPTION:
URL:https://gracewindsor.org/event/bsa-troop-1149-4/2028-04-25/
LOCATION:Grace Church Lower Parish Hall\, 311 Broad Streeet\, Windsor\,\, Connecticut\, 06095
CATEGORIES:Meetings
ATTACH;FMTTYPE=image/png:https://gracewindsor.org/wp-content/uploads/2023/10/March-29-2024-7.png
END:VEVENT
BEGIN:VEVENT
DTSTART;TZID=America/New_York:20280501T190000
DTEND;TZID=America/New_York:20280501T200000
DTSTAMP:20260422T185522
CREATED:20230624T192836Z
LAST-MODIFIED:20240427T141930Z
UID:10004094-1840820400-1840824000@gracewindsor.org
SUMMARY:Alcoholics Anonymous Meeting
DESCRIPTION:
URL:https://gracewindsor.org/event/alcoholics-anonymous-meeting/2028-05-01/
LOCATION:Grace Church Lower Parish Hall\, 311 Broad Streeet\, Windsor\,\, Connecticut\, 06095
CATEGORIES:Meetings
ATTACH;FMTTYPE=image/jpeg:https://gracewindsor.org/wp-content/uploads/2023/06/AA-logo-cat-icon.jpg
END:VEVENT
BEGIN:VEVENT
DTSTART;TZID=America/New_York:20280502T180000
DTEND;TZID=America/New_York:20280502T190000
DTSTAMP:20260422T185522
CREATED:20240920T194545Z
LAST-MODIFIED:20241117T140913Z
UID:10006983-1840903200-1840906800@gracewindsor.org
SUMMARY:BSA\, Troop 1149
DESCRIPTION:
URL:https://gracewindsor.org/event/bsa-troop-1149-4/2028-05-02/
LOCATION:Grace Church Lower Parish Hall\, 311 Broad Streeet\, Windsor\,\, Connecticut\, 06095
CATEGORIES:Meetings
ATTACH;FMTTYPE=image/png:https://gracewindsor.org/wp-content/uploads/2023/10/March-29-2024-7.png
END:VEVENT
BEGIN:VEVENT
DTSTART;TZID=America/New_York:20280508T190000
DTEND;TZID=America/New_York:20280508T200000
DTSTAMP:20260422T185522
CREATED:20230624T192836Z
LAST-MODIFIED:20240427T141930Z
UID:10004095-1841425200-1841428800@gracewindsor.org
SUMMARY:Alcoholics Anonymous Meeting
DESCRIPTION:
URL:https://gracewindsor.org/event/alcoholics-anonymous-meeting/2028-05-08/
LOCATION:Grace Church Lower Parish Hall\, 311 Broad Streeet\, Windsor\,\, Connecticut\, 06095
CATEGORIES:Meetings
ATTACH;FMTTYPE=image/jpeg:https://gracewindsor.org/wp-content/uploads/2023/06/AA-logo-cat-icon.jpg
END:VEVENT
BEGIN:VEVENT
DTSTART;TZID=America/New_York:20280509T180000
DTEND;TZID=America/New_York:20280509T190000
DTSTAMP:20260422T185522
CREATED:20240920T194545Z
LAST-MODIFIED:20241117T140913Z
UID:10006984-1841508000-1841511600@gracewindsor.org
SUMMARY:BSA\, Troop 1149
DESCRIPTION:
URL:https://gracewindsor.org/event/bsa-troop-1149-4/2028-05-09/
LOCATION:Grace Church Lower Parish Hall\, 311 Broad Streeet\, Windsor\,\, Connecticut\, 06095
CATEGORIES:Meetings
ATTACH;FMTTYPE=image/png:https://gracewindsor.org/wp-content/uploads/2023/10/March-29-2024-7.png
END:VEVENT
BEGIN:VEVENT
DTSTART;TZID=America/New_York:20280515T190000
DTEND;TZID=America/New_York:20280515T200000
DTSTAMP:20260422T185522
CREATED:20230624T192836Z
LAST-MODIFIED:20240427T141930Z
UID:10004096-1842030000-1842033600@gracewindsor.org
SUMMARY:Alcoholics Anonymous Meeting
DESCRIPTION:
URL:https://gracewindsor.org/event/alcoholics-anonymous-meeting/2028-05-15/
LOCATION:Grace Church Lower Parish Hall\, 311 Broad Streeet\, Windsor\,\, Connecticut\, 06095
CATEGORIES:Meetings
ATTACH;FMTTYPE=image/jpeg:https://gracewindsor.org/wp-content/uploads/2023/06/AA-logo-cat-icon.jpg
END:VEVENT
BEGIN:VEVENT
DTSTART;TZID=America/New_York:20280516T180000
DTEND;TZID=America/New_York:20280516T190000
DTSTAMP:20260422T185522
CREATED:20240920T194545Z
LAST-MODIFIED:20241117T140913Z
UID:10006985-1842112800-1842116400@gracewindsor.org
SUMMARY:BSA\, Troop 1149
DESCRIPTION:
URL:https://gracewindsor.org/event/bsa-troop-1149-4/2028-05-16/
LOCATION:Grace Church Lower Parish Hall\, 311 Broad Streeet\, Windsor\,\, Connecticut\, 06095
CATEGORIES:Meetings
ATTACH;FMTTYPE=image/png:https://gracewindsor.org/wp-content/uploads/2023/10/March-29-2024-7.png
END:VEVENT
BEGIN:VEVENT
DTSTART;TZID=America/New_York:20280522T190000
DTEND;TZID=America/New_York:20280522T200000
DTSTAMP:20260422T185522
CREATED:20230624T192836Z
LAST-MODIFIED:20240427T141930Z
UID:10004097-1842634800-1842638400@gracewindsor.org
SUMMARY:Alcoholics Anonymous Meeting
DESCRIPTION:
URL:https://gracewindsor.org/event/alcoholics-anonymous-meeting/2028-05-22/
LOCATION:Grace Church Lower Parish Hall\, 311 Broad Streeet\, Windsor\,\, Connecticut\, 06095
CATEGORIES:Meetings
ATTACH;FMTTYPE=image/jpeg:https://gracewindsor.org/wp-content/uploads/2023/06/AA-logo-cat-icon.jpg
END:VEVENT
BEGIN:VEVENT
DTSTART;TZID=America/New_York:20280523T130000
DTEND;TZID=America/New_York:20280523T150000
DTSTAMP:20260422T185522
CREATED:20240825T000806Z
LAST-MODIFIED:20241104T162155Z
UID:10000587-1842699600-1842706800@gracewindsor.org
SUMMARY:Grace Church Book Club
DESCRIPTION:
URL:https://gracewindsor.org/event/grace-church-book-club-3/2028-05-23/
LOCATION:Grace Church Lower Parish Hall\, 311 Broad Streeet\, Windsor\,\, Connecticut\, 06095
ATTACH;FMTTYPE=image/png:https://gracewindsor.org/wp-content/uploads/2024/08/Book-1.png
END:VEVENT
BEGIN:VEVENT
DTSTART;TZID=America/New_York:20280523T180000
DTEND;TZID=America/New_York:20280523T190000
DTSTAMP:20260422T185522
CREATED:20240920T194545Z
LAST-MODIFIED:20241117T140913Z
UID:10006986-1842717600-1842721200@gracewindsor.org
SUMMARY:BSA\, Troop 1149
DESCRIPTION:
URL:https://gracewindsor.org/event/bsa-troop-1149-4/2028-05-23/
LOCATION:Grace Church Lower Parish Hall\, 311 Broad Streeet\, Windsor\,\, Connecticut\, 06095
CATEGORIES:Meetings
ATTACH;FMTTYPE=image/png:https://gracewindsor.org/wp-content/uploads/2023/10/March-29-2024-7.png
END:VEVENT
BEGIN:VEVENT
DTSTART;TZID=America/New_York:20280529T190000
DTEND;TZID=America/New_York:20280529T200000
DTSTAMP:20260422T185522
CREATED:20230624T192836Z
LAST-MODIFIED:20240427T141930Z
UID:10004098-1843239600-1843243200@gracewindsor.org
SUMMARY:Alcoholics Anonymous Meeting
DESCRIPTION:
URL:https://gracewindsor.org/event/alcoholics-anonymous-meeting/2028-05-29/
LOCATION:Grace Church Lower Parish Hall\, 311 Broad Streeet\, Windsor\,\, Connecticut\, 06095
CATEGORIES:Meetings
ATTACH;FMTTYPE=image/jpeg:https://gracewindsor.org/wp-content/uploads/2023/06/AA-logo-cat-icon.jpg
END:VEVENT
BEGIN:VEVENT
DTSTART;TZID=America/New_York:20280530T180000
DTEND;TZID=America/New_York:20280530T190000
DTSTAMP:20260422T185522
CREATED:20240920T194545Z
LAST-MODIFIED:20241117T140913Z
UID:10006987-1843322400-1843326000@gracewindsor.org
SUMMARY:BSA\, Troop 1149
DESCRIPTION:
URL:https://gracewindsor.org/event/bsa-troop-1149-4/2028-05-30/
LOCATION:Grace Church Lower Parish Hall\, 311 Broad Streeet\, Windsor\,\, Connecticut\, 06095
CATEGORIES:Meetings
ATTACH;FMTTYPE=image/png:https://gracewindsor.org/wp-content/uploads/2023/10/March-29-2024-7.png
END:VEVENT
BEGIN:VEVENT
DTSTART;TZID=America/New_York:20280605T190000
DTEND;TZID=America/New_York:20280605T200000
DTSTAMP:20260422T185522
CREATED:20230624T192836Z
LAST-MODIFIED:20240427T141930Z
UID:10004099-1843844400-1843848000@gracewindsor.org
SUMMARY:Alcoholics Anonymous Meeting
DESCRIPTION:
URL:https://gracewindsor.org/event/alcoholics-anonymous-meeting/2028-06-05/
LOCATION:Grace Church Lower Parish Hall\, 311 Broad Streeet\, Windsor\,\, Connecticut\, 06095
CATEGORIES:Meetings
ATTACH;FMTTYPE=image/jpeg:https://gracewindsor.org/wp-content/uploads/2023/06/AA-logo-cat-icon.jpg
END:VEVENT
BEGIN:VEVENT
DTSTART;TZID=America/New_York:20280606T180000
DTEND;TZID=America/New_York:20280606T190000
DTSTAMP:20260422T185522
CREATED:20240920T194545Z
LAST-MODIFIED:20241117T140913Z
UID:10006988-1843927200-1843930800@gracewindsor.org
SUMMARY:BSA\, Troop 1149
DESCRIPTION:
URL:https://gracewindsor.org/event/bsa-troop-1149-4/2028-06-06/
LOCATION:Grace Church Lower Parish Hall\, 311 Broad Streeet\, Windsor\,\, Connecticut\, 06095
CATEGORIES:Meetings
ATTACH;FMTTYPE=image/png:https://gracewindsor.org/wp-content/uploads/2023/10/March-29-2024-7.png
END:VEVENT
BEGIN:VEVENT
DTSTART;TZID=America/New_York:20280612T190000
DTEND;TZID=America/New_York:20280612T200000
DTSTAMP:20260422T185522
CREATED:20230624T192836Z
LAST-MODIFIED:20240427T141930Z
UID:10004100-1844449200-1844452800@gracewindsor.org
SUMMARY:Alcoholics Anonymous Meeting
DESCRIPTION:
URL:https://gracewindsor.org/event/alcoholics-anonymous-meeting/2028-06-12/
LOCATION:Grace Church Lower Parish Hall\, 311 Broad Streeet\, Windsor\,\, Connecticut\, 06095
CATEGORIES:Meetings
ATTACH;FMTTYPE=image/jpeg:https://gracewindsor.org/wp-content/uploads/2023/06/AA-logo-cat-icon.jpg
END:VEVENT
BEGIN:VEVENT
DTSTART;TZID=America/New_York:20280613T180000
DTEND;TZID=America/New_York:20280613T190000
DTSTAMP:20260422T185522
CREATED:20240920T194545Z
LAST-MODIFIED:20241117T140913Z
UID:10006989-1844532000-1844535600@gracewindsor.org
SUMMARY:BSA\, Troop 1149
DESCRIPTION:
URL:https://gracewindsor.org/event/bsa-troop-1149-4/2028-06-13/
LOCATION:Grace Church Lower Parish Hall\, 311 Broad Streeet\, Windsor\,\, Connecticut\, 06095
CATEGORIES:Meetings
ATTACH;FMTTYPE=image/png:https://gracewindsor.org/wp-content/uploads/2023/10/March-29-2024-7.png
END:VEVENT
BEGIN:VEVENT
DTSTART;TZID=America/New_York:20280619T190000
DTEND;TZID=America/New_York:20280619T200000
DTSTAMP:20260422T185522
CREATED:20230624T192836Z
LAST-MODIFIED:20240427T141930Z
UID:10004101-1845054000-1845057600@gracewindsor.org
SUMMARY:Alcoholics Anonymous Meeting
DESCRIPTION:
URL:https://gracewindsor.org/event/alcoholics-anonymous-meeting/2028-06-19/
LOCATION:Grace Church Lower Parish Hall\, 311 Broad Streeet\, Windsor\,\, Connecticut\, 06095
CATEGORIES:Meetings
ATTACH;FMTTYPE=image/jpeg:https://gracewindsor.org/wp-content/uploads/2023/06/AA-logo-cat-icon.jpg
END:VEVENT
BEGIN:VEVENT
DTSTART;TZID=America/New_York:20280620T180000
DTEND;TZID=America/New_York:20280620T190000
DTSTAMP:20260422T185522
CREATED:20240920T194545Z
LAST-MODIFIED:20241117T140913Z
UID:10006990-1845136800-1845140400@gracewindsor.org
SUMMARY:BSA\, Troop 1149
DESCRIPTION:
URL:https://gracewindsor.org/event/bsa-troop-1149-4/2028-06-20/
LOCATION:Grace Church Lower Parish Hall\, 311 Broad Streeet\, Windsor\,\, Connecticut\, 06095
CATEGORIES:Meetings
ATTACH;FMTTYPE=image/png:https://gracewindsor.org/wp-content/uploads/2023/10/March-29-2024-7.png
END:VEVENT
BEGIN:VEVENT
DTSTART;TZID=America/New_York:20280626T190000
DTEND;TZID=America/New_York:20280626T200000
DTSTAMP:20260422T185522
CREATED:20230624T192836Z
LAST-MODIFIED:20240427T141930Z
UID:10004102-1845658800-1845662400@gracewindsor.org
SUMMARY:Alcoholics Anonymous Meeting
DESCRIPTION:
URL:https://gracewindsor.org/event/alcoholics-anonymous-meeting/2028-06-26/
LOCATION:Grace Church Lower Parish Hall\, 311 Broad Streeet\, Windsor\,\, Connecticut\, 06095
CATEGORIES:Meetings
ATTACH;FMTTYPE=image/jpeg:https://gracewindsor.org/wp-content/uploads/2023/06/AA-logo-cat-icon.jpg
END:VEVENT
BEGIN:VEVENT
DTSTART;TZID=America/New_York:20280627T130000
DTEND;TZID=America/New_York:20280627T150000
DTSTAMP:20260422T185522
CREATED:20240825T000806Z
LAST-MODIFIED:20241104T162155Z
UID:10001394-1845723600-1845730800@gracewindsor.org
SUMMARY:Grace Church Book Club
DESCRIPTION:
URL:https://gracewindsor.org/event/grace-church-book-club-3/2028-06-27/
LOCATION:Grace Church Lower Parish Hall\, 311 Broad Streeet\, Windsor\,\, Connecticut\, 06095
ATTACH;FMTTYPE=image/png:https://gracewindsor.org/wp-content/uploads/2024/08/Book-1.png
END:VEVENT
BEGIN:VEVENT
DTSTART;TZID=America/New_York:20280627T180000
DTEND;TZID=America/New_York:20280627T190000
DTSTAMP:20260422T185522
CREATED:20240920T194545Z
LAST-MODIFIED:20241117T140913Z
UID:10006991-1845741600-1845745200@gracewindsor.org
SUMMARY:BSA\, Troop 1149
DESCRIPTION:
URL:https://gracewindsor.org/event/bsa-troop-1149-4/2028-06-27/
LOCATION:Grace Church Lower Parish Hall\, 311 Broad Streeet\, Windsor\,\, Connecticut\, 06095
CATEGORIES:Meetings
ATTACH;FMTTYPE=image/png:https://gracewindsor.org/wp-content/uploads/2023/10/March-29-2024-7.png
END:VEVENT
BEGIN:VEVENT
DTSTART;TZID=America/New_York:20280703T190000
DTEND;TZID=America/New_York:20280703T200000
DTSTAMP:20260422T185522
CREATED:20230624T192836Z
LAST-MODIFIED:20240427T141930Z
UID:10004103-1846263600-1846267200@gracewindsor.org
SUMMARY:Alcoholics Anonymous Meeting
DESCRIPTION:
URL:https://gracewindsor.org/event/alcoholics-anonymous-meeting/2028-07-03/
LOCATION:Grace Church Lower Parish Hall\, 311 Broad Streeet\, Windsor\,\, Connecticut\, 06095
CATEGORIES:Meetings
ATTACH;FMTTYPE=image/jpeg:https://gracewindsor.org/wp-content/uploads/2023/06/AA-logo-cat-icon.jpg
END:VEVENT
BEGIN:VEVENT
DTSTART;TZID=America/New_York:20280704T180000
DTEND;TZID=America/New_York:20280704T190000
DTSTAMP:20260422T185522
CREATED:20240920T194545Z
LAST-MODIFIED:20241117T140913Z
UID:10006992-1846346400-1846350000@gracewindsor.org
SUMMARY:BSA\, Troop 1149
DESCRIPTION:
URL:https://gracewindsor.org/event/bsa-troop-1149-4/2028-07-04/
LOCATION:Grace Church Lower Parish Hall\, 311 Broad Streeet\, Windsor\,\, Connecticut\, 06095
CATEGORIES:Meetings
ATTACH;FMTTYPE=image/png:https://gracewindsor.org/wp-content/uploads/2023/10/March-29-2024-7.png
END:VEVENT
BEGIN:VEVENT
DTSTART;TZID=America/New_York:20280710T190000
DTEND;TZID=America/New_York:20280710T200000
DTSTAMP:20260422T185522
CREATED:20230624T192836Z
LAST-MODIFIED:20240427T141930Z
UID:10004104-1846868400-1846872000@gracewindsor.org
SUMMARY:Alcoholics Anonymous Meeting
DESCRIPTION:
URL:https://gracewindsor.org/event/alcoholics-anonymous-meeting/2028-07-10/
LOCATION:Grace Church Lower Parish Hall\, 311 Broad Streeet\, Windsor\,\, Connecticut\, 06095
CATEGORIES:Meetings
ATTACH;FMTTYPE=image/jpeg:https://gracewindsor.org/wp-content/uploads/2023/06/AA-logo-cat-icon.jpg
END:VEVENT
BEGIN:VEVENT
DTSTART;TZID=America/New_York:20280711T180000
DTEND;TZID=America/New_York:20280711T190000
DTSTAMP:20260422T185522
CREATED:20240920T194545Z
LAST-MODIFIED:20241117T140913Z
UID:10006993-1846951200-1846954800@gracewindsor.org
SUMMARY:BSA\, Troop 1149
DESCRIPTION:
URL:https://gracewindsor.org/event/bsa-troop-1149-4/2028-07-11/
LOCATION:Grace Church Lower Parish Hall\, 311 Broad Streeet\, Windsor\,\, Connecticut\, 06095
CATEGORIES:Meetings
ATTACH;FMTTYPE=image/png:https://gracewindsor.org/wp-content/uploads/2023/10/March-29-2024-7.png
END:VEVENT
BEGIN:VEVENT
DTSTART;TZID=America/New_York:20280717T190000
DTEND;TZID=America/New_York:20280717T200000
DTSTAMP:20260422T185522
CREATED:20230624T192836Z
LAST-MODIFIED:20240427T141930Z
UID:10004105-1847473200-1847476800@gracewindsor.org
SUMMARY:Alcoholics Anonymous Meeting
DESCRIPTION:
URL:https://gracewindsor.org/event/alcoholics-anonymous-meeting/2028-07-17/
LOCATION:Grace Church Lower Parish Hall\, 311 Broad Streeet\, Windsor\,\, Connecticut\, 06095
CATEGORIES:Meetings
ATTACH;FMTTYPE=image/jpeg:https://gracewindsor.org/wp-content/uploads/2023/06/AA-logo-cat-icon.jpg
END:VEVENT
END:VCALENDAR