BEGIN:VCALENDAR
VERSION:2.0
PRODID:-//Grace Espicopal Church Windsor Connecticut - ECPv6.15.20//NONSGML v1.0//EN
CALSCALE:GREGORIAN
METHOD:PUBLISH
X-ORIGINAL-URL:https://gracewindsor.org
X-WR-CALDESC:Events for Grace Espicopal Church Windsor Connecticut
REFRESH-INTERVAL;VALUE=DURATION:PT1H
X-Robots-Tag:noindex
X-PUBLISHED-TTL:PT1H
BEGIN:VTIMEZONE
TZID:America/New_York
BEGIN:DAYLIGHT
TZOFFSETFROM:-0500
TZOFFSETTO:-0400
TZNAME:EDT
DTSTART:20230312T070000
END:DAYLIGHT
BEGIN:STANDARD
TZOFFSETFROM:-0400
TZOFFSETTO:-0500
TZNAME:EST
DTSTART:20231105T060000
END:STANDARD
BEGIN:DAYLIGHT
TZOFFSETFROM:-0500
TZOFFSETTO:-0400
TZNAME:EDT
DTSTART:20240310T070000
END:DAYLIGHT
BEGIN:STANDARD
TZOFFSETFROM:-0400
TZOFFSETTO:-0500
TZNAME:EST
DTSTART:20241103T060000
END:STANDARD
BEGIN:DAYLIGHT
TZOFFSETFROM:-0500
TZOFFSETTO:-0400
TZNAME:EDT
DTSTART:20250309T070000
END:DAYLIGHT
BEGIN:STANDARD
TZOFFSETFROM:-0400
TZOFFSETTO:-0500
TZNAME:EST
DTSTART:20251102T060000
END:STANDARD
END:VTIMEZONE
BEGIN:VEVENT
DTSTART;TZID=America/New_York:20240520T190000
DTEND;TZID=America/New_York:20240520T200000
DTSTAMP:20260422T200808
CREATED:20230624T192836Z
LAST-MODIFIED:20240427T141930Z
UID:10003888-1716231600-1716235200@gracewindsor.org
SUMMARY:Alcoholics Anonymous Meeting
DESCRIPTION:
URL:https://gracewindsor.org/event/alcoholics-anonymous-meeting/2024-05-20/
LOCATION:Grace Church Lower Parish Hall\, 311 Broad Streeet\, Windsor\,\, Connecticut\, 06095
CATEGORIES:Meetings
ATTACH;FMTTYPE=image/jpeg:https://gracewindsor.org/wp-content/uploads/2023/06/AA-logo-cat-icon.jpg
END:VEVENT
BEGIN:VEVENT
DTSTART;TZID=America/New_York:20240514T190000
DTEND;TZID=America/New_York:20240514T190000
DTSTAMP:20260422T200808
CREATED:20240327T151643Z
LAST-MODIFIED:20240825T001845Z
UID:10003396-1715713200-1715713200@gracewindsor.org
SUMMARY:BSA\, Troop 1149
DESCRIPTION:
URL:https://gracewindsor.org/event/bsa-troop-1149-2/2024-05-14/
LOCATION:Grace Church Lower Parish Hall\, 311 Broad Streeet\, Windsor\,\, Connecticut\, 06095
CATEGORIES:Meetings
ATTACH;FMTTYPE=image/png:https://gracewindsor.org/wp-content/uploads/2023/10/March-29-2024-7.png
END:VEVENT
BEGIN:VEVENT
DTSTART;TZID=America/New_York:20240513T190000
DTEND;TZID=America/New_York:20240513T200000
DTSTAMP:20260422T200808
CREATED:20230624T192836Z
LAST-MODIFIED:20240427T141930Z
UID:10003887-1715626800-1715630400@gracewindsor.org
SUMMARY:Alcoholics Anonymous Meeting
DESCRIPTION:
URL:https://gracewindsor.org/event/alcoholics-anonymous-meeting/2024-05-13/
LOCATION:Grace Church Lower Parish Hall\, 311 Broad Streeet\, Windsor\,\, Connecticut\, 06095
CATEGORIES:Meetings
ATTACH;FMTTYPE=image/jpeg:https://gracewindsor.org/wp-content/uploads/2023/06/AA-logo-cat-icon.jpg
END:VEVENT
BEGIN:VEVENT
DTSTART;TZID=America/New_York:20240508T100000
DTEND;TZID=America/New_York:20240508T111500
DTSTAMP:20260422T200808
CREATED:20240604T193758Z
LAST-MODIFIED:20240604T193929Z
UID:10004426-1715162400-1715166900@gracewindsor.org
SUMMARY:Body\, Mind & Spirit
DESCRIPTION:Balancing body\, mind and spirit leads to a happy and fulfilled life. A feeling of personal wholeness emerges when the body\, mind and spirit are in balance.
URL:https://gracewindsor.org/event/body-mind-spirit-2/2024-05-08/
LOCATION:Grace Church Lower Parish Hall\, 311 Broad Streeet\, Windsor\,\, Connecticut\, 06095
CATEGORIES:Events
ATTACH;FMTTYPE=image/png:https://gracewindsor.org/wp-content/uploads/2024/03/March-29-2024-8.png
END:VEVENT
BEGIN:VEVENT
DTSTART;TZID=America/New_York:20240506T190000
DTEND;TZID=America/New_York:20240506T200000
DTSTAMP:20260422T200808
CREATED:20230624T192836Z
LAST-MODIFIED:20240427T141930Z
UID:10003886-1715022000-1715025600@gracewindsor.org
SUMMARY:Alcoholics Anonymous Meeting
DESCRIPTION:
URL:https://gracewindsor.org/event/alcoholics-anonymous-meeting/2024-05-06/
LOCATION:Grace Church Lower Parish Hall\, 311 Broad Streeet\, Windsor\,\, Connecticut\, 06095
CATEGORIES:Meetings
ATTACH;FMTTYPE=image/jpeg:https://gracewindsor.org/wp-content/uploads/2023/06/AA-logo-cat-icon.jpg
END:VEVENT
BEGIN:VEVENT
DTSTART;TZID=America/New_York:20240501T100000
DTEND;TZID=America/New_York:20240501T111500
DTSTAMP:20260422T200808
CREATED:20240604T193758Z
LAST-MODIFIED:20240604T193929Z
UID:10004425-1714557600-1714562100@gracewindsor.org
SUMMARY:Body\, Mind & Spirit
DESCRIPTION:Balancing body\, mind and spirit leads to a happy and fulfilled life. A feeling of personal wholeness emerges when the body\, mind and spirit are in balance.
URL:https://gracewindsor.org/event/body-mind-spirit-2/2024-05-01/
LOCATION:Grace Church Lower Parish Hall\, 311 Broad Streeet\, Windsor\,\, Connecticut\, 06095
CATEGORIES:Events
ATTACH;FMTTYPE=image/png:https://gracewindsor.org/wp-content/uploads/2024/03/March-29-2024-8.png
END:VEVENT
BEGIN:VEVENT
DTSTART;TZID=America/New_York:20240430T190000
DTEND;TZID=America/New_York:20240430T190000
DTSTAMP:20260422T200808
CREATED:20240327T151643Z
LAST-MODIFIED:20240825T001845Z
UID:10003395-1714503600-1714503600@gracewindsor.org
SUMMARY:BSA\, Troop 1149
DESCRIPTION:
URL:https://gracewindsor.org/event/bsa-troop-1149-2/2024-04-30/
LOCATION:Grace Church Lower Parish Hall\, 311 Broad Streeet\, Windsor\,\, Connecticut\, 06095
CATEGORIES:Meetings
ATTACH;FMTTYPE=image/png:https://gracewindsor.org/wp-content/uploads/2023/10/March-29-2024-7.png
END:VEVENT
BEGIN:VEVENT
DTSTART;TZID=America/New_York:20240429T190000
DTEND;TZID=America/New_York:20240429T200000
DTSTAMP:20260422T200808
CREATED:20230624T192836Z
LAST-MODIFIED:20240427T141930Z
UID:10003885-1714417200-1714420800@gracewindsor.org
SUMMARY:Alcoholics Anonymous Meeting
DESCRIPTION:
URL:https://gracewindsor.org/event/alcoholics-anonymous-meeting/2024-04-29/
LOCATION:Grace Church Lower Parish Hall\, 311 Broad Streeet\, Windsor\,\, Connecticut\, 06095
CATEGORIES:Meetings
ATTACH;FMTTYPE=image/jpeg:https://gracewindsor.org/wp-content/uploads/2023/06/AA-logo-cat-icon.jpg
END:VEVENT
BEGIN:VEVENT
DTSTART;TZID=America/New_York:20240426T100000
DTEND;TZID=America/New_York:20240426T113000
DTSTAMP:20260422T200808
CREATED:20240419T005516Z
LAST-MODIFIED:20240419T005530Z
UID:10003828-1714125600-1714131000@gracewindsor.org
SUMMARY:KEEP YOUR BRAIN HEALTHY AND FIT
DESCRIPTION:Presented by:  Jo Anne Harrison-Becker\, MS (Gerontology) \n\n\n\nDuring this 1.5-hour workshop\, the following topics will be discussed: \n\n\n\n· Assessing your memory \n\n\n\n· Normal brain aging – normal age-related forgetfulness \n\n\n\n· Crucial factors that impact memory/learning \n\n\n\n· What is a serious memory problem? \n\n\n\n· Making memories while you sleep \n\n\n\n· Healthy foods that boost memory \n\n\n\n· Foods that induce memory loss – what not to eat \n\n\n\n· Physical exercise for brain health \n\n\n\n· How stress and worry affect memory – self-assessment \n\n\n\n· Your plan for a healthy brain \n\n\n\n· Strategies to compensate for mild memory loss \n\n\n\n· What should I do if I’m worried about my memory? \n\n\n\n· Memory-enhancing strategies and exercises \n\n\n\nA packet of handouts will be provided to workshop participants. \n\n\n\nThis workshop is open to the public. Please sign up by April 24 with Bonnie at bonnie@gracewindsor.org; Jo Anne at joanneharrisonbecker@gmail.com or 860-202-3360; or on the sign-up sheet located in the Great Hall.
URL:https://gracewindsor.org/event/keep-your-brain-healthy-and-fit/
LOCATION:Grace Church Lower Parish Hall\, 311 Broad Streeet\, Windsor\,\, Connecticut\, 06095
CATEGORIES:Events
END:VEVENT
BEGIN:VEVENT
DTSTART;TZID=America/New_York:20240424T100000
DTEND;TZID=America/New_York:20240424T111500
DTSTAMP:20260422T200808
CREATED:20240604T193758Z
LAST-MODIFIED:20240604T193929Z
UID:10004424-1713952800-1713957300@gracewindsor.org
SUMMARY:Body\, Mind & Spirit
DESCRIPTION:Balancing body\, mind and spirit leads to a happy and fulfilled life. A feeling of personal wholeness emerges when the body\, mind and spirit are in balance.
URL:https://gracewindsor.org/event/body-mind-spirit-2/2024-04-24/
LOCATION:Grace Church Lower Parish Hall\, 311 Broad Streeet\, Windsor\,\, Connecticut\, 06095
CATEGORIES:Events
ATTACH;FMTTYPE=image/png:https://gracewindsor.org/wp-content/uploads/2024/03/March-29-2024-8.png
END:VEVENT
BEGIN:VEVENT
DTSTART;TZID=America/New_York:20240423T130000
DTEND;TZID=America/New_York:20240423T150000
DTSTAMP:20260422T200808
CREATED:20231118T214604Z
LAST-MODIFIED:20231118T214607Z
UID:10000538-1713877200-1713884400@gracewindsor.org
SUMMARY:Grace Church Book Club
DESCRIPTION:
URL:https://gracewindsor.org/event/grace-church-book-club-2/2024-04-23/
LOCATION:Grace Church Lower Parish Hall\, 311 Broad Streeet\, Windsor\,\, Connecticut\, 06095
END:VEVENT
BEGIN:VEVENT
DTSTART;TZID=America/New_York:20240422T190000
DTEND;TZID=America/New_York:20240422T200000
DTSTAMP:20260422T200808
CREATED:20230624T192836Z
LAST-MODIFIED:20240427T141930Z
UID:10003884-1713812400-1713816000@gracewindsor.org
SUMMARY:Alcoholics Anonymous Meeting
DESCRIPTION:
URL:https://gracewindsor.org/event/alcoholics-anonymous-meeting/2024-04-22/
LOCATION:Grace Church Lower Parish Hall\, 311 Broad Streeet\, Windsor\,\, Connecticut\, 06095
CATEGORIES:Meetings
ATTACH;FMTTYPE=image/jpeg:https://gracewindsor.org/wp-content/uploads/2023/06/AA-logo-cat-icon.jpg
END:VEVENT
BEGIN:VEVENT
DTSTART;TZID=America/New_York:20240417T100000
DTEND;TZID=America/New_York:20240417T111500
DTSTAMP:20260422T200808
CREATED:20240604T193758Z
LAST-MODIFIED:20240604T193929Z
UID:10004423-1713348000-1713352500@gracewindsor.org
SUMMARY:Body\, Mind & Spirit
DESCRIPTION:Balancing body\, mind and spirit leads to a happy and fulfilled life. A feeling of personal wholeness emerges when the body\, mind and spirit are in balance.
URL:https://gracewindsor.org/event/body-mind-spirit-2/2024-04-17/
LOCATION:Grace Church Lower Parish Hall\, 311 Broad Streeet\, Windsor\,\, Connecticut\, 06095
CATEGORIES:Events
ATTACH;FMTTYPE=image/png:https://gracewindsor.org/wp-content/uploads/2024/03/March-29-2024-8.png
END:VEVENT
BEGIN:VEVENT
DTSTART;TZID=America/New_York:20240416T190000
DTEND;TZID=America/New_York:20240416T190000
DTSTAMP:20260422T200808
CREATED:20240327T151643Z
LAST-MODIFIED:20240825T001845Z
UID:10003394-1713294000-1713294000@gracewindsor.org
SUMMARY:BSA\, Troop 1149
DESCRIPTION:
URL:https://gracewindsor.org/event/bsa-troop-1149-2/2024-04-16/
LOCATION:Grace Church Lower Parish Hall\, 311 Broad Streeet\, Windsor\,\, Connecticut\, 06095
CATEGORIES:Meetings
ATTACH;FMTTYPE=image/png:https://gracewindsor.org/wp-content/uploads/2023/10/March-29-2024-7.png
END:VEVENT
BEGIN:VEVENT
DTSTART;TZID=America/New_York:20240415T190000
DTEND;TZID=America/New_York:20240415T200000
DTSTAMP:20260422T200808
CREATED:20230624T192836Z
LAST-MODIFIED:20240427T141930Z
UID:10003883-1713207600-1713211200@gracewindsor.org
SUMMARY:Alcoholics Anonymous Meeting
DESCRIPTION:
URL:https://gracewindsor.org/event/alcoholics-anonymous-meeting/2024-04-15/
LOCATION:Grace Church Lower Parish Hall\, 311 Broad Streeet\, Windsor\,\, Connecticut\, 06095
CATEGORIES:Meetings
ATTACH;FMTTYPE=image/jpeg:https://gracewindsor.org/wp-content/uploads/2023/06/AA-logo-cat-icon.jpg
END:VEVENT
BEGIN:VEVENT
DTSTART;TZID=America/New_York:20240410T100000
DTEND;TZID=America/New_York:20240410T111500
DTSTAMP:20260422T200808
CREATED:20240604T193758Z
LAST-MODIFIED:20240604T193929Z
UID:10004422-1712743200-1712747700@gracewindsor.org
SUMMARY:Body\, Mind & Spirit
DESCRIPTION:Balancing body\, mind and spirit leads to a happy and fulfilled life. A feeling of personal wholeness emerges when the body\, mind and spirit are in balance.
URL:https://gracewindsor.org/event/body-mind-spirit-2/2024-04-10/
LOCATION:Grace Church Lower Parish Hall\, 311 Broad Streeet\, Windsor\,\, Connecticut\, 06095
CATEGORIES:Events
ATTACH;FMTTYPE=image/png:https://gracewindsor.org/wp-content/uploads/2024/03/March-29-2024-8.png
END:VEVENT
BEGIN:VEVENT
DTSTART;TZID=America/New_York:20240408T190000
DTEND;TZID=America/New_York:20240408T200000
DTSTAMP:20260422T200808
CREATED:20230624T192836Z
LAST-MODIFIED:20240427T141930Z
UID:10003882-1712602800-1712606400@gracewindsor.org
SUMMARY:Alcoholics Anonymous Meeting
DESCRIPTION:
URL:https://gracewindsor.org/event/alcoholics-anonymous-meeting/2024-04-08/
LOCATION:Grace Church Lower Parish Hall\, 311 Broad Streeet\, Windsor\,\, Connecticut\, 06095
CATEGORIES:Meetings
ATTACH;FMTTYPE=image/jpeg:https://gracewindsor.org/wp-content/uploads/2023/06/AA-logo-cat-icon.jpg
END:VEVENT
BEGIN:VEVENT
DTSTART;TZID=America/New_York:20240406T090000
DTEND;TZID=America/New_York:20240406T140000
DTSTAMP:20260422T200808
CREATED:20240327T151919Z
LAST-MODIFIED:20240327T162346Z
UID:10003524-1712394000-1712412000@gracewindsor.org
SUMMARY:Windsor African Violet Show
DESCRIPTION:
URL:https://gracewindsor.org/event/windsor-african-violet-show/
LOCATION:Grace Church Lower Parish Hall\, 311 Broad Streeet\, Windsor\,\, Connecticut\, 06095
CATEGORIES:Events
ATTACH;FMTTYPE=image/png:https://gracewindsor.org/wp-content/uploads/2024/03/March-29-2024-9.png
END:VEVENT
BEGIN:VEVENT
DTSTART;TZID=America/New_York:20240403T100000
DTEND;TZID=America/New_York:20240403T111500
DTSTAMP:20260422T200808
CREATED:20240604T193758Z
LAST-MODIFIED:20240604T193929Z
UID:10004421-1712138400-1712142900@gracewindsor.org
SUMMARY:Body\, Mind & Spirit
DESCRIPTION:Balancing body\, mind and spirit leads to a happy and fulfilled life. A feeling of personal wholeness emerges when the body\, mind and spirit are in balance.
URL:https://gracewindsor.org/event/body-mind-spirit-2/2024-04-03/
LOCATION:Grace Church Lower Parish Hall\, 311 Broad Streeet\, Windsor\,\, Connecticut\, 06095
CATEGORIES:Events
ATTACH;FMTTYPE=image/png:https://gracewindsor.org/wp-content/uploads/2024/03/March-29-2024-8.png
END:VEVENT
BEGIN:VEVENT
DTSTART;TZID=America/New_York:20240402T190000
DTEND;TZID=America/New_York:20240402T190000
DTSTAMP:20260422T200808
CREATED:20240327T151643Z
LAST-MODIFIED:20240825T001845Z
UID:10003393-1712084400-1712084400@gracewindsor.org
SUMMARY:BSA\, Troop 1149
DESCRIPTION:
URL:https://gracewindsor.org/event/bsa-troop-1149-2/2024-04-02/
LOCATION:Grace Church Lower Parish Hall\, 311 Broad Streeet\, Windsor\,\, Connecticut\, 06095
CATEGORIES:Meetings
ATTACH;FMTTYPE=image/png:https://gracewindsor.org/wp-content/uploads/2023/10/March-29-2024-7.png
END:VEVENT
BEGIN:VEVENT
DTSTART;TZID=America/New_York:20240401T190000
DTEND;TZID=America/New_York:20240401T200000
DTSTAMP:20260422T200808
CREATED:20230624T192836Z
LAST-MODIFIED:20240427T141930Z
UID:10003881-1711998000-1712001600@gracewindsor.org
SUMMARY:Alcoholics Anonymous Meeting
DESCRIPTION:
URL:https://gracewindsor.org/event/alcoholics-anonymous-meeting/2024-04-01/
LOCATION:Grace Church Lower Parish Hall\, 311 Broad Streeet\, Windsor\,\, Connecticut\, 06095
CATEGORIES:Meetings
ATTACH;FMTTYPE=image/jpeg:https://gracewindsor.org/wp-content/uploads/2023/06/AA-logo-cat-icon.jpg
END:VEVENT
BEGIN:VEVENT
DTSTART;TZID=America/New_York:20240327T100000
DTEND;TZID=America/New_York:20240327T111500
DTSTAMP:20260422T200808
CREATED:20240604T193758Z
LAST-MODIFIED:20240604T193929Z
UID:10004420-1711533600-1711538100@gracewindsor.org
SUMMARY:Body\, Mind & Spirit
DESCRIPTION:Balancing body\, mind and spirit leads to a happy and fulfilled life. A feeling of personal wholeness emerges when the body\, mind and spirit are in balance.
URL:https://gracewindsor.org/event/body-mind-spirit-2/2024-03-27/
LOCATION:Grace Church Lower Parish Hall\, 311 Broad Streeet\, Windsor\,\, Connecticut\, 06095
CATEGORIES:Events
ATTACH;FMTTYPE=image/png:https://gracewindsor.org/wp-content/uploads/2024/03/March-29-2024-8.png
END:VEVENT
BEGIN:VEVENT
DTSTART;TZID=America/New_York:20240326T130000
DTEND;TZID=America/New_York:20240326T150000
DTSTAMP:20260422T200808
CREATED:20231118T214604Z
LAST-MODIFIED:20231118T214607Z
UID:10000537-1711458000-1711465200@gracewindsor.org
SUMMARY:Grace Church Book Club
DESCRIPTION:
URL:https://gracewindsor.org/event/grace-church-book-club-2/2024-03-26/
LOCATION:Grace Church Lower Parish Hall\, 311 Broad Streeet\, Windsor\,\, Connecticut\, 06095
END:VEVENT
BEGIN:VEVENT
DTSTART;TZID=America/New_York:20240325T190000
DTEND;TZID=America/New_York:20240325T200000
DTSTAMP:20260422T200808
CREATED:20230624T192836Z
LAST-MODIFIED:20240427T141930Z
UID:10003880-1711393200-1711396800@gracewindsor.org
SUMMARY:Alcoholics Anonymous Meeting
DESCRIPTION:
URL:https://gracewindsor.org/event/alcoholics-anonymous-meeting/2024-03-25/
LOCATION:Grace Church Lower Parish Hall\, 311 Broad Streeet\, Windsor\,\, Connecticut\, 06095
CATEGORIES:Meetings
ATTACH;FMTTYPE=image/jpeg:https://gracewindsor.org/wp-content/uploads/2023/06/AA-logo-cat-icon.jpg
END:VEVENT
BEGIN:VEVENT
DTSTART;TZID=America/New_York:20240320T100000
DTEND;TZID=America/New_York:20240320T111500
DTSTAMP:20260422T200808
CREATED:20240604T193758Z
LAST-MODIFIED:20240604T193929Z
UID:10004419-1710928800-1710933300@gracewindsor.org
SUMMARY:Body\, Mind & Spirit
DESCRIPTION:Balancing body\, mind and spirit leads to a happy and fulfilled life. A feeling of personal wholeness emerges when the body\, mind and spirit are in balance.
URL:https://gracewindsor.org/event/body-mind-spirit-2/2024-03-20/
LOCATION:Grace Church Lower Parish Hall\, 311 Broad Streeet\, Windsor\,\, Connecticut\, 06095
CATEGORIES:Events
ATTACH;FMTTYPE=image/png:https://gracewindsor.org/wp-content/uploads/2024/03/March-29-2024-8.png
END:VEVENT
BEGIN:VEVENT
DTSTART;TZID=America/New_York:20240319T190000
DTEND;TZID=America/New_York:20240319T190000
DTSTAMP:20260422T200808
CREATED:20240327T151643Z
LAST-MODIFIED:20240825T001845Z
UID:10003392-1710874800-1710874800@gracewindsor.org
SUMMARY:BSA\, Troop 1149
DESCRIPTION:
URL:https://gracewindsor.org/event/bsa-troop-1149-2/2024-03-19/
LOCATION:Grace Church Lower Parish Hall\, 311 Broad Streeet\, Windsor\,\, Connecticut\, 06095
CATEGORIES:Meetings
ATTACH;FMTTYPE=image/png:https://gracewindsor.org/wp-content/uploads/2023/10/March-29-2024-7.png
END:VEVENT
BEGIN:VEVENT
DTSTART;TZID=America/New_York:20240318T190000
DTEND;TZID=America/New_York:20240318T200000
DTSTAMP:20260422T200808
CREATED:20230624T192836Z
LAST-MODIFIED:20240427T141930Z
UID:10003879-1710788400-1710792000@gracewindsor.org
SUMMARY:Alcoholics Anonymous Meeting
DESCRIPTION:
URL:https://gracewindsor.org/event/alcoholics-anonymous-meeting/2024-03-18/
LOCATION:Grace Church Lower Parish Hall\, 311 Broad Streeet\, Windsor\,\, Connecticut\, 06095
CATEGORIES:Meetings
ATTACH;FMTTYPE=image/jpeg:https://gracewindsor.org/wp-content/uploads/2023/06/AA-logo-cat-icon.jpg
END:VEVENT
BEGIN:VEVENT
DTSTART;TZID=America/New_York:20240313T183000
DTEND;TZID=America/New_York:20240313T193000
DTSTAMP:20260422T200808
CREATED:20240309T185230Z
LAST-MODIFIED:20240327T155812Z
UID:10003081-1710354600-1710358200@gracewindsor.org
SUMMARY:Windsor African Violet Society
DESCRIPTION:
URL:https://gracewindsor.org/event/windsor-african-violet-society/
LOCATION:Grace Church Lower Parish Hall\, 311 Broad Streeet\, Windsor\,\, Connecticut\, 06095
CATEGORIES:Events
ATTACH;FMTTYPE=image/png:https://gracewindsor.org/wp-content/uploads/2024/03/March-29-2024-9.png
END:VEVENT
BEGIN:VEVENT
DTSTART;TZID=America/New_York:20240313T100000
DTEND;TZID=America/New_York:20240313T111500
DTSTAMP:20260422T200808
CREATED:20240604T193758Z
LAST-MODIFIED:20240604T193929Z
UID:10004418-1710324000-1710328500@gracewindsor.org
SUMMARY:Body\, Mind & Spirit
DESCRIPTION:Balancing body\, mind and spirit leads to a happy and fulfilled life. A feeling of personal wholeness emerges when the body\, mind and spirit are in balance.
URL:https://gracewindsor.org/event/body-mind-spirit-2/2024-03-13/
LOCATION:Grace Church Lower Parish Hall\, 311 Broad Streeet\, Windsor\,\, Connecticut\, 06095
CATEGORIES:Events
ATTACH;FMTTYPE=image/png:https://gracewindsor.org/wp-content/uploads/2024/03/March-29-2024-8.png
END:VEVENT
BEGIN:VEVENT
DTSTART;TZID=America/New_York:20240311T190000
DTEND;TZID=America/New_York:20240311T200000
DTSTAMP:20260422T200808
CREATED:20230624T192836Z
LAST-MODIFIED:20240427T141930Z
UID:10003878-1710183600-1710187200@gracewindsor.org
SUMMARY:Alcoholics Anonymous Meeting
DESCRIPTION:
URL:https://gracewindsor.org/event/alcoholics-anonymous-meeting/2024-03-11/
LOCATION:Grace Church Lower Parish Hall\, 311 Broad Streeet\, Windsor\,\, Connecticut\, 06095
CATEGORIES:Meetings
ATTACH;FMTTYPE=image/jpeg:https://gracewindsor.org/wp-content/uploads/2023/06/AA-logo-cat-icon.jpg
END:VEVENT
END:VCALENDAR