BEGIN:VCALENDAR
VERSION:2.0
PRODID:-//Grace Espicopal Church Windsor Connecticut - ECPv6.15.20//NONSGML v1.0//EN
CALSCALE:GREGORIAN
METHOD:PUBLISH
X-WR-CALNAME:Grace Espicopal Church Windsor Connecticut
X-ORIGINAL-URL:https://gracewindsor.org
X-WR-CALDESC:Events for Grace Espicopal Church Windsor Connecticut
REFRESH-INTERVAL;VALUE=DURATION:PT1H
X-Robots-Tag:noindex
X-PUBLISHED-TTL:PT1H
BEGIN:VTIMEZONE
TZID:America/New_York
BEGIN:DAYLIGHT
TZOFFSETFROM:-0500
TZOFFSETTO:-0400
TZNAME:EDT
DTSTART:20270314T070000
END:DAYLIGHT
BEGIN:STANDARD
TZOFFSETFROM:-0400
TZOFFSETTO:-0500
TZNAME:EST
DTSTART:20271107T060000
END:STANDARD
BEGIN:DAYLIGHT
TZOFFSETFROM:-0500
TZOFFSETTO:-0400
TZNAME:EDT
DTSTART:20280312T070000
END:DAYLIGHT
BEGIN:STANDARD
TZOFFSETFROM:-0400
TZOFFSETTO:-0500
TZNAME:EST
DTSTART:20281105T060000
END:STANDARD
BEGIN:DAYLIGHT
TZOFFSETFROM:-0500
TZOFFSETTO:-0400
TZNAME:EDT
DTSTART:20290311T070000
END:DAYLIGHT
BEGIN:STANDARD
TZOFFSETFROM:-0400
TZOFFSETTO:-0500
TZNAME:EST
DTSTART:20291104T060000
END:STANDARD
END:VTIMEZONE
BEGIN:VEVENT
DTSTART;TZID=America/New_York:20280111T180000
DTEND;TZID=America/New_York:20280111T190000
DTSTAMP:20260422T141224
CREATED:20240920T194545Z
LAST-MODIFIED:20241117T140913Z
UID:10006967-1831226400-1831230000@gracewindsor.org
SUMMARY:BSA\, Troop 1149
DESCRIPTION:
URL:https://gracewindsor.org/event/bsa-troop-1149-4/2028-01-11/
LOCATION:Grace Church Lower Parish Hall\, 311 Broad Streeet\, Windsor\,\, Connecticut\, 06095
CATEGORIES:Meetings
ATTACH;FMTTYPE=image/png:https://gracewindsor.org/wp-content/uploads/2023/10/March-29-2024-7.png
END:VEVENT
BEGIN:VEVENT
DTSTART;TZID=America/New_York:20280117T190000
DTEND;TZID=America/New_York:20280117T200000
DTSTAMP:20260422T141224
CREATED:20230624T192836Z
LAST-MODIFIED:20240427T141930Z
UID:10004079-1831748400-1831752000@gracewindsor.org
SUMMARY:Alcoholics Anonymous Meeting
DESCRIPTION:
URL:https://gracewindsor.org/event/alcoholics-anonymous-meeting/2028-01-17/
LOCATION:Grace Church Lower Parish Hall\, 311 Broad Streeet\, Windsor\,\, Connecticut\, 06095
CATEGORIES:Meetings
ATTACH;FMTTYPE=image/jpeg:https://gracewindsor.org/wp-content/uploads/2023/06/AA-logo-cat-icon.jpg
END:VEVENT
BEGIN:VEVENT
DTSTART;TZID=America/New_York:20280118T180000
DTEND;TZID=America/New_York:20280118T190000
DTSTAMP:20260422T141224
CREATED:20240920T194545Z
LAST-MODIFIED:20241117T140913Z
UID:10006968-1831831200-1831834800@gracewindsor.org
SUMMARY:BSA\, Troop 1149
DESCRIPTION:
URL:https://gracewindsor.org/event/bsa-troop-1149-4/2028-01-18/
LOCATION:Grace Church Lower Parish Hall\, 311 Broad Streeet\, Windsor\,\, Connecticut\, 06095
CATEGORIES:Meetings
ATTACH;FMTTYPE=image/png:https://gracewindsor.org/wp-content/uploads/2023/10/March-29-2024-7.png
END:VEVENT
BEGIN:VEVENT
DTSTART;TZID=America/New_York:20280124T190000
DTEND;TZID=America/New_York:20280124T200000
DTSTAMP:20260422T141224
CREATED:20230624T192836Z
LAST-MODIFIED:20240427T141930Z
UID:10004080-1832353200-1832356800@gracewindsor.org
SUMMARY:Alcoholics Anonymous Meeting
DESCRIPTION:
URL:https://gracewindsor.org/event/alcoholics-anonymous-meeting/2028-01-24/
LOCATION:Grace Church Lower Parish Hall\, 311 Broad Streeet\, Windsor\,\, Connecticut\, 06095
CATEGORIES:Meetings
ATTACH;FMTTYPE=image/jpeg:https://gracewindsor.org/wp-content/uploads/2023/06/AA-logo-cat-icon.jpg
END:VEVENT
BEGIN:VEVENT
DTSTART;TZID=America/New_York:20280125T130000
DTEND;TZID=America/New_York:20280125T150000
DTSTAMP:20260422T141224
CREATED:20240825T000806Z
LAST-MODIFIED:20241104T162155Z
UID:10000583-1832418000-1832425200@gracewindsor.org
SUMMARY:Grace Church Book Club
DESCRIPTION:
URL:https://gracewindsor.org/event/grace-church-book-club-3/2028-01-25/
LOCATION:Grace Church Lower Parish Hall\, 311 Broad Streeet\, Windsor\,\, Connecticut\, 06095
ATTACH;FMTTYPE=image/png:https://gracewindsor.org/wp-content/uploads/2024/08/Book-1.png
END:VEVENT
BEGIN:VEVENT
DTSTART;TZID=America/New_York:20280125T180000
DTEND;TZID=America/New_York:20280125T190000
DTSTAMP:20260422T141224
CREATED:20240920T194545Z
LAST-MODIFIED:20241117T140913Z
UID:10006969-1832436000-1832439600@gracewindsor.org
SUMMARY:BSA\, Troop 1149
DESCRIPTION:
URL:https://gracewindsor.org/event/bsa-troop-1149-4/2028-01-25/
LOCATION:Grace Church Lower Parish Hall\, 311 Broad Streeet\, Windsor\,\, Connecticut\, 06095
CATEGORIES:Meetings
ATTACH;FMTTYPE=image/png:https://gracewindsor.org/wp-content/uploads/2023/10/March-29-2024-7.png
END:VEVENT
BEGIN:VEVENT
DTSTART;TZID=America/New_York:20280131T190000
DTEND;TZID=America/New_York:20280131T200000
DTSTAMP:20260422T141224
CREATED:20230624T192836Z
LAST-MODIFIED:20240427T141930Z
UID:10004081-1832958000-1832961600@gracewindsor.org
SUMMARY:Alcoholics Anonymous Meeting
DESCRIPTION:
URL:https://gracewindsor.org/event/alcoholics-anonymous-meeting/2028-01-31/
LOCATION:Grace Church Lower Parish Hall\, 311 Broad Streeet\, Windsor\,\, Connecticut\, 06095
CATEGORIES:Meetings
ATTACH;FMTTYPE=image/jpeg:https://gracewindsor.org/wp-content/uploads/2023/06/AA-logo-cat-icon.jpg
END:VEVENT
BEGIN:VEVENT
DTSTART;TZID=America/New_York:20280201T180000
DTEND;TZID=America/New_York:20280201T190000
DTSTAMP:20260422T141224
CREATED:20240920T194545Z
LAST-MODIFIED:20241117T140913Z
UID:10006970-1833040800-1833044400@gracewindsor.org
SUMMARY:BSA\, Troop 1149
DESCRIPTION:
URL:https://gracewindsor.org/event/bsa-troop-1149-4/2028-02-01/
LOCATION:Grace Church Lower Parish Hall\, 311 Broad Streeet\, Windsor\,\, Connecticut\, 06095
CATEGORIES:Meetings
ATTACH;FMTTYPE=image/png:https://gracewindsor.org/wp-content/uploads/2023/10/March-29-2024-7.png
END:VEVENT
BEGIN:VEVENT
DTSTART;TZID=America/New_York:20280207T190000
DTEND;TZID=America/New_York:20280207T200000
DTSTAMP:20260422T141224
CREATED:20230624T192836Z
LAST-MODIFIED:20240427T141930Z
UID:10004082-1833562800-1833566400@gracewindsor.org
SUMMARY:Alcoholics Anonymous Meeting
DESCRIPTION:
URL:https://gracewindsor.org/event/alcoholics-anonymous-meeting/2028-02-07/
LOCATION:Grace Church Lower Parish Hall\, 311 Broad Streeet\, Windsor\,\, Connecticut\, 06095
CATEGORIES:Meetings
ATTACH;FMTTYPE=image/jpeg:https://gracewindsor.org/wp-content/uploads/2023/06/AA-logo-cat-icon.jpg
END:VEVENT
BEGIN:VEVENT
DTSTART;TZID=America/New_York:20280208T180000
DTEND;TZID=America/New_York:20280208T190000
DTSTAMP:20260422T141224
CREATED:20240920T194545Z
LAST-MODIFIED:20241117T140913Z
UID:10006971-1833645600-1833649200@gracewindsor.org
SUMMARY:BSA\, Troop 1149
DESCRIPTION:
URL:https://gracewindsor.org/event/bsa-troop-1149-4/2028-02-08/
LOCATION:Grace Church Lower Parish Hall\, 311 Broad Streeet\, Windsor\,\, Connecticut\, 06095
CATEGORIES:Meetings
ATTACH;FMTTYPE=image/png:https://gracewindsor.org/wp-content/uploads/2023/10/March-29-2024-7.png
END:VEVENT
BEGIN:VEVENT
DTSTART;TZID=America/New_York:20280214T190000
DTEND;TZID=America/New_York:20280214T200000
DTSTAMP:20260422T141224
CREATED:20230624T192836Z
LAST-MODIFIED:20240427T141930Z
UID:10004083-1834167600-1834171200@gracewindsor.org
SUMMARY:Alcoholics Anonymous Meeting
DESCRIPTION:
URL:https://gracewindsor.org/event/alcoholics-anonymous-meeting/2028-02-14/
LOCATION:Grace Church Lower Parish Hall\, 311 Broad Streeet\, Windsor\,\, Connecticut\, 06095
CATEGORIES:Meetings
ATTACH;FMTTYPE=image/jpeg:https://gracewindsor.org/wp-content/uploads/2023/06/AA-logo-cat-icon.jpg
END:VEVENT
BEGIN:VEVENT
DTSTART;TZID=America/New_York:20280215T180000
DTEND;TZID=America/New_York:20280215T190000
DTSTAMP:20260422T141224
CREATED:20240920T194545Z
LAST-MODIFIED:20241117T140913Z
UID:10006972-1834250400-1834254000@gracewindsor.org
SUMMARY:BSA\, Troop 1149
DESCRIPTION:
URL:https://gracewindsor.org/event/bsa-troop-1149-4/2028-02-15/
LOCATION:Grace Church Lower Parish Hall\, 311 Broad Streeet\, Windsor\,\, Connecticut\, 06095
CATEGORIES:Meetings
ATTACH;FMTTYPE=image/png:https://gracewindsor.org/wp-content/uploads/2023/10/March-29-2024-7.png
END:VEVENT
BEGIN:VEVENT
DTSTART;TZID=America/New_York:20280221T190000
DTEND;TZID=America/New_York:20280221T200000
DTSTAMP:20260422T141224
CREATED:20230624T192836Z
LAST-MODIFIED:20240427T141930Z
UID:10004084-1834772400-1834776000@gracewindsor.org
SUMMARY:Alcoholics Anonymous Meeting
DESCRIPTION:
URL:https://gracewindsor.org/event/alcoholics-anonymous-meeting/2028-02-21/
LOCATION:Grace Church Lower Parish Hall\, 311 Broad Streeet\, Windsor\,\, Connecticut\, 06095
CATEGORIES:Meetings
ATTACH;FMTTYPE=image/jpeg:https://gracewindsor.org/wp-content/uploads/2023/06/AA-logo-cat-icon.jpg
END:VEVENT
BEGIN:VEVENT
DTSTART;TZID=America/New_York:20280222T130000
DTEND;TZID=America/New_York:20280222T150000
DTSTAMP:20260422T141224
CREATED:20240825T000806Z
LAST-MODIFIED:20241104T162155Z
UID:10000584-1834837200-1834844400@gracewindsor.org
SUMMARY:Grace Church Book Club
DESCRIPTION:
URL:https://gracewindsor.org/event/grace-church-book-club-3/2028-02-22/
LOCATION:Grace Church Lower Parish Hall\, 311 Broad Streeet\, Windsor\,\, Connecticut\, 06095
ATTACH;FMTTYPE=image/png:https://gracewindsor.org/wp-content/uploads/2024/08/Book-1.png
END:VEVENT
BEGIN:VEVENT
DTSTART;TZID=America/New_York:20280222T180000
DTEND;TZID=America/New_York:20280222T190000
DTSTAMP:20260422T141224
CREATED:20240920T194545Z
LAST-MODIFIED:20241117T140913Z
UID:10006973-1834855200-1834858800@gracewindsor.org
SUMMARY:BSA\, Troop 1149
DESCRIPTION:
URL:https://gracewindsor.org/event/bsa-troop-1149-4/2028-02-22/
LOCATION:Grace Church Lower Parish Hall\, 311 Broad Streeet\, Windsor\,\, Connecticut\, 06095
CATEGORIES:Meetings
ATTACH;FMTTYPE=image/png:https://gracewindsor.org/wp-content/uploads/2023/10/March-29-2024-7.png
END:VEVENT
BEGIN:VEVENT
DTSTART;TZID=America/New_York:20280228T190000
DTEND;TZID=America/New_York:20280228T200000
DTSTAMP:20260422T141224
CREATED:20230624T192836Z
LAST-MODIFIED:20240427T141930Z
UID:10004085-1835377200-1835380800@gracewindsor.org
SUMMARY:Alcoholics Anonymous Meeting
DESCRIPTION:
URL:https://gracewindsor.org/event/alcoholics-anonymous-meeting/2028-02-28/
LOCATION:Grace Church Lower Parish Hall\, 311 Broad Streeet\, Windsor\,\, Connecticut\, 06095
CATEGORIES:Meetings
ATTACH;FMTTYPE=image/jpeg:https://gracewindsor.org/wp-content/uploads/2023/06/AA-logo-cat-icon.jpg
END:VEVENT
BEGIN:VEVENT
DTSTART;TZID=America/New_York:20280229T180000
DTEND;TZID=America/New_York:20280229T190000
DTSTAMP:20260422T141224
CREATED:20240920T194545Z
LAST-MODIFIED:20241117T140913Z
UID:10006974-1835460000-1835463600@gracewindsor.org
SUMMARY:BSA\, Troop 1149
DESCRIPTION:
URL:https://gracewindsor.org/event/bsa-troop-1149-4/2028-02-29/
LOCATION:Grace Church Lower Parish Hall\, 311 Broad Streeet\, Windsor\,\, Connecticut\, 06095
CATEGORIES:Meetings
ATTACH;FMTTYPE=image/png:https://gracewindsor.org/wp-content/uploads/2023/10/March-29-2024-7.png
END:VEVENT
BEGIN:VEVENT
DTSTART;TZID=America/New_York:20280306T190000
DTEND;TZID=America/New_York:20280306T200000
DTSTAMP:20260422T141224
CREATED:20230624T192836Z
LAST-MODIFIED:20240427T141930Z
UID:10004086-1835982000-1835985600@gracewindsor.org
SUMMARY:Alcoholics Anonymous Meeting
DESCRIPTION:
URL:https://gracewindsor.org/event/alcoholics-anonymous-meeting/2028-03-06/
LOCATION:Grace Church Lower Parish Hall\, 311 Broad Streeet\, Windsor\,\, Connecticut\, 06095
CATEGORIES:Meetings
ATTACH;FMTTYPE=image/jpeg:https://gracewindsor.org/wp-content/uploads/2023/06/AA-logo-cat-icon.jpg
END:VEVENT
BEGIN:VEVENT
DTSTART;TZID=America/New_York:20280307T180000
DTEND;TZID=America/New_York:20280307T190000
DTSTAMP:20260422T141224
CREATED:20240920T194545Z
LAST-MODIFIED:20241117T140913Z
UID:10006975-1836064800-1836068400@gracewindsor.org
SUMMARY:BSA\, Troop 1149
DESCRIPTION:
URL:https://gracewindsor.org/event/bsa-troop-1149-4/2028-03-07/
LOCATION:Grace Church Lower Parish Hall\, 311 Broad Streeet\, Windsor\,\, Connecticut\, 06095
CATEGORIES:Meetings
ATTACH;FMTTYPE=image/png:https://gracewindsor.org/wp-content/uploads/2023/10/March-29-2024-7.png
END:VEVENT
BEGIN:VEVENT
DTSTART;TZID=America/New_York:20280313T190000
DTEND;TZID=America/New_York:20280313T200000
DTSTAMP:20260422T141224
CREATED:20230624T192836Z
LAST-MODIFIED:20240427T141930Z
UID:10004087-1836586800-1836590400@gracewindsor.org
SUMMARY:Alcoholics Anonymous Meeting
DESCRIPTION:
URL:https://gracewindsor.org/event/alcoholics-anonymous-meeting/2028-03-13/
LOCATION:Grace Church Lower Parish Hall\, 311 Broad Streeet\, Windsor\,\, Connecticut\, 06095
CATEGORIES:Meetings
ATTACH;FMTTYPE=image/jpeg:https://gracewindsor.org/wp-content/uploads/2023/06/AA-logo-cat-icon.jpg
END:VEVENT
BEGIN:VEVENT
DTSTART;TZID=America/New_York:20280314T180000
DTEND;TZID=America/New_York:20280314T190000
DTSTAMP:20260422T141224
CREATED:20240920T194545Z
LAST-MODIFIED:20241117T140913Z
UID:10006976-1836669600-1836673200@gracewindsor.org
SUMMARY:BSA\, Troop 1149
DESCRIPTION:
URL:https://gracewindsor.org/event/bsa-troop-1149-4/2028-03-14/
LOCATION:Grace Church Lower Parish Hall\, 311 Broad Streeet\, Windsor\,\, Connecticut\, 06095
CATEGORIES:Meetings
ATTACH;FMTTYPE=image/png:https://gracewindsor.org/wp-content/uploads/2023/10/March-29-2024-7.png
END:VEVENT
BEGIN:VEVENT
DTSTART;TZID=America/New_York:20280320T190000
DTEND;TZID=America/New_York:20280320T200000
DTSTAMP:20260422T141224
CREATED:20230624T192836Z
LAST-MODIFIED:20240427T141930Z
UID:10004088-1837191600-1837195200@gracewindsor.org
SUMMARY:Alcoholics Anonymous Meeting
DESCRIPTION:
URL:https://gracewindsor.org/event/alcoholics-anonymous-meeting/2028-03-20/
LOCATION:Grace Church Lower Parish Hall\, 311 Broad Streeet\, Windsor\,\, Connecticut\, 06095
CATEGORIES:Meetings
ATTACH;FMTTYPE=image/jpeg:https://gracewindsor.org/wp-content/uploads/2023/06/AA-logo-cat-icon.jpg
END:VEVENT
BEGIN:VEVENT
DTSTART;TZID=America/New_York:20280321T180000
DTEND;TZID=America/New_York:20280321T190000
DTSTAMP:20260422T141224
CREATED:20240920T194545Z
LAST-MODIFIED:20241117T140913Z
UID:10006977-1837274400-1837278000@gracewindsor.org
SUMMARY:BSA\, Troop 1149
DESCRIPTION:
URL:https://gracewindsor.org/event/bsa-troop-1149-4/2028-03-21/
LOCATION:Grace Church Lower Parish Hall\, 311 Broad Streeet\, Windsor\,\, Connecticut\, 06095
CATEGORIES:Meetings
ATTACH;FMTTYPE=image/png:https://gracewindsor.org/wp-content/uploads/2023/10/March-29-2024-7.png
END:VEVENT
BEGIN:VEVENT
DTSTART;TZID=America/New_York:20280327T190000
DTEND;TZID=America/New_York:20280327T200000
DTSTAMP:20260422T141224
CREATED:20230624T192836Z
LAST-MODIFIED:20240427T141930Z
UID:10004089-1837796400-1837800000@gracewindsor.org
SUMMARY:Alcoholics Anonymous Meeting
DESCRIPTION:
URL:https://gracewindsor.org/event/alcoholics-anonymous-meeting/2028-03-27/
LOCATION:Grace Church Lower Parish Hall\, 311 Broad Streeet\, Windsor\,\, Connecticut\, 06095
CATEGORIES:Meetings
ATTACH;FMTTYPE=image/jpeg:https://gracewindsor.org/wp-content/uploads/2023/06/AA-logo-cat-icon.jpg
END:VEVENT
BEGIN:VEVENT
DTSTART;TZID=America/New_York:20280328T130000
DTEND;TZID=America/New_York:20280328T150000
DTSTAMP:20260422T141224
CREATED:20240825T000806Z
LAST-MODIFIED:20241104T162155Z
UID:10000585-1837861200-1837868400@gracewindsor.org
SUMMARY:Grace Church Book Club
DESCRIPTION:
URL:https://gracewindsor.org/event/grace-church-book-club-3/2028-03-28/
LOCATION:Grace Church Lower Parish Hall\, 311 Broad Streeet\, Windsor\,\, Connecticut\, 06095
ATTACH;FMTTYPE=image/png:https://gracewindsor.org/wp-content/uploads/2024/08/Book-1.png
END:VEVENT
BEGIN:VEVENT
DTSTART;TZID=America/New_York:20280328T180000
DTEND;TZID=America/New_York:20280328T190000
DTSTAMP:20260422T141224
CREATED:20240920T194545Z
LAST-MODIFIED:20241117T140913Z
UID:10006978-1837879200-1837882800@gracewindsor.org
SUMMARY:BSA\, Troop 1149
DESCRIPTION:
URL:https://gracewindsor.org/event/bsa-troop-1149-4/2028-03-28/
LOCATION:Grace Church Lower Parish Hall\, 311 Broad Streeet\, Windsor\,\, Connecticut\, 06095
CATEGORIES:Meetings
ATTACH;FMTTYPE=image/png:https://gracewindsor.org/wp-content/uploads/2023/10/March-29-2024-7.png
END:VEVENT
BEGIN:VEVENT
DTSTART;TZID=America/New_York:20280403T190000
DTEND;TZID=America/New_York:20280403T200000
DTSTAMP:20260422T141224
CREATED:20230624T192836Z
LAST-MODIFIED:20240427T141930Z
UID:10004090-1838401200-1838404800@gracewindsor.org
SUMMARY:Alcoholics Anonymous Meeting
DESCRIPTION:
URL:https://gracewindsor.org/event/alcoholics-anonymous-meeting/2028-04-03/
LOCATION:Grace Church Lower Parish Hall\, 311 Broad Streeet\, Windsor\,\, Connecticut\, 06095
CATEGORIES:Meetings
ATTACH;FMTTYPE=image/jpeg:https://gracewindsor.org/wp-content/uploads/2023/06/AA-logo-cat-icon.jpg
END:VEVENT
BEGIN:VEVENT
DTSTART;TZID=America/New_York:20280404T180000
DTEND;TZID=America/New_York:20280404T190000
DTSTAMP:20260422T141224
CREATED:20240920T194545Z
LAST-MODIFIED:20241117T140913Z
UID:10006979-1838484000-1838487600@gracewindsor.org
SUMMARY:BSA\, Troop 1149
DESCRIPTION:
URL:https://gracewindsor.org/event/bsa-troop-1149-4/2028-04-04/
LOCATION:Grace Church Lower Parish Hall\, 311 Broad Streeet\, Windsor\,\, Connecticut\, 06095
CATEGORIES:Meetings
ATTACH;FMTTYPE=image/png:https://gracewindsor.org/wp-content/uploads/2023/10/March-29-2024-7.png
END:VEVENT
BEGIN:VEVENT
DTSTART;TZID=America/New_York:20280410T190000
DTEND;TZID=America/New_York:20280410T200000
DTSTAMP:20260422T141224
CREATED:20230624T192836Z
LAST-MODIFIED:20240427T141930Z
UID:10004091-1839006000-1839009600@gracewindsor.org
SUMMARY:Alcoholics Anonymous Meeting
DESCRIPTION:
URL:https://gracewindsor.org/event/alcoholics-anonymous-meeting/2028-04-10/
LOCATION:Grace Church Lower Parish Hall\, 311 Broad Streeet\, Windsor\,\, Connecticut\, 06095
CATEGORIES:Meetings
ATTACH;FMTTYPE=image/jpeg:https://gracewindsor.org/wp-content/uploads/2023/06/AA-logo-cat-icon.jpg
END:VEVENT
BEGIN:VEVENT
DTSTART;TZID=America/New_York:20280411T180000
DTEND;TZID=America/New_York:20280411T190000
DTSTAMP:20260422T141224
CREATED:20240920T194545Z
LAST-MODIFIED:20241117T140913Z
UID:10006980-1839088800-1839092400@gracewindsor.org
SUMMARY:BSA\, Troop 1149
DESCRIPTION:
URL:https://gracewindsor.org/event/bsa-troop-1149-4/2028-04-11/
LOCATION:Grace Church Lower Parish Hall\, 311 Broad Streeet\, Windsor\,\, Connecticut\, 06095
CATEGORIES:Meetings
ATTACH;FMTTYPE=image/png:https://gracewindsor.org/wp-content/uploads/2023/10/March-29-2024-7.png
END:VEVENT
END:VCALENDAR