BEGIN:VCALENDAR
VERSION:2.0
PRODID:-//Grace Espicopal Church Windsor Connecticut - ECPv6.15.20//NONSGML v1.0//EN
CALSCALE:GREGORIAN
METHOD:PUBLISH
X-WR-CALNAME:Grace Espicopal Church Windsor Connecticut
X-ORIGINAL-URL:https://gracewindsor.org
X-WR-CALDESC:Events for Grace Espicopal Church Windsor Connecticut
REFRESH-INTERVAL;VALUE=DURATION:PT1H
X-Robots-Tag:noindex
X-PUBLISHED-TTL:PT1H
BEGIN:VTIMEZONE
TZID:America/New_York
BEGIN:DAYLIGHT
TZOFFSETFROM:-0500
TZOFFSETTO:-0400
TZNAME:EDT
DTSTART:20230312T070000
END:DAYLIGHT
BEGIN:STANDARD
TZOFFSETFROM:-0400
TZOFFSETTO:-0500
TZNAME:EST
DTSTART:20231105T060000
END:STANDARD
BEGIN:DAYLIGHT
TZOFFSETFROM:-0500
TZOFFSETTO:-0400
TZNAME:EDT
DTSTART:20240310T070000
END:DAYLIGHT
BEGIN:STANDARD
TZOFFSETFROM:-0400
TZOFFSETTO:-0500
TZNAME:EST
DTSTART:20241103T060000
END:STANDARD
BEGIN:DAYLIGHT
TZOFFSETFROM:-0500
TZOFFSETTO:-0400
TZNAME:EDT
DTSTART:20250309T070000
END:DAYLIGHT
BEGIN:STANDARD
TZOFFSETFROM:-0400
TZOFFSETTO:-0500
TZNAME:EST
DTSTART:20251102T060000
END:STANDARD
BEGIN:DAYLIGHT
TZOFFSETFROM:-0500
TZOFFSETTO:-0400
TZNAME:EDT
DTSTART:20260308T070000
END:DAYLIGHT
BEGIN:STANDARD
TZOFFSETFROM:-0400
TZOFFSETTO:-0500
TZNAME:EST
DTSTART:20261101T060000
END:STANDARD
END:VTIMEZONE
BEGIN:VEVENT
DTSTART;TZID=America/New_York:20250106T190000
DTEND;TZID=America/New_York:20250106T200000
DTSTAMP:20260422T065019
CREATED:20230624T192836Z
LAST-MODIFIED:20240427T141930Z
UID:10003921-1736190000-1736193600@gracewindsor.org
SUMMARY:Alcoholics Anonymous Meeting
DESCRIPTION:
URL:https://gracewindsor.org/event/alcoholics-anonymous-meeting/2025-01-06/
LOCATION:Grace Church Lower Parish Hall\, 311 Broad Streeet\, Windsor\,\, Connecticut\, 06095
CATEGORIES:Meetings
ATTACH;FMTTYPE=image/jpeg:https://gracewindsor.org/wp-content/uploads/2023/06/AA-logo-cat-icon.jpg
END:VEVENT
BEGIN:VEVENT
DTSTART;TZID=America/New_York:20241230T190000
DTEND;TZID=America/New_York:20241230T200000
DTSTAMP:20260422T065019
CREATED:20230624T192836Z
LAST-MODIFIED:20240427T141930Z
UID:10003920-1735585200-1735588800@gracewindsor.org
SUMMARY:Alcoholics Anonymous Meeting
DESCRIPTION:
URL:https://gracewindsor.org/event/alcoholics-anonymous-meeting/2024-12-30/
LOCATION:Grace Church Lower Parish Hall\, 311 Broad Streeet\, Windsor\,\, Connecticut\, 06095
CATEGORIES:Meetings
ATTACH;FMTTYPE=image/jpeg:https://gracewindsor.org/wp-content/uploads/2023/06/AA-logo-cat-icon.jpg
END:VEVENT
BEGIN:VEVENT
DTSTART;TZID=America/New_York:20241223T190000
DTEND;TZID=America/New_York:20241223T200000
DTSTAMP:20260422T065019
CREATED:20230624T192836Z
LAST-MODIFIED:20240427T141930Z
UID:10003919-1734980400-1734984000@gracewindsor.org
SUMMARY:Alcoholics Anonymous Meeting
DESCRIPTION:
URL:https://gracewindsor.org/event/alcoholics-anonymous-meeting/2024-12-23/
LOCATION:Grace Church Lower Parish Hall\, 311 Broad Streeet\, Windsor\,\, Connecticut\, 06095
CATEGORIES:Meetings
ATTACH;FMTTYPE=image/jpeg:https://gracewindsor.org/wp-content/uploads/2023/06/AA-logo-cat-icon.jpg
END:VEVENT
BEGIN:VEVENT
DTSTART;TZID=America/New_York:20241217T180000
DTEND;TZID=America/New_York:20241217T190000
DTSTAMP:20260422T065019
CREATED:20240920T194545Z
LAST-MODIFIED:20241117T140913Z
UID:10006808-1734458400-1734462000@gracewindsor.org
SUMMARY:BSA\, Troop 1149
DESCRIPTION:
URL:https://gracewindsor.org/event/bsa-troop-1149-4/2024-12-17/
LOCATION:Grace Church Lower Parish Hall\, 311 Broad Streeet\, Windsor\,\, Connecticut\, 06095
CATEGORIES:Meetings
ATTACH;FMTTYPE=image/png:https://gracewindsor.org/wp-content/uploads/2023/10/March-29-2024-7.png
END:VEVENT
BEGIN:VEVENT
DTSTART;TZID=America/New_York:20241216T190000
DTEND;TZID=America/New_York:20241216T200000
DTSTAMP:20260422T065019
CREATED:20230624T192836Z
LAST-MODIFIED:20240427T141930Z
UID:10003918-1734375600-1734379200@gracewindsor.org
SUMMARY:Alcoholics Anonymous Meeting
DESCRIPTION:
URL:https://gracewindsor.org/event/alcoholics-anonymous-meeting/2024-12-16/
LOCATION:Grace Church Lower Parish Hall\, 311 Broad Streeet\, Windsor\,\, Connecticut\, 06095
CATEGORIES:Meetings
ATTACH;FMTTYPE=image/jpeg:https://gracewindsor.org/wp-content/uploads/2023/06/AA-logo-cat-icon.jpg
END:VEVENT
BEGIN:VEVENT
DTSTART;TZID=America/New_York:20241211T183000
DTEND;TZID=America/New_York:20241211T193000
DTSTAMP:20260422T065019
CREATED:20241207T195505Z
LAST-MODIFIED:20241207T195515Z
UID:10007362-1733941800-1733945400@gracewindsor.org
SUMMARY:Windsor African Violet Society
DESCRIPTION:
URL:https://gracewindsor.org/event/windsor-african-violet-society-4/
LOCATION:Grace Church Lower Parish Hall\, 311 Broad Streeet\, Windsor\,\, Connecticut\, 06095
ATTACH;FMTTYPE=image/png:https://gracewindsor.org/wp-content/uploads/2024/03/March-29-2024-9.png
END:VEVENT
BEGIN:VEVENT
DTSTART;TZID=America/New_York:20241210T190000
DTEND;TZID=America/New_York:20241210T210000
DTSTAMP:20260422T065019
CREATED:20241207T195212Z
LAST-MODIFIED:20241207T195810Z
UID:10007361-1733857200-1733864400@gracewindsor.org
SUMMARY:Vestry
DESCRIPTION:
URL:https://gracewindsor.org/event/vestry/
LOCATION:Grace Church Lower Parish Hall\, 311 Broad Streeet\, Windsor\,\, Connecticut\, 06095
ATTACH;FMTTYPE=image/png:https://gracewindsor.org/wp-content/uploads/2024/03/March-29-2024-11.png
END:VEVENT
BEGIN:VEVENT
DTSTART;TZID=America/New_York:20241210T180000
DTEND;TZID=America/New_York:20241210T190000
DTSTAMP:20260422T065019
CREATED:20240920T194545Z
LAST-MODIFIED:20241117T140913Z
UID:10006807-1733853600-1733857200@gracewindsor.org
SUMMARY:BSA\, Troop 1149
DESCRIPTION:
URL:https://gracewindsor.org/event/bsa-troop-1149-4/2024-12-10/
LOCATION:Grace Church Lower Parish Hall\, 311 Broad Streeet\, Windsor\,\, Connecticut\, 06095
CATEGORIES:Meetings
ATTACH;FMTTYPE=image/png:https://gracewindsor.org/wp-content/uploads/2023/10/March-29-2024-7.png
END:VEVENT
BEGIN:VEVENT
DTSTART;TZID=America/New_York:20241209T190000
DTEND;TZID=America/New_York:20241209T200000
DTSTAMP:20260422T065019
CREATED:20230624T192836Z
LAST-MODIFIED:20240427T141930Z
UID:10003917-1733770800-1733774400@gracewindsor.org
SUMMARY:Alcoholics Anonymous Meeting
DESCRIPTION:
URL:https://gracewindsor.org/event/alcoholics-anonymous-meeting/2024-12-09/
LOCATION:Grace Church Lower Parish Hall\, 311 Broad Streeet\, Windsor\,\, Connecticut\, 06095
CATEGORIES:Meetings
ATTACH;FMTTYPE=image/jpeg:https://gracewindsor.org/wp-content/uploads/2023/06/AA-logo-cat-icon.jpg
END:VEVENT
BEGIN:VEVENT
DTSTART;TZID=America/New_York:20241208T094500
DTEND;TZID=America/New_York:20241208T223000
DTSTAMP:20260422T065019
CREATED:20241207T194649Z
LAST-MODIFIED:20241207T194700Z
UID:10005409-1733651100-1733697000@gracewindsor.org
SUMMARY:Sunday School - Pageant Rehearsal
DESCRIPTION:
URL:https://gracewindsor.org/event/sunday-school-3/
LOCATION:Grace Church Lower Parish Hall\, 311 Broad Streeet\, Windsor\,\, Connecticut\, 06095
ATTACH;FMTTYPE=image/jpeg:https://gracewindsor.org/wp-content/uploads/2024/08/sUNDAY-SCHOOL.jpg
END:VEVENT
BEGIN:VEVENT
DTSTART;TZID=America/New_York:20241203T180000
DTEND;TZID=America/New_York:20241203T190000
DTSTAMP:20260422T065019
CREATED:20240920T194545Z
LAST-MODIFIED:20241117T140913Z
UID:10006806-1733248800-1733252400@gracewindsor.org
SUMMARY:BSA\, Troop 1149
DESCRIPTION:
URL:https://gracewindsor.org/event/bsa-troop-1149-4/2024-12-03/
LOCATION:Grace Church Lower Parish Hall\, 311 Broad Streeet\, Windsor\,\, Connecticut\, 06095
CATEGORIES:Meetings
ATTACH;FMTTYPE=image/png:https://gracewindsor.org/wp-content/uploads/2023/10/March-29-2024-7.png
END:VEVENT
BEGIN:VEVENT
DTSTART;TZID=America/New_York:20241202T190000
DTEND;TZID=America/New_York:20241202T200000
DTSTAMP:20260422T065019
CREATED:20230624T192836Z
LAST-MODIFIED:20240427T141930Z
UID:10003916-1733166000-1733169600@gracewindsor.org
SUMMARY:Alcoholics Anonymous Meeting
DESCRIPTION:
URL:https://gracewindsor.org/event/alcoholics-anonymous-meeting/2024-12-02/
LOCATION:Grace Church Lower Parish Hall\, 311 Broad Streeet\, Windsor\,\, Connecticut\, 06095
CATEGORIES:Meetings
ATTACH;FMTTYPE=image/jpeg:https://gracewindsor.org/wp-content/uploads/2023/06/AA-logo-cat-icon.jpg
END:VEVENT
BEGIN:VEVENT
DTSTART;TZID=America/New_York:20241126T190000
DTEND;TZID=America/New_York:20241126T200000
DTSTAMP:20260422T065019
CREATED:20241124T224529Z
LAST-MODIFIED:20241124T224840Z
UID:10006805-1732647600-1732651200@gracewindsor.org
SUMMARY:BSA\, Troop 1149
DESCRIPTION:
URL:https://gracewindsor.org/event/bsa-troop-1149-5/
LOCATION:Grace Church Lower Parish Hall\, 311 Broad Streeet\, Windsor\,\, Connecticut\, 06095
CATEGORIES:Meetings
ATTACH;FMTTYPE=image/png:https://gracewindsor.org/wp-content/uploads/2023/10/March-29-2024-7.png
END:VEVENT
BEGIN:VEVENT
DTSTART;TZID=America/New_York:20241126T130000
DTEND;TZID=America/New_York:20241126T150000
DTSTAMP:20260422T065019
CREATED:20240825T000806Z
LAST-MODIFIED:20241104T162155Z
UID:10000545-1732626000-1732633200@gracewindsor.org
SUMMARY:Grace Church Book Club
DESCRIPTION:
URL:https://gracewindsor.org/event/grace-church-book-club-3/2024-11-26/
LOCATION:Grace Church Lower Parish Hall\, 311 Broad Streeet\, Windsor\,\, Connecticut\, 06095
ATTACH;FMTTYPE=image/png:https://gracewindsor.org/wp-content/uploads/2024/08/Book-1.png
END:VEVENT
BEGIN:VEVENT
DTSTART;TZID=America/New_York:20241125T190000
DTEND;TZID=America/New_York:20241125T200000
DTSTAMP:20260422T065019
CREATED:20230624T192836Z
LAST-MODIFIED:20240427T141930Z
UID:10003915-1732561200-1732564800@gracewindsor.org
SUMMARY:Alcoholics Anonymous Meeting
DESCRIPTION:
URL:https://gracewindsor.org/event/alcoholics-anonymous-meeting/2024-11-25/
LOCATION:Grace Church Lower Parish Hall\, 311 Broad Streeet\, Windsor\,\, Connecticut\, 06095
CATEGORIES:Meetings
ATTACH;FMTTYPE=image/jpeg:https://gracewindsor.org/wp-content/uploads/2023/06/AA-logo-cat-icon.jpg
END:VEVENT
BEGIN:VEVENT
DTSTART;TZID=America/New_York:20241119T180000
DTEND;TZID=America/New_York:20241119T190000
DTSTAMP:20260422T065019
CREATED:20240920T194545Z
LAST-MODIFIED:20241117T140913Z
UID:10006804-1732039200-1732042800@gracewindsor.org
SUMMARY:BSA\, Troop 1149
DESCRIPTION:
URL:https://gracewindsor.org/event/bsa-troop-1149-4/2024-11-19/
LOCATION:Grace Church Lower Parish Hall\, 311 Broad Streeet\, Windsor\,\, Connecticut\, 06095
CATEGORIES:Meetings
ATTACH;FMTTYPE=image/png:https://gracewindsor.org/wp-content/uploads/2023/10/March-29-2024-7.png
END:VEVENT
BEGIN:VEVENT
DTSTART;TZID=America/New_York:20241118T190000
DTEND;TZID=America/New_York:20241118T200000
DTSTAMP:20260422T065019
CREATED:20230624T192836Z
LAST-MODIFIED:20240427T141930Z
UID:10003914-1731956400-1731960000@gracewindsor.org
SUMMARY:Alcoholics Anonymous Meeting
DESCRIPTION:
URL:https://gracewindsor.org/event/alcoholics-anonymous-meeting/2024-11-18/
LOCATION:Grace Church Lower Parish Hall\, 311 Broad Streeet\, Windsor\,\, Connecticut\, 06095
CATEGORIES:Meetings
ATTACH;FMTTYPE=image/jpeg:https://gracewindsor.org/wp-content/uploads/2023/06/AA-logo-cat-icon.jpg
END:VEVENT
BEGIN:VEVENT
DTSTART;TZID=America/New_York:20241113T183000
DTEND;TZID=America/New_York:20241113T183000
DTSTAMP:20260422T065019
CREATED:20240831T205107Z
LAST-MODIFIED:20241109T124024Z
UID:10005387-1731522600-1731522600@gracewindsor.org
SUMMARY:Windsor African Violet Society
DESCRIPTION:
URL:https://gracewindsor.org/event/windsor-african-violet-society-3/
LOCATION:Grace Church Lower Parish Hall\, 311 Broad Streeet\, Windsor\,\, Connecticut\, 06095
ATTACH;FMTTYPE=image/png:https://gracewindsor.org/wp-content/uploads/2024/03/March-29-2024-9.png
END:VEVENT
BEGIN:VEVENT
DTSTART;TZID=America/New_York:20241112T180000
DTEND;TZID=America/New_York:20241112T190000
DTSTAMP:20260422T065019
CREATED:20240920T194545Z
LAST-MODIFIED:20241117T140913Z
UID:10006803-1731434400-1731438000@gracewindsor.org
SUMMARY:BSA\, Troop 1149
DESCRIPTION:
URL:https://gracewindsor.org/event/bsa-troop-1149-4/2024-11-12/
LOCATION:Grace Church Lower Parish Hall\, 311 Broad Streeet\, Windsor\,\, Connecticut\, 06095
CATEGORIES:Meetings
ATTACH;FMTTYPE=image/png:https://gracewindsor.org/wp-content/uploads/2023/10/March-29-2024-7.png
END:VEVENT
BEGIN:VEVENT
DTSTART;TZID=America/New_York:20241111T190000
DTEND;TZID=America/New_York:20241111T200000
DTSTAMP:20260422T065019
CREATED:20230624T192836Z
LAST-MODIFIED:20240427T141930Z
UID:10003913-1731351600-1731355200@gracewindsor.org
SUMMARY:Alcoholics Anonymous Meeting
DESCRIPTION:
URL:https://gracewindsor.org/event/alcoholics-anonymous-meeting/2024-11-11/
LOCATION:Grace Church Lower Parish Hall\, 311 Broad Streeet\, Windsor\,\, Connecticut\, 06095
CATEGORIES:Meetings
ATTACH;FMTTYPE=image/jpeg:https://gracewindsor.org/wp-content/uploads/2023/06/AA-logo-cat-icon.jpg
END:VEVENT
BEGIN:VEVENT
DTSTART;TZID=America/New_York:20241105T180000
DTEND;TZID=America/New_York:20241105T190000
DTSTAMP:20260422T065019
CREATED:20240920T194545Z
LAST-MODIFIED:20241117T140913Z
UID:10006802-1730829600-1730833200@gracewindsor.org
SUMMARY:BSA\, Troop 1149
DESCRIPTION:
URL:https://gracewindsor.org/event/bsa-troop-1149-4/2024-11-05/
LOCATION:Grace Church Lower Parish Hall\, 311 Broad Streeet\, Windsor\,\, Connecticut\, 06095
CATEGORIES:Meetings
ATTACH;FMTTYPE=image/png:https://gracewindsor.org/wp-content/uploads/2023/10/March-29-2024-7.png
END:VEVENT
BEGIN:VEVENT
DTSTART;TZID=America/New_York:20241104T190000
DTEND;TZID=America/New_York:20241104T200000
DTSTAMP:20260422T065019
CREATED:20230624T192836Z
LAST-MODIFIED:20240427T141930Z
UID:10003912-1730746800-1730750400@gracewindsor.org
SUMMARY:Alcoholics Anonymous Meeting
DESCRIPTION:
URL:https://gracewindsor.org/event/alcoholics-anonymous-meeting/2024-11-04/
LOCATION:Grace Church Lower Parish Hall\, 311 Broad Streeet\, Windsor\,\, Connecticut\, 06095
CATEGORIES:Meetings
ATTACH;FMTTYPE=image/jpeg:https://gracewindsor.org/wp-content/uploads/2023/06/AA-logo-cat-icon.jpg
END:VEVENT
BEGIN:VEVENT
DTSTART;TZID=America/New_York:20241029T180000
DTEND;TZID=America/New_York:20241029T190000
DTSTAMP:20260422T065019
CREATED:20240920T194545Z
LAST-MODIFIED:20241117T140913Z
UID:10006801-1730224800-1730228400@gracewindsor.org
SUMMARY:BSA\, Troop 1149
DESCRIPTION:
URL:https://gracewindsor.org/event/bsa-troop-1149-4/2024-10-29/
LOCATION:Grace Church Lower Parish Hall\, 311 Broad Streeet\, Windsor\,\, Connecticut\, 06095
CATEGORIES:Meetings
ATTACH;FMTTYPE=image/png:https://gracewindsor.org/wp-content/uploads/2023/10/March-29-2024-7.png
END:VEVENT
BEGIN:VEVENT
DTSTART;TZID=America/New_York:20241028T190000
DTEND;TZID=America/New_York:20241028T200000
DTSTAMP:20260422T065019
CREATED:20230624T192836Z
LAST-MODIFIED:20240427T141930Z
UID:10003911-1730142000-1730145600@gracewindsor.org
SUMMARY:Alcoholics Anonymous Meeting
DESCRIPTION:
URL:https://gracewindsor.org/event/alcoholics-anonymous-meeting/2024-10-28/
LOCATION:Grace Church Lower Parish Hall\, 311 Broad Streeet\, Windsor\,\, Connecticut\, 06095
CATEGORIES:Meetings
ATTACH;FMTTYPE=image/jpeg:https://gracewindsor.org/wp-content/uploads/2023/06/AA-logo-cat-icon.jpg
END:VEVENT
BEGIN:VEVENT
DTSTART;TZID=America/New_York:20241022T130000
DTEND;TZID=America/New_York:20241022T150000
DTSTAMP:20260422T065019
CREATED:20240825T000806Z
LAST-MODIFIED:20241104T162155Z
UID:10000544-1729602000-1729609200@gracewindsor.org
SUMMARY:Grace Church Book Club
DESCRIPTION:
URL:https://gracewindsor.org/event/grace-church-book-club-3/2024-10-22/
LOCATION:Grace Church Lower Parish Hall\, 311 Broad Streeet\, Windsor\,\, Connecticut\, 06095
ATTACH;FMTTYPE=image/png:https://gracewindsor.org/wp-content/uploads/2024/08/Book-1.png
END:VEVENT
BEGIN:VEVENT
DTSTART;TZID=America/New_York:20241021T190000
DTEND;TZID=America/New_York:20241021T200000
DTSTAMP:20260422T065019
CREATED:20230624T192836Z
LAST-MODIFIED:20240427T141930Z
UID:10003910-1729537200-1729540800@gracewindsor.org
SUMMARY:Alcoholics Anonymous Meeting
DESCRIPTION:
URL:https://gracewindsor.org/event/alcoholics-anonymous-meeting/2024-10-21/
LOCATION:Grace Church Lower Parish Hall\, 311 Broad Streeet\, Windsor\,\, Connecticut\, 06095
CATEGORIES:Meetings
ATTACH;FMTTYPE=image/jpeg:https://gracewindsor.org/wp-content/uploads/2023/06/AA-logo-cat-icon.jpg
END:VEVENT
BEGIN:VEVENT
DTSTART;TZID=America/New_York:20241018T183000
DTEND;TZID=America/New_York:20241018T183000
DTSTAMP:20260422T065019
CREATED:20241018T213810Z
LAST-MODIFIED:20241018T213854Z
UID:10005955-1729276200-1729276200@gracewindsor.org
SUMMARY:BSA Pack 149 Parent Meeting
DESCRIPTION:
URL:https://gracewindsor.org/event/bsa-pack-149-parent-meeting/
LOCATION:Grace Church Lower Parish Hall\, 311 Broad Streeet\, Windsor\,\, Connecticut\, 06095
ATTACH;FMTTYPE=image/png:https://gracewindsor.org/wp-content/uploads/2024/08/meeting.png
END:VEVENT
BEGIN:VEVENT
DTSTART;TZID=America/New_York:20241015T190000
DTEND;TZID=America/New_York:20241015T210000
DTSTAMP:20260422T065019
CREATED:20240721T121122Z
LAST-MODIFIED:20241006T131046Z
UID:10005683-1729018800-1729026000@gracewindsor.org
SUMMARY:Vestry Meeting
DESCRIPTION:
URL:https://gracewindsor.org/event/vestry-meeting/2024-10-15/
LOCATION:Grace Church Lower Parish Hall\, 311 Broad Streeet\, Windsor\,\, Connecticut\, 06095
CATEGORIES:Meetings
ATTACH;FMTTYPE=image/png:https://gracewindsor.org/wp-content/uploads/2024/03/March-29-2024-11.png
END:VEVENT
BEGIN:VEVENT
DTSTART;TZID=America/New_York:20241015T180000
DTEND;TZID=America/New_York:20241015T190000
DTSTAMP:20260422T065019
CREATED:20240920T194545Z
LAST-MODIFIED:20241117T140913Z
UID:10006800-1729015200-1729018800@gracewindsor.org
SUMMARY:BSA\, Troop 1149
DESCRIPTION:
URL:https://gracewindsor.org/event/bsa-troop-1149-4/2024-10-15/
LOCATION:Grace Church Lower Parish Hall\, 311 Broad Streeet\, Windsor\,\, Connecticut\, 06095
CATEGORIES:Meetings
ATTACH;FMTTYPE=image/png:https://gracewindsor.org/wp-content/uploads/2023/10/March-29-2024-7.png
END:VEVENT
BEGIN:VEVENT
DTSTART;TZID=America/New_York:20241014T190000
DTEND;TZID=America/New_York:20241014T200000
DTSTAMP:20260422T065019
CREATED:20230624T192836Z
LAST-MODIFIED:20240427T141930Z
UID:10003909-1728932400-1728936000@gracewindsor.org
SUMMARY:Alcoholics Anonymous Meeting
DESCRIPTION:
URL:https://gracewindsor.org/event/alcoholics-anonymous-meeting/2024-10-14/
LOCATION:Grace Church Lower Parish Hall\, 311 Broad Streeet\, Windsor\,\, Connecticut\, 06095
CATEGORIES:Meetings
ATTACH;FMTTYPE=image/jpeg:https://gracewindsor.org/wp-content/uploads/2023/06/AA-logo-cat-icon.jpg
END:VEVENT
END:VCALENDAR