BEGIN:VCALENDAR
VERSION:2.0
PRODID:-//Grace Espicopal Church Windsor Connecticut - ECPv6.15.20//NONSGML v1.0//EN
CALSCALE:GREGORIAN
METHOD:PUBLISH
X-ORIGINAL-URL:https://gracewindsor.org
X-WR-CALDESC:Events for Grace Espicopal Church Windsor Connecticut
REFRESH-INTERVAL;VALUE=DURATION:PT1H
X-Robots-Tag:noindex
X-PUBLISHED-TTL:PT1H
BEGIN:VTIMEZONE
TZID:America/New_York
BEGIN:DAYLIGHT
TZOFFSETFROM:-0500
TZOFFSETTO:-0400
TZNAME:EDT
DTSTART:20260308T070000
END:DAYLIGHT
BEGIN:STANDARD
TZOFFSETFROM:-0400
TZOFFSETTO:-0500
TZNAME:EST
DTSTART:20261101T060000
END:STANDARD
BEGIN:DAYLIGHT
TZOFFSETFROM:-0500
TZOFFSETTO:-0400
TZNAME:EDT
DTSTART:20270314T070000
END:DAYLIGHT
BEGIN:STANDARD
TZOFFSETFROM:-0400
TZOFFSETTO:-0500
TZNAME:EST
DTSTART:20271107T060000
END:STANDARD
BEGIN:DAYLIGHT
TZOFFSETFROM:-0500
TZOFFSETTO:-0400
TZNAME:EDT
DTSTART:20280312T070000
END:DAYLIGHT
BEGIN:STANDARD
TZOFFSETFROM:-0400
TZOFFSETTO:-0500
TZNAME:EST
DTSTART:20281105T060000
END:STANDARD
END:VTIMEZONE
BEGIN:VEVENT
DTSTART;TZID=America/New_York:20270405T190000
DTEND;TZID=America/New_York:20270405T200000
DTSTAMP:20260421T224257
CREATED:20230624T192836Z
LAST-MODIFIED:20240427T141930Z
UID:10004038-1806951600-1806955200@gracewindsor.org
SUMMARY:Alcoholics Anonymous Meeting
DESCRIPTION:
URL:https://gracewindsor.org/event/alcoholics-anonymous-meeting/2027-04-05/
LOCATION:Grace Church Lower Parish Hall\, 311 Broad Streeet\, Windsor\,\, Connecticut\, 06095
CATEGORIES:Meetings
ATTACH;FMTTYPE=image/jpeg:https://gracewindsor.org/wp-content/uploads/2023/06/AA-logo-cat-icon.jpg
END:VEVENT
BEGIN:VEVENT
DTSTART;TZID=America/New_York:20270406T180000
DTEND;TZID=America/New_York:20270406T190000
DTSTAMP:20260421T224257
CREATED:20240920T194545Z
LAST-MODIFIED:20241117T140913Z
UID:10006927-1807034400-1807038000@gracewindsor.org
SUMMARY:BSA\, Troop 1149
DESCRIPTION:
URL:https://gracewindsor.org/event/bsa-troop-1149-4/2027-04-06/
LOCATION:Grace Church Lower Parish Hall\, 311 Broad Streeet\, Windsor\,\, Connecticut\, 06095
CATEGORIES:Meetings
ATTACH;FMTTYPE=image/png:https://gracewindsor.org/wp-content/uploads/2023/10/March-29-2024-7.png
END:VEVENT
BEGIN:VEVENT
DTSTART;TZID=America/New_York:20270412T190000
DTEND;TZID=America/New_York:20270412T200000
DTSTAMP:20260421T224257
CREATED:20230624T192836Z
LAST-MODIFIED:20240427T141930Z
UID:10004039-1807556400-1807560000@gracewindsor.org
SUMMARY:Alcoholics Anonymous Meeting
DESCRIPTION:
URL:https://gracewindsor.org/event/alcoholics-anonymous-meeting/2027-04-12/
LOCATION:Grace Church Lower Parish Hall\, 311 Broad Streeet\, Windsor\,\, Connecticut\, 06095
CATEGORIES:Meetings
ATTACH;FMTTYPE=image/jpeg:https://gracewindsor.org/wp-content/uploads/2023/06/AA-logo-cat-icon.jpg
END:VEVENT
BEGIN:VEVENT
DTSTART;TZID=America/New_York:20270413T180000
DTEND;TZID=America/New_York:20270413T190000
DTSTAMP:20260421T224257
CREATED:20240920T194545Z
LAST-MODIFIED:20241117T140913Z
UID:10006928-1807639200-1807642800@gracewindsor.org
SUMMARY:BSA\, Troop 1149
DESCRIPTION:
URL:https://gracewindsor.org/event/bsa-troop-1149-4/2027-04-13/
LOCATION:Grace Church Lower Parish Hall\, 311 Broad Streeet\, Windsor\,\, Connecticut\, 06095
CATEGORIES:Meetings
ATTACH;FMTTYPE=image/png:https://gracewindsor.org/wp-content/uploads/2023/10/March-29-2024-7.png
END:VEVENT
BEGIN:VEVENT
DTSTART;TZID=America/New_York:20270419T190000
DTEND;TZID=America/New_York:20270419T200000
DTSTAMP:20260421T224257
CREATED:20230624T192836Z
LAST-MODIFIED:20240427T141930Z
UID:10004040-1808161200-1808164800@gracewindsor.org
SUMMARY:Alcoholics Anonymous Meeting
DESCRIPTION:
URL:https://gracewindsor.org/event/alcoholics-anonymous-meeting/2027-04-19/
LOCATION:Grace Church Lower Parish Hall\, 311 Broad Streeet\, Windsor\,\, Connecticut\, 06095
CATEGORIES:Meetings
ATTACH;FMTTYPE=image/jpeg:https://gracewindsor.org/wp-content/uploads/2023/06/AA-logo-cat-icon.jpg
END:VEVENT
BEGIN:VEVENT
DTSTART;TZID=America/New_York:20270420T180000
DTEND;TZID=America/New_York:20270420T190000
DTSTAMP:20260421T224257
CREATED:20240920T194545Z
LAST-MODIFIED:20241117T140913Z
UID:10006929-1808244000-1808247600@gracewindsor.org
SUMMARY:BSA\, Troop 1149
DESCRIPTION:
URL:https://gracewindsor.org/event/bsa-troop-1149-4/2027-04-20/
LOCATION:Grace Church Lower Parish Hall\, 311 Broad Streeet\, Windsor\,\, Connecticut\, 06095
CATEGORIES:Meetings
ATTACH;FMTTYPE=image/png:https://gracewindsor.org/wp-content/uploads/2023/10/March-29-2024-7.png
END:VEVENT
BEGIN:VEVENT
DTSTART;TZID=America/New_York:20270426T190000
DTEND;TZID=America/New_York:20270426T200000
DTSTAMP:20260421T224257
CREATED:20230624T192836Z
LAST-MODIFIED:20240427T141930Z
UID:10004041-1808766000-1808769600@gracewindsor.org
SUMMARY:Alcoholics Anonymous Meeting
DESCRIPTION:
URL:https://gracewindsor.org/event/alcoholics-anonymous-meeting/2027-04-26/
LOCATION:Grace Church Lower Parish Hall\, 311 Broad Streeet\, Windsor\,\, Connecticut\, 06095
CATEGORIES:Meetings
ATTACH;FMTTYPE=image/jpeg:https://gracewindsor.org/wp-content/uploads/2023/06/AA-logo-cat-icon.jpg
END:VEVENT
BEGIN:VEVENT
DTSTART;TZID=America/New_York:20270427T130000
DTEND;TZID=America/New_York:20270427T150000
DTSTAMP:20260421T224257
CREATED:20240825T000806Z
LAST-MODIFIED:20241104T162155Z
UID:10000574-1808830800-1808838000@gracewindsor.org
SUMMARY:Grace Church Book Club
DESCRIPTION:
URL:https://gracewindsor.org/event/grace-church-book-club-3/2027-04-27/
LOCATION:Grace Church Lower Parish Hall\, 311 Broad Streeet\, Windsor\,\, Connecticut\, 06095
ATTACH;FMTTYPE=image/png:https://gracewindsor.org/wp-content/uploads/2024/08/Book-1.png
END:VEVENT
BEGIN:VEVENT
DTSTART;TZID=America/New_York:20270427T180000
DTEND;TZID=America/New_York:20270427T190000
DTSTAMP:20260421T224257
CREATED:20240920T194545Z
LAST-MODIFIED:20241117T140913Z
UID:10006930-1808848800-1808852400@gracewindsor.org
SUMMARY:BSA\, Troop 1149
DESCRIPTION:
URL:https://gracewindsor.org/event/bsa-troop-1149-4/2027-04-27/
LOCATION:Grace Church Lower Parish Hall\, 311 Broad Streeet\, Windsor\,\, Connecticut\, 06095
CATEGORIES:Meetings
ATTACH;FMTTYPE=image/png:https://gracewindsor.org/wp-content/uploads/2023/10/March-29-2024-7.png
END:VEVENT
BEGIN:VEVENT
DTSTART;TZID=America/New_York:20270503T190000
DTEND;TZID=America/New_York:20270503T200000
DTSTAMP:20260421T224257
CREATED:20230624T192836Z
LAST-MODIFIED:20240427T141930Z
UID:10004042-1809370800-1809374400@gracewindsor.org
SUMMARY:Alcoholics Anonymous Meeting
DESCRIPTION:
URL:https://gracewindsor.org/event/alcoholics-anonymous-meeting/2027-05-03/
LOCATION:Grace Church Lower Parish Hall\, 311 Broad Streeet\, Windsor\,\, Connecticut\, 06095
CATEGORIES:Meetings
ATTACH;FMTTYPE=image/jpeg:https://gracewindsor.org/wp-content/uploads/2023/06/AA-logo-cat-icon.jpg
END:VEVENT
BEGIN:VEVENT
DTSTART;TZID=America/New_York:20270504T180000
DTEND;TZID=America/New_York:20270504T190000
DTSTAMP:20260421T224257
CREATED:20240920T194545Z
LAST-MODIFIED:20241117T140913Z
UID:10006931-1809453600-1809457200@gracewindsor.org
SUMMARY:BSA\, Troop 1149
DESCRIPTION:
URL:https://gracewindsor.org/event/bsa-troop-1149-4/2027-05-04/
LOCATION:Grace Church Lower Parish Hall\, 311 Broad Streeet\, Windsor\,\, Connecticut\, 06095
CATEGORIES:Meetings
ATTACH;FMTTYPE=image/png:https://gracewindsor.org/wp-content/uploads/2023/10/March-29-2024-7.png
END:VEVENT
BEGIN:VEVENT
DTSTART;TZID=America/New_York:20270510T190000
DTEND;TZID=America/New_York:20270510T200000
DTSTAMP:20260421T224257
CREATED:20230624T192836Z
LAST-MODIFIED:20240427T141930Z
UID:10004043-1809975600-1809979200@gracewindsor.org
SUMMARY:Alcoholics Anonymous Meeting
DESCRIPTION:
URL:https://gracewindsor.org/event/alcoholics-anonymous-meeting/2027-05-10/
LOCATION:Grace Church Lower Parish Hall\, 311 Broad Streeet\, Windsor\,\, Connecticut\, 06095
CATEGORIES:Meetings
ATTACH;FMTTYPE=image/jpeg:https://gracewindsor.org/wp-content/uploads/2023/06/AA-logo-cat-icon.jpg
END:VEVENT
BEGIN:VEVENT
DTSTART;TZID=America/New_York:20270511T180000
DTEND;TZID=America/New_York:20270511T190000
DTSTAMP:20260421T224257
CREATED:20240920T194545Z
LAST-MODIFIED:20241117T140913Z
UID:10006932-1810058400-1810062000@gracewindsor.org
SUMMARY:BSA\, Troop 1149
DESCRIPTION:
URL:https://gracewindsor.org/event/bsa-troop-1149-4/2027-05-11/
LOCATION:Grace Church Lower Parish Hall\, 311 Broad Streeet\, Windsor\,\, Connecticut\, 06095
CATEGORIES:Meetings
ATTACH;FMTTYPE=image/png:https://gracewindsor.org/wp-content/uploads/2023/10/March-29-2024-7.png
END:VEVENT
BEGIN:VEVENT
DTSTART;TZID=America/New_York:20270517T190000
DTEND;TZID=America/New_York:20270517T200000
DTSTAMP:20260421T224257
CREATED:20230624T192836Z
LAST-MODIFIED:20240427T141930Z
UID:10004044-1810580400-1810584000@gracewindsor.org
SUMMARY:Alcoholics Anonymous Meeting
DESCRIPTION:
URL:https://gracewindsor.org/event/alcoholics-anonymous-meeting/2027-05-17/
LOCATION:Grace Church Lower Parish Hall\, 311 Broad Streeet\, Windsor\,\, Connecticut\, 06095
CATEGORIES:Meetings
ATTACH;FMTTYPE=image/jpeg:https://gracewindsor.org/wp-content/uploads/2023/06/AA-logo-cat-icon.jpg
END:VEVENT
BEGIN:VEVENT
DTSTART;TZID=America/New_York:20270518T180000
DTEND;TZID=America/New_York:20270518T190000
DTSTAMP:20260421T224257
CREATED:20240920T194545Z
LAST-MODIFIED:20241117T140913Z
UID:10006933-1810663200-1810666800@gracewindsor.org
SUMMARY:BSA\, Troop 1149
DESCRIPTION:
URL:https://gracewindsor.org/event/bsa-troop-1149-4/2027-05-18/
LOCATION:Grace Church Lower Parish Hall\, 311 Broad Streeet\, Windsor\,\, Connecticut\, 06095
CATEGORIES:Meetings
ATTACH;FMTTYPE=image/png:https://gracewindsor.org/wp-content/uploads/2023/10/March-29-2024-7.png
END:VEVENT
BEGIN:VEVENT
DTSTART;TZID=America/New_York:20270524T190000
DTEND;TZID=America/New_York:20270524T200000
DTSTAMP:20260421T224257
CREATED:20230624T192836Z
LAST-MODIFIED:20240427T141930Z
UID:10004045-1811185200-1811188800@gracewindsor.org
SUMMARY:Alcoholics Anonymous Meeting
DESCRIPTION:
URL:https://gracewindsor.org/event/alcoholics-anonymous-meeting/2027-05-24/
LOCATION:Grace Church Lower Parish Hall\, 311 Broad Streeet\, Windsor\,\, Connecticut\, 06095
CATEGORIES:Meetings
ATTACH;FMTTYPE=image/jpeg:https://gracewindsor.org/wp-content/uploads/2023/06/AA-logo-cat-icon.jpg
END:VEVENT
BEGIN:VEVENT
DTSTART;TZID=America/New_York:20270525T130000
DTEND;TZID=America/New_York:20270525T150000
DTSTAMP:20260421T224257
CREATED:20240825T000806Z
LAST-MODIFIED:20241104T162155Z
UID:10000575-1811250000-1811257200@gracewindsor.org
SUMMARY:Grace Church Book Club
DESCRIPTION:
URL:https://gracewindsor.org/event/grace-church-book-club-3/2027-05-25/
LOCATION:Grace Church Lower Parish Hall\, 311 Broad Streeet\, Windsor\,\, Connecticut\, 06095
ATTACH;FMTTYPE=image/png:https://gracewindsor.org/wp-content/uploads/2024/08/Book-1.png
END:VEVENT
BEGIN:VEVENT
DTSTART;TZID=America/New_York:20270525T180000
DTEND;TZID=America/New_York:20270525T190000
DTSTAMP:20260421T224257
CREATED:20240920T194545Z
LAST-MODIFIED:20241117T140913Z
UID:10006934-1811268000-1811271600@gracewindsor.org
SUMMARY:BSA\, Troop 1149
DESCRIPTION:
URL:https://gracewindsor.org/event/bsa-troop-1149-4/2027-05-25/
LOCATION:Grace Church Lower Parish Hall\, 311 Broad Streeet\, Windsor\,\, Connecticut\, 06095
CATEGORIES:Meetings
ATTACH;FMTTYPE=image/png:https://gracewindsor.org/wp-content/uploads/2023/10/March-29-2024-7.png
END:VEVENT
BEGIN:VEVENT
DTSTART;TZID=America/New_York:20270531T190000
DTEND;TZID=America/New_York:20270531T200000
DTSTAMP:20260421T224257
CREATED:20230624T192836Z
LAST-MODIFIED:20240427T141930Z
UID:10004046-1811790000-1811793600@gracewindsor.org
SUMMARY:Alcoholics Anonymous Meeting
DESCRIPTION:
URL:https://gracewindsor.org/event/alcoholics-anonymous-meeting/2027-05-31/
LOCATION:Grace Church Lower Parish Hall\, 311 Broad Streeet\, Windsor\,\, Connecticut\, 06095
CATEGORIES:Meetings
ATTACH;FMTTYPE=image/jpeg:https://gracewindsor.org/wp-content/uploads/2023/06/AA-logo-cat-icon.jpg
END:VEVENT
BEGIN:VEVENT
DTSTART;TZID=America/New_York:20270601T180000
DTEND;TZID=America/New_York:20270601T190000
DTSTAMP:20260421T224257
CREATED:20240920T194545Z
LAST-MODIFIED:20241117T140913Z
UID:10006935-1811872800-1811876400@gracewindsor.org
SUMMARY:BSA\, Troop 1149
DESCRIPTION:
URL:https://gracewindsor.org/event/bsa-troop-1149-4/2027-06-01/
LOCATION:Grace Church Lower Parish Hall\, 311 Broad Streeet\, Windsor\,\, Connecticut\, 06095
CATEGORIES:Meetings
ATTACH;FMTTYPE=image/png:https://gracewindsor.org/wp-content/uploads/2023/10/March-29-2024-7.png
END:VEVENT
BEGIN:VEVENT
DTSTART;TZID=America/New_York:20270607T190000
DTEND;TZID=America/New_York:20270607T200000
DTSTAMP:20260421T224257
CREATED:20230624T192836Z
LAST-MODIFIED:20240427T141930Z
UID:10004047-1812394800-1812398400@gracewindsor.org
SUMMARY:Alcoholics Anonymous Meeting
DESCRIPTION:
URL:https://gracewindsor.org/event/alcoholics-anonymous-meeting/2027-06-07/
LOCATION:Grace Church Lower Parish Hall\, 311 Broad Streeet\, Windsor\,\, Connecticut\, 06095
CATEGORIES:Meetings
ATTACH;FMTTYPE=image/jpeg:https://gracewindsor.org/wp-content/uploads/2023/06/AA-logo-cat-icon.jpg
END:VEVENT
BEGIN:VEVENT
DTSTART;TZID=America/New_York:20270608T180000
DTEND;TZID=America/New_York:20270608T190000
DTSTAMP:20260421T224257
CREATED:20240920T194545Z
LAST-MODIFIED:20241117T140913Z
UID:10006936-1812477600-1812481200@gracewindsor.org
SUMMARY:BSA\, Troop 1149
DESCRIPTION:
URL:https://gracewindsor.org/event/bsa-troop-1149-4/2027-06-08/
LOCATION:Grace Church Lower Parish Hall\, 311 Broad Streeet\, Windsor\,\, Connecticut\, 06095
CATEGORIES:Meetings
ATTACH;FMTTYPE=image/png:https://gracewindsor.org/wp-content/uploads/2023/10/March-29-2024-7.png
END:VEVENT
BEGIN:VEVENT
DTSTART;TZID=America/New_York:20270614T190000
DTEND;TZID=America/New_York:20270614T200000
DTSTAMP:20260421T224257
CREATED:20230624T192836Z
LAST-MODIFIED:20240427T141930Z
UID:10004048-1812999600-1813003200@gracewindsor.org
SUMMARY:Alcoholics Anonymous Meeting
DESCRIPTION:
URL:https://gracewindsor.org/event/alcoholics-anonymous-meeting/2027-06-14/
LOCATION:Grace Church Lower Parish Hall\, 311 Broad Streeet\, Windsor\,\, Connecticut\, 06095
CATEGORIES:Meetings
ATTACH;FMTTYPE=image/jpeg:https://gracewindsor.org/wp-content/uploads/2023/06/AA-logo-cat-icon.jpg
END:VEVENT
BEGIN:VEVENT
DTSTART;TZID=America/New_York:20270615T180000
DTEND;TZID=America/New_York:20270615T190000
DTSTAMP:20260421T224257
CREATED:20240920T194545Z
LAST-MODIFIED:20241117T140913Z
UID:10006937-1813082400-1813086000@gracewindsor.org
SUMMARY:BSA\, Troop 1149
DESCRIPTION:
URL:https://gracewindsor.org/event/bsa-troop-1149-4/2027-06-15/
LOCATION:Grace Church Lower Parish Hall\, 311 Broad Streeet\, Windsor\,\, Connecticut\, 06095
CATEGORIES:Meetings
ATTACH;FMTTYPE=image/png:https://gracewindsor.org/wp-content/uploads/2023/10/March-29-2024-7.png
END:VEVENT
BEGIN:VEVENT
DTSTART;TZID=America/New_York:20270621T190000
DTEND;TZID=America/New_York:20270621T200000
DTSTAMP:20260421T224257
CREATED:20230624T192836Z
LAST-MODIFIED:20240427T141930Z
UID:10004049-1813604400-1813608000@gracewindsor.org
SUMMARY:Alcoholics Anonymous Meeting
DESCRIPTION:
URL:https://gracewindsor.org/event/alcoholics-anonymous-meeting/2027-06-21/
LOCATION:Grace Church Lower Parish Hall\, 311 Broad Streeet\, Windsor\,\, Connecticut\, 06095
CATEGORIES:Meetings
ATTACH;FMTTYPE=image/jpeg:https://gracewindsor.org/wp-content/uploads/2023/06/AA-logo-cat-icon.jpg
END:VEVENT
BEGIN:VEVENT
DTSTART;TZID=America/New_York:20270622T130000
DTEND;TZID=America/New_York:20270622T150000
DTSTAMP:20260421T224257
CREATED:20240825T000806Z
LAST-MODIFIED:20241104T162155Z
UID:10000576-1813669200-1813676400@gracewindsor.org
SUMMARY:Grace Church Book Club
DESCRIPTION:
URL:https://gracewindsor.org/event/grace-church-book-club-3/2027-06-22/
LOCATION:Grace Church Lower Parish Hall\, 311 Broad Streeet\, Windsor\,\, Connecticut\, 06095
ATTACH;FMTTYPE=image/png:https://gracewindsor.org/wp-content/uploads/2024/08/Book-1.png
END:VEVENT
BEGIN:VEVENT
DTSTART;TZID=America/New_York:20270622T180000
DTEND;TZID=America/New_York:20270622T190000
DTSTAMP:20260421T224257
CREATED:20240920T194545Z
LAST-MODIFIED:20241117T140913Z
UID:10006938-1813687200-1813690800@gracewindsor.org
SUMMARY:BSA\, Troop 1149
DESCRIPTION:
URL:https://gracewindsor.org/event/bsa-troop-1149-4/2027-06-22/
LOCATION:Grace Church Lower Parish Hall\, 311 Broad Streeet\, Windsor\,\, Connecticut\, 06095
CATEGORIES:Meetings
ATTACH;FMTTYPE=image/png:https://gracewindsor.org/wp-content/uploads/2023/10/March-29-2024-7.png
END:VEVENT
BEGIN:VEVENT
DTSTART;TZID=America/New_York:20270628T190000
DTEND;TZID=America/New_York:20270628T200000
DTSTAMP:20260421T224257
CREATED:20230624T192836Z
LAST-MODIFIED:20240427T141930Z
UID:10004050-1814209200-1814212800@gracewindsor.org
SUMMARY:Alcoholics Anonymous Meeting
DESCRIPTION:
URL:https://gracewindsor.org/event/alcoholics-anonymous-meeting/2027-06-28/
LOCATION:Grace Church Lower Parish Hall\, 311 Broad Streeet\, Windsor\,\, Connecticut\, 06095
CATEGORIES:Meetings
ATTACH;FMTTYPE=image/jpeg:https://gracewindsor.org/wp-content/uploads/2023/06/AA-logo-cat-icon.jpg
END:VEVENT
BEGIN:VEVENT
DTSTART;TZID=America/New_York:20270629T180000
DTEND;TZID=America/New_York:20270629T190000
DTSTAMP:20260421T224257
CREATED:20240920T194545Z
LAST-MODIFIED:20241117T140913Z
UID:10006939-1814292000-1814295600@gracewindsor.org
SUMMARY:BSA\, Troop 1149
DESCRIPTION:
URL:https://gracewindsor.org/event/bsa-troop-1149-4/2027-06-29/
LOCATION:Grace Church Lower Parish Hall\, 311 Broad Streeet\, Windsor\,\, Connecticut\, 06095
CATEGORIES:Meetings
ATTACH;FMTTYPE=image/png:https://gracewindsor.org/wp-content/uploads/2023/10/March-29-2024-7.png
END:VEVENT
BEGIN:VEVENT
DTSTART;TZID=America/New_York:20270705T190000
DTEND;TZID=America/New_York:20270705T200000
DTSTAMP:20260421T224257
CREATED:20230624T192836Z
LAST-MODIFIED:20240427T141930Z
UID:10004051-1814814000-1814817600@gracewindsor.org
SUMMARY:Alcoholics Anonymous Meeting
DESCRIPTION:
URL:https://gracewindsor.org/event/alcoholics-anonymous-meeting/2027-07-05/
LOCATION:Grace Church Lower Parish Hall\, 311 Broad Streeet\, Windsor\,\, Connecticut\, 06095
CATEGORIES:Meetings
ATTACH;FMTTYPE=image/jpeg:https://gracewindsor.org/wp-content/uploads/2023/06/AA-logo-cat-icon.jpg
END:VEVENT
END:VCALENDAR