BEGIN:VCALENDAR
VERSION:2.0
PRODID:-//Grace Espicopal Church Windsor Connecticut - ECPv6.15.20//NONSGML v1.0//EN
CALSCALE:GREGORIAN
METHOD:PUBLISH
X-WR-CALNAME:Grace Espicopal Church Windsor Connecticut
X-ORIGINAL-URL:https://gracewindsor.org
X-WR-CALDESC:Events for Grace Espicopal Church Windsor Connecticut
REFRESH-INTERVAL;VALUE=DURATION:PT1H
X-Robots-Tag:noindex
X-PUBLISHED-TTL:PT1H
BEGIN:VTIMEZONE
TZID:America/New_York
BEGIN:DAYLIGHT
TZOFFSETFROM:-0500
TZOFFSETTO:-0400
TZNAME:EDT
DTSTART:20250309T070000
END:DAYLIGHT
BEGIN:STANDARD
TZOFFSETFROM:-0400
TZOFFSETTO:-0500
TZNAME:EST
DTSTART:20251102T060000
END:STANDARD
BEGIN:DAYLIGHT
TZOFFSETFROM:-0500
TZOFFSETTO:-0400
TZNAME:EDT
DTSTART:20260308T070000
END:DAYLIGHT
BEGIN:STANDARD
TZOFFSETFROM:-0400
TZOFFSETTO:-0500
TZNAME:EST
DTSTART:20261101T060000
END:STANDARD
BEGIN:DAYLIGHT
TZOFFSETFROM:-0500
TZOFFSETTO:-0400
TZNAME:EDT
DTSTART:20270314T070000
END:DAYLIGHT
BEGIN:STANDARD
TZOFFSETFROM:-0400
TZOFFSETTO:-0500
TZNAME:EST
DTSTART:20271107T060000
END:STANDARD
END:VTIMEZONE
BEGIN:VEVENT
DTSTART;TZID=America/New_York:20260420T190000
DTEND;TZID=America/New_York:20260420T200000
DTSTAMP:20260421T073121
CREATED:20230624T192836Z
LAST-MODIFIED:20240427T141930Z
UID:10003988-1776711600-1776715200@gracewindsor.org
SUMMARY:Alcoholics Anonymous Meeting
DESCRIPTION:
URL:https://gracewindsor.org/event/alcoholics-anonymous-meeting/2026-04-20/
LOCATION:Grace Church Lower Parish Hall\, 311 Broad Streeet\, Windsor\,\, Connecticut\, 06095
CATEGORIES:Meetings
ATTACH;FMTTYPE=image/jpeg:https://gracewindsor.org/wp-content/uploads/2023/06/AA-logo-cat-icon.jpg
END:VEVENT
BEGIN:VEVENT
DTSTART;TZID=America/New_York:20260414T180000
DTEND;TZID=America/New_York:20260414T190000
DTSTAMP:20260421T073121
CREATED:20240920T194545Z
LAST-MODIFIED:20241117T140913Z
UID:10006876-1776189600-1776193200@gracewindsor.org
SUMMARY:BSA\, Troop 1149
DESCRIPTION:
URL:https://gracewindsor.org/event/bsa-troop-1149-4/2026-04-14/
LOCATION:Grace Church Lower Parish Hall\, 311 Broad Streeet\, Windsor\,\, Connecticut\, 06095
CATEGORIES:Meetings
ATTACH;FMTTYPE=image/png:https://gracewindsor.org/wp-content/uploads/2023/10/March-29-2024-7.png
END:VEVENT
BEGIN:VEVENT
DTSTART;TZID=America/New_York:20260413T190000
DTEND;TZID=America/New_York:20260413T200000
DTSTAMP:20260421T073121
CREATED:20230624T192836Z
LAST-MODIFIED:20240427T141930Z
UID:10003987-1776106800-1776110400@gracewindsor.org
SUMMARY:Alcoholics Anonymous Meeting
DESCRIPTION:
URL:https://gracewindsor.org/event/alcoholics-anonymous-meeting/2026-04-13/
LOCATION:Grace Church Lower Parish Hall\, 311 Broad Streeet\, Windsor\,\, Connecticut\, 06095
CATEGORIES:Meetings
ATTACH;FMTTYPE=image/jpeg:https://gracewindsor.org/wp-content/uploads/2023/06/AA-logo-cat-icon.jpg
END:VEVENT
BEGIN:VEVENT
DTSTART;TZID=America/New_York:20260407T180000
DTEND;TZID=America/New_York:20260407T190000
DTSTAMP:20260421T073121
CREATED:20240920T194545Z
LAST-MODIFIED:20241117T140913Z
UID:10006875-1775584800-1775588400@gracewindsor.org
SUMMARY:BSA\, Troop 1149
DESCRIPTION:
URL:https://gracewindsor.org/event/bsa-troop-1149-4/2026-04-07/
LOCATION:Grace Church Lower Parish Hall\, 311 Broad Streeet\, Windsor\,\, Connecticut\, 06095
CATEGORIES:Meetings
ATTACH;FMTTYPE=image/png:https://gracewindsor.org/wp-content/uploads/2023/10/March-29-2024-7.png
END:VEVENT
BEGIN:VEVENT
DTSTART;TZID=America/New_York:20260406T190000
DTEND;TZID=America/New_York:20260406T200000
DTSTAMP:20260421T073121
CREATED:20230624T192836Z
LAST-MODIFIED:20240427T141930Z
UID:10003986-1775502000-1775505600@gracewindsor.org
SUMMARY:Alcoholics Anonymous Meeting
DESCRIPTION:
URL:https://gracewindsor.org/event/alcoholics-anonymous-meeting/2026-04-06/
LOCATION:Grace Church Lower Parish Hall\, 311 Broad Streeet\, Windsor\,\, Connecticut\, 06095
CATEGORIES:Meetings
ATTACH;FMTTYPE=image/jpeg:https://gracewindsor.org/wp-content/uploads/2023/06/AA-logo-cat-icon.jpg
END:VEVENT
BEGIN:VEVENT
DTSTART;TZID=America/New_York:20260331T180000
DTEND;TZID=America/New_York:20260331T190000
DTSTAMP:20260421T073121
CREATED:20240920T194545Z
LAST-MODIFIED:20241117T140913Z
UID:10006874-1774980000-1774983600@gracewindsor.org
SUMMARY:BSA\, Troop 1149
DESCRIPTION:
URL:https://gracewindsor.org/event/bsa-troop-1149-4/2026-03-31/
LOCATION:Grace Church Lower Parish Hall\, 311 Broad Streeet\, Windsor\,\, Connecticut\, 06095
CATEGORIES:Meetings
ATTACH;FMTTYPE=image/png:https://gracewindsor.org/wp-content/uploads/2023/10/March-29-2024-7.png
END:VEVENT
BEGIN:VEVENT
DTSTART;TZID=America/New_York:20260330T190000
DTEND;TZID=America/New_York:20260330T200000
DTSTAMP:20260421T073121
CREATED:20230624T192836Z
LAST-MODIFIED:20240427T141930Z
UID:10003985-1774897200-1774900800@gracewindsor.org
SUMMARY:Alcoholics Anonymous Meeting
DESCRIPTION:
URL:https://gracewindsor.org/event/alcoholics-anonymous-meeting/2026-03-30/
LOCATION:Grace Church Lower Parish Hall\, 311 Broad Streeet\, Windsor\,\, Connecticut\, 06095
CATEGORIES:Meetings
ATTACH;FMTTYPE=image/jpeg:https://gracewindsor.org/wp-content/uploads/2023/06/AA-logo-cat-icon.jpg
END:VEVENT
BEGIN:VEVENT
DTSTART;TZID=America/New_York:20260324T180000
DTEND;TZID=America/New_York:20260324T190000
DTSTAMP:20260421T073121
CREATED:20240920T194545Z
LAST-MODIFIED:20241117T140913Z
UID:10006873-1774375200-1774378800@gracewindsor.org
SUMMARY:BSA\, Troop 1149
DESCRIPTION:
URL:https://gracewindsor.org/event/bsa-troop-1149-4/2026-03-24/
LOCATION:Grace Church Lower Parish Hall\, 311 Broad Streeet\, Windsor\,\, Connecticut\, 06095
CATEGORIES:Meetings
ATTACH;FMTTYPE=image/png:https://gracewindsor.org/wp-content/uploads/2023/10/March-29-2024-7.png
END:VEVENT
BEGIN:VEVENT
DTSTART;TZID=America/New_York:20260324T130000
DTEND;TZID=America/New_York:20260324T150000
DTSTAMP:20260421T073121
CREATED:20240825T000806Z
LAST-MODIFIED:20241104T162155Z
UID:10000561-1774357200-1774364400@gracewindsor.org
SUMMARY:Grace Church Book Club
DESCRIPTION:
URL:https://gracewindsor.org/event/grace-church-book-club-3/2026-03-24/
LOCATION:Grace Church Lower Parish Hall\, 311 Broad Streeet\, Windsor\,\, Connecticut\, 06095
ATTACH;FMTTYPE=image/png:https://gracewindsor.org/wp-content/uploads/2024/08/Book-1.png
END:VEVENT
BEGIN:VEVENT
DTSTART;TZID=America/New_York:20260323T190000
DTEND;TZID=America/New_York:20260323T200000
DTSTAMP:20260421T073121
CREATED:20230624T192836Z
LAST-MODIFIED:20240427T141930Z
UID:10003984-1774292400-1774296000@gracewindsor.org
SUMMARY:Alcoholics Anonymous Meeting
DESCRIPTION:
URL:https://gracewindsor.org/event/alcoholics-anonymous-meeting/2026-03-23/
LOCATION:Grace Church Lower Parish Hall\, 311 Broad Streeet\, Windsor\,\, Connecticut\, 06095
CATEGORIES:Meetings
ATTACH;FMTTYPE=image/jpeg:https://gracewindsor.org/wp-content/uploads/2023/06/AA-logo-cat-icon.jpg
END:VEVENT
BEGIN:VEVENT
DTSTART;TZID=America/New_York:20260317T180000
DTEND;TZID=America/New_York:20260317T190000
DTSTAMP:20260421T073121
CREATED:20240920T194545Z
LAST-MODIFIED:20241117T140913Z
UID:10006872-1773770400-1773774000@gracewindsor.org
SUMMARY:BSA\, Troop 1149
DESCRIPTION:
URL:https://gracewindsor.org/event/bsa-troop-1149-4/2026-03-17/
LOCATION:Grace Church Lower Parish Hall\, 311 Broad Streeet\, Windsor\,\, Connecticut\, 06095
CATEGORIES:Meetings
ATTACH;FMTTYPE=image/png:https://gracewindsor.org/wp-content/uploads/2023/10/March-29-2024-7.png
END:VEVENT
BEGIN:VEVENT
DTSTART;TZID=America/New_York:20260316T190000
DTEND;TZID=America/New_York:20260316T200000
DTSTAMP:20260421T073121
CREATED:20230624T192836Z
LAST-MODIFIED:20240427T141930Z
UID:10003983-1773687600-1773691200@gracewindsor.org
SUMMARY:Alcoholics Anonymous Meeting
DESCRIPTION:
URL:https://gracewindsor.org/event/alcoholics-anonymous-meeting/2026-03-16/
LOCATION:Grace Church Lower Parish Hall\, 311 Broad Streeet\, Windsor\,\, Connecticut\, 06095
CATEGORIES:Meetings
ATTACH;FMTTYPE=image/jpeg:https://gracewindsor.org/wp-content/uploads/2023/06/AA-logo-cat-icon.jpg
END:VEVENT
BEGIN:VEVENT
DTSTART;TZID=America/New_York:20260310T180000
DTEND;TZID=America/New_York:20260310T190000
DTSTAMP:20260421T073121
CREATED:20240920T194545Z
LAST-MODIFIED:20241117T140913Z
UID:10006871-1773165600-1773169200@gracewindsor.org
SUMMARY:BSA\, Troop 1149
DESCRIPTION:
URL:https://gracewindsor.org/event/bsa-troop-1149-4/2026-03-10/
LOCATION:Grace Church Lower Parish Hall\, 311 Broad Streeet\, Windsor\,\, Connecticut\, 06095
CATEGORIES:Meetings
ATTACH;FMTTYPE=image/png:https://gracewindsor.org/wp-content/uploads/2023/10/March-29-2024-7.png
END:VEVENT
BEGIN:VEVENT
DTSTART;TZID=America/New_York:20260309T190000
DTEND;TZID=America/New_York:20260309T200000
DTSTAMP:20260421T073121
CREATED:20230624T192836Z
LAST-MODIFIED:20240427T141930Z
UID:10003982-1773082800-1773086400@gracewindsor.org
SUMMARY:Alcoholics Anonymous Meeting
DESCRIPTION:
URL:https://gracewindsor.org/event/alcoholics-anonymous-meeting/2026-03-09/
LOCATION:Grace Church Lower Parish Hall\, 311 Broad Streeet\, Windsor\,\, Connecticut\, 06095
CATEGORIES:Meetings
ATTACH;FMTTYPE=image/jpeg:https://gracewindsor.org/wp-content/uploads/2023/06/AA-logo-cat-icon.jpg
END:VEVENT
BEGIN:VEVENT
DTSTART;TZID=America/New_York:20260303T180000
DTEND;TZID=America/New_York:20260303T190000
DTSTAMP:20260421T073121
CREATED:20240920T194545Z
LAST-MODIFIED:20241117T140913Z
UID:10006870-1772560800-1772564400@gracewindsor.org
SUMMARY:BSA\, Troop 1149
DESCRIPTION:
URL:https://gracewindsor.org/event/bsa-troop-1149-4/2026-03-03/
LOCATION:Grace Church Lower Parish Hall\, 311 Broad Streeet\, Windsor\,\, Connecticut\, 06095
CATEGORIES:Meetings
ATTACH;FMTTYPE=image/png:https://gracewindsor.org/wp-content/uploads/2023/10/March-29-2024-7.png
END:VEVENT
BEGIN:VEVENT
DTSTART;TZID=America/New_York:20260302T190000
DTEND;TZID=America/New_York:20260302T200000
DTSTAMP:20260421T073121
CREATED:20230624T192836Z
LAST-MODIFIED:20240427T141930Z
UID:10003981-1772478000-1772481600@gracewindsor.org
SUMMARY:Alcoholics Anonymous Meeting
DESCRIPTION:
URL:https://gracewindsor.org/event/alcoholics-anonymous-meeting/2026-03-02/
LOCATION:Grace Church Lower Parish Hall\, 311 Broad Streeet\, Windsor\,\, Connecticut\, 06095
CATEGORIES:Meetings
ATTACH;FMTTYPE=image/jpeg:https://gracewindsor.org/wp-content/uploads/2023/06/AA-logo-cat-icon.jpg
END:VEVENT
BEGIN:VEVENT
DTSTART;TZID=America/New_York:20260224T180000
DTEND;TZID=America/New_York:20260224T190000
DTSTAMP:20260421T073121
CREATED:20240920T194545Z
LAST-MODIFIED:20241117T140913Z
UID:10006869-1771956000-1771959600@gracewindsor.org
SUMMARY:BSA\, Troop 1149
DESCRIPTION:
URL:https://gracewindsor.org/event/bsa-troop-1149-4/2026-02-24/
LOCATION:Grace Church Lower Parish Hall\, 311 Broad Streeet\, Windsor\,\, Connecticut\, 06095
CATEGORIES:Meetings
ATTACH;FMTTYPE=image/png:https://gracewindsor.org/wp-content/uploads/2023/10/March-29-2024-7.png
END:VEVENT
BEGIN:VEVENT
DTSTART;TZID=America/New_York:20260224T130000
DTEND;TZID=America/New_York:20260224T150000
DTSTAMP:20260421T073121
CREATED:20240825T000806Z
LAST-MODIFIED:20241104T162155Z
UID:10000560-1771938000-1771945200@gracewindsor.org
SUMMARY:Grace Church Book Club
DESCRIPTION:
URL:https://gracewindsor.org/event/grace-church-book-club-3/2026-02-24/
LOCATION:Grace Church Lower Parish Hall\, 311 Broad Streeet\, Windsor\,\, Connecticut\, 06095
ATTACH;FMTTYPE=image/png:https://gracewindsor.org/wp-content/uploads/2024/08/Book-1.png
END:VEVENT
BEGIN:VEVENT
DTSTART;TZID=America/New_York:20260223T190000
DTEND;TZID=America/New_York:20260223T200000
DTSTAMP:20260421T073121
CREATED:20230624T192836Z
LAST-MODIFIED:20240427T141930Z
UID:10003980-1771873200-1771876800@gracewindsor.org
SUMMARY:Alcoholics Anonymous Meeting
DESCRIPTION:
URL:https://gracewindsor.org/event/alcoholics-anonymous-meeting/2026-02-23/
LOCATION:Grace Church Lower Parish Hall\, 311 Broad Streeet\, Windsor\,\, Connecticut\, 06095
CATEGORIES:Meetings
ATTACH;FMTTYPE=image/jpeg:https://gracewindsor.org/wp-content/uploads/2023/06/AA-logo-cat-icon.jpg
END:VEVENT
BEGIN:VEVENT
DTSTART;TZID=America/New_York:20260217T180000
DTEND;TZID=America/New_York:20260217T190000
DTSTAMP:20260421T073121
CREATED:20240920T194545Z
LAST-MODIFIED:20241117T140913Z
UID:10006868-1771351200-1771354800@gracewindsor.org
SUMMARY:BSA\, Troop 1149
DESCRIPTION:
URL:https://gracewindsor.org/event/bsa-troop-1149-4/2026-02-17/
LOCATION:Grace Church Lower Parish Hall\, 311 Broad Streeet\, Windsor\,\, Connecticut\, 06095
CATEGORIES:Meetings
ATTACH;FMTTYPE=image/png:https://gracewindsor.org/wp-content/uploads/2023/10/March-29-2024-7.png
END:VEVENT
BEGIN:VEVENT
DTSTART;TZID=America/New_York:20260216T190000
DTEND;TZID=America/New_York:20260216T200000
DTSTAMP:20260421T073121
CREATED:20230624T192836Z
LAST-MODIFIED:20240427T141930Z
UID:10003979-1771268400-1771272000@gracewindsor.org
SUMMARY:Alcoholics Anonymous Meeting
DESCRIPTION:
URL:https://gracewindsor.org/event/alcoholics-anonymous-meeting/2026-02-16/
LOCATION:Grace Church Lower Parish Hall\, 311 Broad Streeet\, Windsor\,\, Connecticut\, 06095
CATEGORIES:Meetings
ATTACH;FMTTYPE=image/jpeg:https://gracewindsor.org/wp-content/uploads/2023/06/AA-logo-cat-icon.jpg
END:VEVENT
BEGIN:VEVENT
DTSTART;TZID=America/New_York:20260210T180000
DTEND;TZID=America/New_York:20260210T190000
DTSTAMP:20260421T073121
CREATED:20240920T194545Z
LAST-MODIFIED:20241117T140913Z
UID:10006867-1770746400-1770750000@gracewindsor.org
SUMMARY:BSA\, Troop 1149
DESCRIPTION:
URL:https://gracewindsor.org/event/bsa-troop-1149-4/2026-02-10/
LOCATION:Grace Church Lower Parish Hall\, 311 Broad Streeet\, Windsor\,\, Connecticut\, 06095
CATEGORIES:Meetings
ATTACH;FMTTYPE=image/png:https://gracewindsor.org/wp-content/uploads/2023/10/March-29-2024-7.png
END:VEVENT
BEGIN:VEVENT
DTSTART;TZID=America/New_York:20260209T190000
DTEND;TZID=America/New_York:20260209T200000
DTSTAMP:20260421T073121
CREATED:20230624T192836Z
LAST-MODIFIED:20240427T141930Z
UID:10003978-1770663600-1770667200@gracewindsor.org
SUMMARY:Alcoholics Anonymous Meeting
DESCRIPTION:
URL:https://gracewindsor.org/event/alcoholics-anonymous-meeting/2026-02-09/
LOCATION:Grace Church Lower Parish Hall\, 311 Broad Streeet\, Windsor\,\, Connecticut\, 06095
CATEGORIES:Meetings
ATTACH;FMTTYPE=image/jpeg:https://gracewindsor.org/wp-content/uploads/2023/06/AA-logo-cat-icon.jpg
END:VEVENT
BEGIN:VEVENT
DTSTART;TZID=America/New_York:20260203T180000
DTEND;TZID=America/New_York:20260203T190000
DTSTAMP:20260421T073121
CREATED:20240920T194545Z
LAST-MODIFIED:20241117T140913Z
UID:10006866-1770141600-1770145200@gracewindsor.org
SUMMARY:BSA\, Troop 1149
DESCRIPTION:
URL:https://gracewindsor.org/event/bsa-troop-1149-4/2026-02-03/
LOCATION:Grace Church Lower Parish Hall\, 311 Broad Streeet\, Windsor\,\, Connecticut\, 06095
CATEGORIES:Meetings
ATTACH;FMTTYPE=image/png:https://gracewindsor.org/wp-content/uploads/2023/10/March-29-2024-7.png
END:VEVENT
BEGIN:VEVENT
DTSTART;TZID=America/New_York:20260202T190000
DTEND;TZID=America/New_York:20260202T200000
DTSTAMP:20260421T073121
CREATED:20230624T192836Z
LAST-MODIFIED:20240427T141930Z
UID:10003977-1770058800-1770062400@gracewindsor.org
SUMMARY:Alcoholics Anonymous Meeting
DESCRIPTION:
URL:https://gracewindsor.org/event/alcoholics-anonymous-meeting/2026-02-02/
LOCATION:Grace Church Lower Parish Hall\, 311 Broad Streeet\, Windsor\,\, Connecticut\, 06095
CATEGORIES:Meetings
ATTACH;FMTTYPE=image/jpeg:https://gracewindsor.org/wp-content/uploads/2023/06/AA-logo-cat-icon.jpg
END:VEVENT
BEGIN:VEVENT
DTSTART;TZID=America/New_York:20260127T180000
DTEND;TZID=America/New_York:20260127T190000
DTSTAMP:20260421T073121
CREATED:20240920T194545Z
LAST-MODIFIED:20241117T140913Z
UID:10006865-1769536800-1769540400@gracewindsor.org
SUMMARY:BSA\, Troop 1149
DESCRIPTION:
URL:https://gracewindsor.org/event/bsa-troop-1149-4/2026-01-27/
LOCATION:Grace Church Lower Parish Hall\, 311 Broad Streeet\, Windsor\,\, Connecticut\, 06095
CATEGORIES:Meetings
ATTACH;FMTTYPE=image/png:https://gracewindsor.org/wp-content/uploads/2023/10/March-29-2024-7.png
END:VEVENT
BEGIN:VEVENT
DTSTART;TZID=America/New_York:20260127T130000
DTEND;TZID=America/New_York:20260127T150000
DTSTAMP:20260421T073121
CREATED:20240825T000806Z
LAST-MODIFIED:20241104T162155Z
UID:10000559-1769518800-1769526000@gracewindsor.org
SUMMARY:Grace Church Book Club
DESCRIPTION:
URL:https://gracewindsor.org/event/grace-church-book-club-3/2026-01-27/
LOCATION:Grace Church Lower Parish Hall\, 311 Broad Streeet\, Windsor\,\, Connecticut\, 06095
ATTACH;FMTTYPE=image/png:https://gracewindsor.org/wp-content/uploads/2024/08/Book-1.png
END:VEVENT
BEGIN:VEVENT
DTSTART;TZID=America/New_York:20260126T190000
DTEND;TZID=America/New_York:20260126T200000
DTSTAMP:20260421T073121
CREATED:20230624T192836Z
LAST-MODIFIED:20240427T141930Z
UID:10003976-1769454000-1769457600@gracewindsor.org
SUMMARY:Alcoholics Anonymous Meeting
DESCRIPTION:
URL:https://gracewindsor.org/event/alcoholics-anonymous-meeting/2026-01-26/
LOCATION:Grace Church Lower Parish Hall\, 311 Broad Streeet\, Windsor\,\, Connecticut\, 06095
CATEGORIES:Meetings
ATTACH;FMTTYPE=image/jpeg:https://gracewindsor.org/wp-content/uploads/2023/06/AA-logo-cat-icon.jpg
END:VEVENT
BEGIN:VEVENT
DTSTART;TZID=America/New_York:20260120T180000
DTEND;TZID=America/New_York:20260120T190000
DTSTAMP:20260421T073121
CREATED:20240920T194545Z
LAST-MODIFIED:20241117T140913Z
UID:10006864-1768932000-1768935600@gracewindsor.org
SUMMARY:BSA\, Troop 1149
DESCRIPTION:
URL:https://gracewindsor.org/event/bsa-troop-1149-4/2026-01-20/
LOCATION:Grace Church Lower Parish Hall\, 311 Broad Streeet\, Windsor\,\, Connecticut\, 06095
CATEGORIES:Meetings
ATTACH;FMTTYPE=image/png:https://gracewindsor.org/wp-content/uploads/2023/10/March-29-2024-7.png
END:VEVENT
BEGIN:VEVENT
DTSTART;TZID=America/New_York:20260119T190000
DTEND;TZID=America/New_York:20260119T200000
DTSTAMP:20260421T073121
CREATED:20230624T192836Z
LAST-MODIFIED:20240427T141930Z
UID:10003975-1768849200-1768852800@gracewindsor.org
SUMMARY:Alcoholics Anonymous Meeting
DESCRIPTION:
URL:https://gracewindsor.org/event/alcoholics-anonymous-meeting/2026-01-19/
LOCATION:Grace Church Lower Parish Hall\, 311 Broad Streeet\, Windsor\,\, Connecticut\, 06095
CATEGORIES:Meetings
ATTACH;FMTTYPE=image/jpeg:https://gracewindsor.org/wp-content/uploads/2023/06/AA-logo-cat-icon.jpg
END:VEVENT
END:VCALENDAR