BEGIN:VCALENDAR
VERSION:2.0
PRODID:-//Grace Espicopal Church Windsor Connecticut - ECPv6.15.20//NONSGML v1.0//EN
CALSCALE:GREGORIAN
METHOD:PUBLISH
X-ORIGINAL-URL:https://gracewindsor.org
X-WR-CALDESC:Events for Grace Espicopal Church Windsor Connecticut
REFRESH-INTERVAL;VALUE=DURATION:PT1H
X-Robots-Tag:noindex
X-PUBLISHED-TTL:PT1H
BEGIN:VTIMEZONE
TZID:America/New_York
BEGIN:DAYLIGHT
TZOFFSETFROM:-0500
TZOFFSETTO:-0400
TZNAME:EDT
DTSTART:20280312T070000
END:DAYLIGHT
BEGIN:STANDARD
TZOFFSETFROM:-0400
TZOFFSETTO:-0500
TZNAME:EST
DTSTART:20281105T060000
END:STANDARD
BEGIN:DAYLIGHT
TZOFFSETFROM:-0500
TZOFFSETTO:-0400
TZNAME:EDT
DTSTART:20290311T070000
END:DAYLIGHT
BEGIN:STANDARD
TZOFFSETFROM:-0400
TZOFFSETTO:-0500
TZNAME:EST
DTSTART:20291104T060000
END:STANDARD
BEGIN:DAYLIGHT
TZOFFSETFROM:-0500
TZOFFSETTO:-0400
TZNAME:EDT
DTSTART:20300310T070000
END:DAYLIGHT
BEGIN:STANDARD
TZOFFSETFROM:-0400
TZOFFSETTO:-0500
TZNAME:EST
DTSTART:20301103T060000
END:STANDARD
END:VTIMEZONE
BEGIN:VEVENT
DTSTART;TZID=America/New_York:20290412T190000
DTEND;TZID=America/New_York:20290412T210000
DTSTAMP:20260422T114605
CREATED:20241231T154019Z
LAST-MODIFIED:20250106T004214Z
UID:10007603-1870714800-1870722000@gracewindsor.org
SUMMARY:Choir Rehearsal
DESCRIPTION:
URL:https://gracewindsor.org/event/choir-rehearsal-5/2029-04-12/
LOCATION:Grace Church Sanctuary\, 311 Broad Street\, Windsor\, CT\, 06095\, United States
ATTACH;FMTTYPE=image/jpeg:https://gracewindsor.org/wp-content/uploads/2023/09/choir3_slide.jpg
END:VEVENT
BEGIN:VEVENT
DTSTART;TZID=America/New_York:20290415T100000
DTEND;TZID=America/New_York:20290415T113000
DTSTAMP:20260422T114605
CREATED:20241103T225703Z
LAST-MODIFIED:20241104T161715Z
UID:10006217-1870941600-1870947000@gracewindsor.org
SUMMARY:Holy Eucharist
DESCRIPTION:
URL:https://gracewindsor.org/event/holy-eucharist/2029-04-15/
LOCATION:Grace Church Sanctuary\, 311 Broad Street\, Windsor\, CT\, 06095\, United States
ATTACH;FMTTYPE=image/png:https://gracewindsor.org/wp-content/uploads/2024/02/March-29-2024-14.png
END:VEVENT
BEGIN:VEVENT
DTSTART;TZID=America/New_York:20290419T190000
DTEND;TZID=America/New_York:20290419T210000
DTSTAMP:20260422T114605
CREATED:20241231T154019Z
LAST-MODIFIED:20250106T004214Z
UID:10007604-1871319600-1871326800@gracewindsor.org
SUMMARY:Choir Rehearsal
DESCRIPTION:
URL:https://gracewindsor.org/event/choir-rehearsal-5/2029-04-19/
LOCATION:Grace Church Sanctuary\, 311 Broad Street\, Windsor\, CT\, 06095\, United States
ATTACH;FMTTYPE=image/jpeg:https://gracewindsor.org/wp-content/uploads/2023/09/choir3_slide.jpg
END:VEVENT
BEGIN:VEVENT
DTSTART;TZID=America/New_York:20290422T100000
DTEND;TZID=America/New_York:20290422T113000
DTSTAMP:20260422T114605
CREATED:20241103T225703Z
LAST-MODIFIED:20241104T161715Z
UID:10006218-1871546400-1871551800@gracewindsor.org
SUMMARY:Holy Eucharist
DESCRIPTION:
URL:https://gracewindsor.org/event/holy-eucharist/2029-04-22/
LOCATION:Grace Church Sanctuary\, 311 Broad Street\, Windsor\, CT\, 06095\, United States
ATTACH;FMTTYPE=image/png:https://gracewindsor.org/wp-content/uploads/2024/02/March-29-2024-14.png
END:VEVENT
BEGIN:VEVENT
DTSTART;TZID=America/New_York:20290426T190000
DTEND;TZID=America/New_York:20290426T210000
DTSTAMP:20260422T114605
CREATED:20241231T154019Z
LAST-MODIFIED:20250106T004214Z
UID:10007605-1871924400-1871931600@gracewindsor.org
SUMMARY:Choir Rehearsal
DESCRIPTION:
URL:https://gracewindsor.org/event/choir-rehearsal-5/2029-04-26/
LOCATION:Grace Church Sanctuary\, 311 Broad Street\, Windsor\, CT\, 06095\, United States
ATTACH;FMTTYPE=image/jpeg:https://gracewindsor.org/wp-content/uploads/2023/09/choir3_slide.jpg
END:VEVENT
BEGIN:VEVENT
DTSTART;TZID=America/New_York:20290429T100000
DTEND;TZID=America/New_York:20290429T113000
DTSTAMP:20260422T114605
CREATED:20241103T225703Z
LAST-MODIFIED:20241104T161715Z
UID:10006219-1872151200-1872156600@gracewindsor.org
SUMMARY:Holy Eucharist
DESCRIPTION:
URL:https://gracewindsor.org/event/holy-eucharist/2029-04-29/
LOCATION:Grace Church Sanctuary\, 311 Broad Street\, Windsor\, CT\, 06095\, United States
ATTACH;FMTTYPE=image/png:https://gracewindsor.org/wp-content/uploads/2024/02/March-29-2024-14.png
END:VEVENT
BEGIN:VEVENT
DTSTART;TZID=America/New_York:20290503T190000
DTEND;TZID=America/New_York:20290503T210000
DTSTAMP:20260422T114605
CREATED:20241231T154019Z
LAST-MODIFIED:20250106T004214Z
UID:10007606-1872529200-1872536400@gracewindsor.org
SUMMARY:Choir Rehearsal
DESCRIPTION:
URL:https://gracewindsor.org/event/choir-rehearsal-5/2029-05-03/
LOCATION:Grace Church Sanctuary\, 311 Broad Street\, Windsor\, CT\, 06095\, United States
ATTACH;FMTTYPE=image/jpeg:https://gracewindsor.org/wp-content/uploads/2023/09/choir3_slide.jpg
END:VEVENT
BEGIN:VEVENT
DTSTART;TZID=America/New_York:20290506T100000
DTEND;TZID=America/New_York:20290506T113000
DTSTAMP:20260422T114605
CREATED:20241103T225703Z
LAST-MODIFIED:20241104T161715Z
UID:10006220-1872756000-1872761400@gracewindsor.org
SUMMARY:Holy Eucharist
DESCRIPTION:
URL:https://gracewindsor.org/event/holy-eucharist/2029-05-06/
LOCATION:Grace Church Sanctuary\, 311 Broad Street\, Windsor\, CT\, 06095\, United States
ATTACH;FMTTYPE=image/png:https://gracewindsor.org/wp-content/uploads/2024/02/March-29-2024-14.png
END:VEVENT
BEGIN:VEVENT
DTSTART;TZID=America/New_York:20290510T190000
DTEND;TZID=America/New_York:20290510T210000
DTSTAMP:20260422T114605
CREATED:20241231T154019Z
LAST-MODIFIED:20250106T004214Z
UID:10007607-1873134000-1873141200@gracewindsor.org
SUMMARY:Choir Rehearsal
DESCRIPTION:
URL:https://gracewindsor.org/event/choir-rehearsal-5/2029-05-10/
LOCATION:Grace Church Sanctuary\, 311 Broad Street\, Windsor\, CT\, 06095\, United States
ATTACH;FMTTYPE=image/jpeg:https://gracewindsor.org/wp-content/uploads/2023/09/choir3_slide.jpg
END:VEVENT
BEGIN:VEVENT
DTSTART;TZID=America/New_York:20290513T100000
DTEND;TZID=America/New_York:20290513T113000
DTSTAMP:20260422T114605
CREATED:20241103T225703Z
LAST-MODIFIED:20241104T161715Z
UID:10006221-1873360800-1873366200@gracewindsor.org
SUMMARY:Holy Eucharist
DESCRIPTION:
URL:https://gracewindsor.org/event/holy-eucharist/2029-05-13/
LOCATION:Grace Church Sanctuary\, 311 Broad Street\, Windsor\, CT\, 06095\, United States
ATTACH;FMTTYPE=image/png:https://gracewindsor.org/wp-content/uploads/2024/02/March-29-2024-14.png
END:VEVENT
BEGIN:VEVENT
DTSTART;TZID=America/New_York:20290517T190000
DTEND;TZID=America/New_York:20290517T210000
DTSTAMP:20260422T114605
CREATED:20241231T154019Z
LAST-MODIFIED:20250106T004214Z
UID:10007608-1873738800-1873746000@gracewindsor.org
SUMMARY:Choir Rehearsal
DESCRIPTION:
URL:https://gracewindsor.org/event/choir-rehearsal-5/2029-05-17/
LOCATION:Grace Church Sanctuary\, 311 Broad Street\, Windsor\, CT\, 06095\, United States
ATTACH;FMTTYPE=image/jpeg:https://gracewindsor.org/wp-content/uploads/2023/09/choir3_slide.jpg
END:VEVENT
BEGIN:VEVENT
DTSTART;TZID=America/New_York:20290520T100000
DTEND;TZID=America/New_York:20290520T113000
DTSTAMP:20260422T114605
CREATED:20241103T225703Z
LAST-MODIFIED:20241104T161715Z
UID:10006222-1873965600-1873971000@gracewindsor.org
SUMMARY:Holy Eucharist
DESCRIPTION:
URL:https://gracewindsor.org/event/holy-eucharist/2029-05-20/
LOCATION:Grace Church Sanctuary\, 311 Broad Street\, Windsor\, CT\, 06095\, United States
ATTACH;FMTTYPE=image/png:https://gracewindsor.org/wp-content/uploads/2024/02/March-29-2024-14.png
END:VEVENT
BEGIN:VEVENT
DTSTART;TZID=America/New_York:20290524T190000
DTEND;TZID=America/New_York:20290524T210000
DTSTAMP:20260422T114605
CREATED:20241231T154019Z
LAST-MODIFIED:20250106T004214Z
UID:10007609-1874343600-1874350800@gracewindsor.org
SUMMARY:Choir Rehearsal
DESCRIPTION:
URL:https://gracewindsor.org/event/choir-rehearsal-5/2029-05-24/
LOCATION:Grace Church Sanctuary\, 311 Broad Street\, Windsor\, CT\, 06095\, United States
ATTACH;FMTTYPE=image/jpeg:https://gracewindsor.org/wp-content/uploads/2023/09/choir3_slide.jpg
END:VEVENT
BEGIN:VEVENT
DTSTART;TZID=America/New_York:20290527T100000
DTEND;TZID=America/New_York:20290527T113000
DTSTAMP:20260422T114605
CREATED:20241103T225703Z
LAST-MODIFIED:20241104T161715Z
UID:10006223-1874570400-1874575800@gracewindsor.org
SUMMARY:Holy Eucharist
DESCRIPTION:
URL:https://gracewindsor.org/event/holy-eucharist/2029-05-27/
LOCATION:Grace Church Sanctuary\, 311 Broad Street\, Windsor\, CT\, 06095\, United States
ATTACH;FMTTYPE=image/png:https://gracewindsor.org/wp-content/uploads/2024/02/March-29-2024-14.png
END:VEVENT
BEGIN:VEVENT
DTSTART;TZID=America/New_York:20290531T190000
DTEND;TZID=America/New_York:20290531T210000
DTSTAMP:20260422T114605
CREATED:20241231T154019Z
LAST-MODIFIED:20250106T004214Z
UID:10007610-1874948400-1874955600@gracewindsor.org
SUMMARY:Choir Rehearsal
DESCRIPTION:
URL:https://gracewindsor.org/event/choir-rehearsal-5/2029-05-31/
LOCATION:Grace Church Sanctuary\, 311 Broad Street\, Windsor\, CT\, 06095\, United States
ATTACH;FMTTYPE=image/jpeg:https://gracewindsor.org/wp-content/uploads/2023/09/choir3_slide.jpg
END:VEVENT
BEGIN:VEVENT
DTSTART;TZID=America/New_York:20290603T100000
DTEND;TZID=America/New_York:20290603T113000
DTSTAMP:20260422T114605
CREATED:20241103T225703Z
LAST-MODIFIED:20241104T161715Z
UID:10006224-1875175200-1875180600@gracewindsor.org
SUMMARY:Holy Eucharist
DESCRIPTION:
URL:https://gracewindsor.org/event/holy-eucharist/2029-06-03/
LOCATION:Grace Church Sanctuary\, 311 Broad Street\, Windsor\, CT\, 06095\, United States
ATTACH;FMTTYPE=image/png:https://gracewindsor.org/wp-content/uploads/2024/02/March-29-2024-14.png
END:VEVENT
BEGIN:VEVENT
DTSTART;TZID=America/New_York:20290607T190000
DTEND;TZID=America/New_York:20290607T210000
DTSTAMP:20260422T114605
CREATED:20241231T154019Z
LAST-MODIFIED:20250106T004214Z
UID:10007611-1875553200-1875560400@gracewindsor.org
SUMMARY:Choir Rehearsal
DESCRIPTION:
URL:https://gracewindsor.org/event/choir-rehearsal-5/2029-06-07/
LOCATION:Grace Church Sanctuary\, 311 Broad Street\, Windsor\, CT\, 06095\, United States
ATTACH;FMTTYPE=image/jpeg:https://gracewindsor.org/wp-content/uploads/2023/09/choir3_slide.jpg
END:VEVENT
BEGIN:VEVENT
DTSTART;TZID=America/New_York:20290610T100000
DTEND;TZID=America/New_York:20290610T113000
DTSTAMP:20260422T114605
CREATED:20241103T225703Z
LAST-MODIFIED:20241104T161715Z
UID:10006225-1875780000-1875785400@gracewindsor.org
SUMMARY:Holy Eucharist
DESCRIPTION:
URL:https://gracewindsor.org/event/holy-eucharist/2029-06-10/
LOCATION:Grace Church Sanctuary\, 311 Broad Street\, Windsor\, CT\, 06095\, United States
ATTACH;FMTTYPE=image/png:https://gracewindsor.org/wp-content/uploads/2024/02/March-29-2024-14.png
END:VEVENT
BEGIN:VEVENT
DTSTART;TZID=America/New_York:20290614T190000
DTEND;TZID=America/New_York:20290614T210000
DTSTAMP:20260422T114605
CREATED:20241231T154019Z
LAST-MODIFIED:20250106T004214Z
UID:10007612-1876158000-1876165200@gracewindsor.org
SUMMARY:Choir Rehearsal
DESCRIPTION:
URL:https://gracewindsor.org/event/choir-rehearsal-5/2029-06-14/
LOCATION:Grace Church Sanctuary\, 311 Broad Street\, Windsor\, CT\, 06095\, United States
ATTACH;FMTTYPE=image/jpeg:https://gracewindsor.org/wp-content/uploads/2023/09/choir3_slide.jpg
END:VEVENT
BEGIN:VEVENT
DTSTART;TZID=America/New_York:20290617T100000
DTEND;TZID=America/New_York:20290617T113000
DTSTAMP:20260422T114605
CREATED:20241103T225703Z
LAST-MODIFIED:20241104T161715Z
UID:10006226-1876384800-1876390200@gracewindsor.org
SUMMARY:Holy Eucharist
DESCRIPTION:
URL:https://gracewindsor.org/event/holy-eucharist/2029-06-17/
LOCATION:Grace Church Sanctuary\, 311 Broad Street\, Windsor\, CT\, 06095\, United States
ATTACH;FMTTYPE=image/png:https://gracewindsor.org/wp-content/uploads/2024/02/March-29-2024-14.png
END:VEVENT
BEGIN:VEVENT
DTSTART;TZID=America/New_York:20290621T190000
DTEND;TZID=America/New_York:20290621T210000
DTSTAMP:20260422T114605
CREATED:20241231T154019Z
LAST-MODIFIED:20250106T004214Z
UID:10007613-1876762800-1876770000@gracewindsor.org
SUMMARY:Choir Rehearsal
DESCRIPTION:
URL:https://gracewindsor.org/event/choir-rehearsal-5/2029-06-21/
LOCATION:Grace Church Sanctuary\, 311 Broad Street\, Windsor\, CT\, 06095\, United States
ATTACH;FMTTYPE=image/jpeg:https://gracewindsor.org/wp-content/uploads/2023/09/choir3_slide.jpg
END:VEVENT
BEGIN:VEVENT
DTSTART;TZID=America/New_York:20290624T100000
DTEND;TZID=America/New_York:20290624T113000
DTSTAMP:20260422T114605
CREATED:20241103T225703Z
LAST-MODIFIED:20241104T161715Z
UID:10006227-1876989600-1876995000@gracewindsor.org
SUMMARY:Holy Eucharist
DESCRIPTION:
URL:https://gracewindsor.org/event/holy-eucharist/2029-06-24/
LOCATION:Grace Church Sanctuary\, 311 Broad Street\, Windsor\, CT\, 06095\, United States
ATTACH;FMTTYPE=image/png:https://gracewindsor.org/wp-content/uploads/2024/02/March-29-2024-14.png
END:VEVENT
BEGIN:VEVENT
DTSTART;TZID=America/New_York:20290628T190000
DTEND;TZID=America/New_York:20290628T210000
DTSTAMP:20260422T114605
CREATED:20241231T154019Z
LAST-MODIFIED:20250106T004214Z
UID:10007614-1877367600-1877374800@gracewindsor.org
SUMMARY:Choir Rehearsal
DESCRIPTION:
URL:https://gracewindsor.org/event/choir-rehearsal-5/2029-06-28/
LOCATION:Grace Church Sanctuary\, 311 Broad Street\, Windsor\, CT\, 06095\, United States
ATTACH;FMTTYPE=image/jpeg:https://gracewindsor.org/wp-content/uploads/2023/09/choir3_slide.jpg
END:VEVENT
BEGIN:VEVENT
DTSTART;TZID=America/New_York:20290701T100000
DTEND;TZID=America/New_York:20290701T113000
DTSTAMP:20260422T114605
CREATED:20241103T225703Z
LAST-MODIFIED:20241104T161715Z
UID:10006228-1877594400-1877599800@gracewindsor.org
SUMMARY:Holy Eucharist
DESCRIPTION:
URL:https://gracewindsor.org/event/holy-eucharist/2029-07-01/
LOCATION:Grace Church Sanctuary\, 311 Broad Street\, Windsor\, CT\, 06095\, United States
ATTACH;FMTTYPE=image/png:https://gracewindsor.org/wp-content/uploads/2024/02/March-29-2024-14.png
END:VEVENT
BEGIN:VEVENT
DTSTART;TZID=America/New_York:20290705T190000
DTEND;TZID=America/New_York:20290705T210000
DTSTAMP:20260422T114605
CREATED:20241231T154019Z
LAST-MODIFIED:20250106T004214Z
UID:10007615-1877972400-1877979600@gracewindsor.org
SUMMARY:Choir Rehearsal
DESCRIPTION:
URL:https://gracewindsor.org/event/choir-rehearsal-5/2029-07-05/
LOCATION:Grace Church Sanctuary\, 311 Broad Street\, Windsor\, CT\, 06095\, United States
ATTACH;FMTTYPE=image/jpeg:https://gracewindsor.org/wp-content/uploads/2023/09/choir3_slide.jpg
END:VEVENT
BEGIN:VEVENT
DTSTART;TZID=America/New_York:20290708T100000
DTEND;TZID=America/New_York:20290708T113000
DTSTAMP:20260422T114605
CREATED:20241103T225703Z
LAST-MODIFIED:20241104T161715Z
UID:10006229-1878199200-1878204600@gracewindsor.org
SUMMARY:Holy Eucharist
DESCRIPTION:
URL:https://gracewindsor.org/event/holy-eucharist/2029-07-08/
LOCATION:Grace Church Sanctuary\, 311 Broad Street\, Windsor\, CT\, 06095\, United States
ATTACH;FMTTYPE=image/png:https://gracewindsor.org/wp-content/uploads/2024/02/March-29-2024-14.png
END:VEVENT
BEGIN:VEVENT
DTSTART;TZID=America/New_York:20290712T190000
DTEND;TZID=America/New_York:20290712T210000
DTSTAMP:20260422T114605
CREATED:20241231T154019Z
LAST-MODIFIED:20250106T004214Z
UID:10007616-1878577200-1878584400@gracewindsor.org
SUMMARY:Choir Rehearsal
DESCRIPTION:
URL:https://gracewindsor.org/event/choir-rehearsal-5/2029-07-12/
LOCATION:Grace Church Sanctuary\, 311 Broad Street\, Windsor\, CT\, 06095\, United States
ATTACH;FMTTYPE=image/jpeg:https://gracewindsor.org/wp-content/uploads/2023/09/choir3_slide.jpg
END:VEVENT
BEGIN:VEVENT
DTSTART;TZID=America/New_York:20290715T100000
DTEND;TZID=America/New_York:20290715T113000
DTSTAMP:20260422T114605
CREATED:20241103T225703Z
LAST-MODIFIED:20241104T161715Z
UID:10006230-1878804000-1878809400@gracewindsor.org
SUMMARY:Holy Eucharist
DESCRIPTION:
URL:https://gracewindsor.org/event/holy-eucharist/2029-07-15/
LOCATION:Grace Church Sanctuary\, 311 Broad Street\, Windsor\, CT\, 06095\, United States
ATTACH;FMTTYPE=image/png:https://gracewindsor.org/wp-content/uploads/2024/02/March-29-2024-14.png
END:VEVENT
BEGIN:VEVENT
DTSTART;TZID=America/New_York:20290719T190000
DTEND;TZID=America/New_York:20290719T210000
DTSTAMP:20260422T114605
CREATED:20241231T154019Z
LAST-MODIFIED:20250106T004214Z
UID:10007617-1879182000-1879189200@gracewindsor.org
SUMMARY:Choir Rehearsal
DESCRIPTION:
URL:https://gracewindsor.org/event/choir-rehearsal-5/2029-07-19/
LOCATION:Grace Church Sanctuary\, 311 Broad Street\, Windsor\, CT\, 06095\, United States
ATTACH;FMTTYPE=image/jpeg:https://gracewindsor.org/wp-content/uploads/2023/09/choir3_slide.jpg
END:VEVENT
BEGIN:VEVENT
DTSTART;TZID=America/New_York:20290722T100000
DTEND;TZID=America/New_York:20290722T113000
DTSTAMP:20260422T114605
CREATED:20241103T225703Z
LAST-MODIFIED:20241104T161715Z
UID:10006231-1879408800-1879414200@gracewindsor.org
SUMMARY:Holy Eucharist
DESCRIPTION:
URL:https://gracewindsor.org/event/holy-eucharist/2029-07-22/
LOCATION:Grace Church Sanctuary\, 311 Broad Street\, Windsor\, CT\, 06095\, United States
ATTACH;FMTTYPE=image/png:https://gracewindsor.org/wp-content/uploads/2024/02/March-29-2024-14.png
END:VEVENT
END:VCALENDAR