BEGIN:VCALENDAR
VERSION:2.0
PRODID:-//Grace Espicopal Church Windsor Connecticut - ECPv6.15.20//NONSGML v1.0//EN
CALSCALE:GREGORIAN
METHOD:PUBLISH
X-ORIGINAL-URL:https://gracewindsor.org
X-WR-CALDESC:Events for Grace Espicopal Church Windsor Connecticut
REFRESH-INTERVAL;VALUE=DURATION:PT1H
X-Robots-Tag:noindex
X-PUBLISHED-TTL:PT1H
BEGIN:VTIMEZONE
TZID:America/New_York
BEGIN:DAYLIGHT
TZOFFSETFROM:-0500
TZOFFSETTO:-0400
TZNAME:EDT
DTSTART:20270314T070000
END:DAYLIGHT
BEGIN:STANDARD
TZOFFSETFROM:-0400
TZOFFSETTO:-0500
TZNAME:EST
DTSTART:20271107T060000
END:STANDARD
BEGIN:DAYLIGHT
TZOFFSETFROM:-0500
TZOFFSETTO:-0400
TZNAME:EDT
DTSTART:20280312T070000
END:DAYLIGHT
BEGIN:STANDARD
TZOFFSETFROM:-0400
TZOFFSETTO:-0500
TZNAME:EST
DTSTART:20281105T060000
END:STANDARD
BEGIN:DAYLIGHT
TZOFFSETFROM:-0500
TZOFFSETTO:-0400
TZNAME:EDT
DTSTART:20290311T070000
END:DAYLIGHT
BEGIN:STANDARD
TZOFFSETFROM:-0400
TZOFFSETTO:-0500
TZNAME:EST
DTSTART:20291104T060000
END:STANDARD
BEGIN:DAYLIGHT
TZOFFSETFROM:-0500
TZOFFSETTO:-0400
TZNAME:EDT
DTSTART:20300310T070000
END:DAYLIGHT
BEGIN:STANDARD
TZOFFSETFROM:-0400
TZOFFSETTO:-0500
TZNAME:EST
DTSTART:20301103T060000
END:STANDARD
END:VTIMEZONE
BEGIN:VEVENT
DTSTART;TZID=America/New_York:20281123T190000
DTEND;TZID=America/New_York:20281123T210000
DTSTAMP:20260422T042005
CREATED:20241231T154019Z
LAST-MODIFIED:20250106T004214Z
UID:10007583-1858618800-1858626000@gracewindsor.org
SUMMARY:Choir Rehearsal
DESCRIPTION:
URL:https://gracewindsor.org/event/choir-rehearsal-5/2028-11-23/
LOCATION:Grace Church Sanctuary\, 311 Broad Street\, Windsor\, CT\, 06095\, United States
ATTACH;FMTTYPE=image/jpeg:https://gracewindsor.org/wp-content/uploads/2023/09/choir3_slide.jpg
END:VEVENT
BEGIN:VEVENT
DTSTART;TZID=America/New_York:20281126T100000
DTEND;TZID=America/New_York:20281126T113000
DTSTAMP:20260422T042005
CREATED:20241103T225703Z
LAST-MODIFIED:20241104T161715Z
UID:10006197-1858845600-1858851000@gracewindsor.org
SUMMARY:Holy Eucharist
DESCRIPTION:
URL:https://gracewindsor.org/event/holy-eucharist/2028-11-26/
LOCATION:Grace Church Sanctuary\, 311 Broad Street\, Windsor\, CT\, 06095\, United States
ATTACH;FMTTYPE=image/png:https://gracewindsor.org/wp-content/uploads/2024/02/March-29-2024-14.png
END:VEVENT
BEGIN:VEVENT
DTSTART;TZID=America/New_York:20281130T190000
DTEND;TZID=America/New_York:20281130T210000
DTSTAMP:20260422T042005
CREATED:20241231T154019Z
LAST-MODIFIED:20250106T004214Z
UID:10007584-1859223600-1859230800@gracewindsor.org
SUMMARY:Choir Rehearsal
DESCRIPTION:
URL:https://gracewindsor.org/event/choir-rehearsal-5/2028-11-30/
LOCATION:Grace Church Sanctuary\, 311 Broad Street\, Windsor\, CT\, 06095\, United States
ATTACH;FMTTYPE=image/jpeg:https://gracewindsor.org/wp-content/uploads/2023/09/choir3_slide.jpg
END:VEVENT
BEGIN:VEVENT
DTSTART;TZID=America/New_York:20281203T100000
DTEND;TZID=America/New_York:20281203T113000
DTSTAMP:20260422T042005
CREATED:20241103T225703Z
LAST-MODIFIED:20241104T161715Z
UID:10006198-1859450400-1859455800@gracewindsor.org
SUMMARY:Holy Eucharist
DESCRIPTION:
URL:https://gracewindsor.org/event/holy-eucharist/2028-12-03/
LOCATION:Grace Church Sanctuary\, 311 Broad Street\, Windsor\, CT\, 06095\, United States
ATTACH;FMTTYPE=image/png:https://gracewindsor.org/wp-content/uploads/2024/02/March-29-2024-14.png
END:VEVENT
BEGIN:VEVENT
DTSTART;TZID=America/New_York:20281207T190000
DTEND;TZID=America/New_York:20281207T210000
DTSTAMP:20260422T042005
CREATED:20241231T154019Z
LAST-MODIFIED:20250106T004214Z
UID:10007585-1859828400-1859835600@gracewindsor.org
SUMMARY:Choir Rehearsal
DESCRIPTION:
URL:https://gracewindsor.org/event/choir-rehearsal-5/2028-12-07/
LOCATION:Grace Church Sanctuary\, 311 Broad Street\, Windsor\, CT\, 06095\, United States
ATTACH;FMTTYPE=image/jpeg:https://gracewindsor.org/wp-content/uploads/2023/09/choir3_slide.jpg
END:VEVENT
BEGIN:VEVENT
DTSTART;TZID=America/New_York:20281210T100000
DTEND;TZID=America/New_York:20281210T113000
DTSTAMP:20260422T042005
CREATED:20241103T225703Z
LAST-MODIFIED:20241104T161715Z
UID:10006199-1860055200-1860060600@gracewindsor.org
SUMMARY:Holy Eucharist
DESCRIPTION:
URL:https://gracewindsor.org/event/holy-eucharist/2028-12-10/
LOCATION:Grace Church Sanctuary\, 311 Broad Street\, Windsor\, CT\, 06095\, United States
ATTACH;FMTTYPE=image/png:https://gracewindsor.org/wp-content/uploads/2024/02/March-29-2024-14.png
END:VEVENT
BEGIN:VEVENT
DTSTART;TZID=America/New_York:20281214T190000
DTEND;TZID=America/New_York:20281214T210000
DTSTAMP:20260422T042005
CREATED:20241231T154019Z
LAST-MODIFIED:20250106T004214Z
UID:10007586-1860433200-1860440400@gracewindsor.org
SUMMARY:Choir Rehearsal
DESCRIPTION:
URL:https://gracewindsor.org/event/choir-rehearsal-5/2028-12-14/
LOCATION:Grace Church Sanctuary\, 311 Broad Street\, Windsor\, CT\, 06095\, United States
ATTACH;FMTTYPE=image/jpeg:https://gracewindsor.org/wp-content/uploads/2023/09/choir3_slide.jpg
END:VEVENT
BEGIN:VEVENT
DTSTART;TZID=America/New_York:20281217T100000
DTEND;TZID=America/New_York:20281217T113000
DTSTAMP:20260422T042005
CREATED:20241103T225703Z
LAST-MODIFIED:20241104T161715Z
UID:10006200-1860660000-1860665400@gracewindsor.org
SUMMARY:Holy Eucharist
DESCRIPTION:
URL:https://gracewindsor.org/event/holy-eucharist/2028-12-17/
LOCATION:Grace Church Sanctuary\, 311 Broad Street\, Windsor\, CT\, 06095\, United States
ATTACH;FMTTYPE=image/png:https://gracewindsor.org/wp-content/uploads/2024/02/March-29-2024-14.png
END:VEVENT
BEGIN:VEVENT
DTSTART;TZID=America/New_York:20281221T190000
DTEND;TZID=America/New_York:20281221T210000
DTSTAMP:20260422T042005
CREATED:20241231T154019Z
LAST-MODIFIED:20250106T004214Z
UID:10007587-1861038000-1861045200@gracewindsor.org
SUMMARY:Choir Rehearsal
DESCRIPTION:
URL:https://gracewindsor.org/event/choir-rehearsal-5/2028-12-21/
LOCATION:Grace Church Sanctuary\, 311 Broad Street\, Windsor\, CT\, 06095\, United States
ATTACH;FMTTYPE=image/jpeg:https://gracewindsor.org/wp-content/uploads/2023/09/choir3_slide.jpg
END:VEVENT
BEGIN:VEVENT
DTSTART;TZID=America/New_York:20281224T100000
DTEND;TZID=America/New_York:20281224T113000
DTSTAMP:20260422T042005
CREATED:20241103T225703Z
LAST-MODIFIED:20241104T161715Z
UID:10006201-1861264800-1861270200@gracewindsor.org
SUMMARY:Holy Eucharist
DESCRIPTION:
URL:https://gracewindsor.org/event/holy-eucharist/2028-12-24/
LOCATION:Grace Church Sanctuary\, 311 Broad Street\, Windsor\, CT\, 06095\, United States
ATTACH;FMTTYPE=image/png:https://gracewindsor.org/wp-content/uploads/2024/02/March-29-2024-14.png
END:VEVENT
BEGIN:VEVENT
DTSTART;TZID=America/New_York:20281228T190000
DTEND;TZID=America/New_York:20281228T210000
DTSTAMP:20260422T042005
CREATED:20241231T154019Z
LAST-MODIFIED:20250106T004214Z
UID:10007588-1861642800-1861650000@gracewindsor.org
SUMMARY:Choir Rehearsal
DESCRIPTION:
URL:https://gracewindsor.org/event/choir-rehearsal-5/2028-12-28/
LOCATION:Grace Church Sanctuary\, 311 Broad Street\, Windsor\, CT\, 06095\, United States
ATTACH;FMTTYPE=image/jpeg:https://gracewindsor.org/wp-content/uploads/2023/09/choir3_slide.jpg
END:VEVENT
BEGIN:VEVENT
DTSTART;TZID=America/New_York:20281231T100000
DTEND;TZID=America/New_York:20281231T113000
DTSTAMP:20260422T042005
CREATED:20241103T225703Z
LAST-MODIFIED:20241104T161715Z
UID:10006202-1861869600-1861875000@gracewindsor.org
SUMMARY:Holy Eucharist
DESCRIPTION:
URL:https://gracewindsor.org/event/holy-eucharist/2028-12-31/
LOCATION:Grace Church Sanctuary\, 311 Broad Street\, Windsor\, CT\, 06095\, United States
ATTACH;FMTTYPE=image/png:https://gracewindsor.org/wp-content/uploads/2024/02/March-29-2024-14.png
END:VEVENT
BEGIN:VEVENT
DTSTART;TZID=America/New_York:20290104T190000
DTEND;TZID=America/New_York:20290104T210000
DTSTAMP:20260422T042005
CREATED:20241231T154019Z
LAST-MODIFIED:20250106T004214Z
UID:10007589-1862247600-1862254800@gracewindsor.org
SUMMARY:Choir Rehearsal
DESCRIPTION:
URL:https://gracewindsor.org/event/choir-rehearsal-5/2029-01-04/
LOCATION:Grace Church Sanctuary\, 311 Broad Street\, Windsor\, CT\, 06095\, United States
ATTACH;FMTTYPE=image/jpeg:https://gracewindsor.org/wp-content/uploads/2023/09/choir3_slide.jpg
END:VEVENT
BEGIN:VEVENT
DTSTART;TZID=America/New_York:20290107T100000
DTEND;TZID=America/New_York:20290107T113000
DTSTAMP:20260422T042005
CREATED:20241103T225703Z
LAST-MODIFIED:20241104T161715Z
UID:10006203-1862474400-1862479800@gracewindsor.org
SUMMARY:Holy Eucharist
DESCRIPTION:
URL:https://gracewindsor.org/event/holy-eucharist/2029-01-07/
LOCATION:Grace Church Sanctuary\, 311 Broad Street\, Windsor\, CT\, 06095\, United States
ATTACH;FMTTYPE=image/png:https://gracewindsor.org/wp-content/uploads/2024/02/March-29-2024-14.png
END:VEVENT
BEGIN:VEVENT
DTSTART;TZID=America/New_York:20290111T190000
DTEND;TZID=America/New_York:20290111T210000
DTSTAMP:20260422T042005
CREATED:20241231T154019Z
LAST-MODIFIED:20250106T004214Z
UID:10007590-1862852400-1862859600@gracewindsor.org
SUMMARY:Choir Rehearsal
DESCRIPTION:
URL:https://gracewindsor.org/event/choir-rehearsal-5/2029-01-11/
LOCATION:Grace Church Sanctuary\, 311 Broad Street\, Windsor\, CT\, 06095\, United States
ATTACH;FMTTYPE=image/jpeg:https://gracewindsor.org/wp-content/uploads/2023/09/choir3_slide.jpg
END:VEVENT
BEGIN:VEVENT
DTSTART;TZID=America/New_York:20290114T100000
DTEND;TZID=America/New_York:20290114T113000
DTSTAMP:20260422T042005
CREATED:20241103T225703Z
LAST-MODIFIED:20241104T161715Z
UID:10006204-1863079200-1863084600@gracewindsor.org
SUMMARY:Holy Eucharist
DESCRIPTION:
URL:https://gracewindsor.org/event/holy-eucharist/2029-01-14/
LOCATION:Grace Church Sanctuary\, 311 Broad Street\, Windsor\, CT\, 06095\, United States
ATTACH;FMTTYPE=image/png:https://gracewindsor.org/wp-content/uploads/2024/02/March-29-2024-14.png
END:VEVENT
BEGIN:VEVENT
DTSTART;TZID=America/New_York:20290118T190000
DTEND;TZID=America/New_York:20290118T210000
DTSTAMP:20260422T042005
CREATED:20241231T154019Z
LAST-MODIFIED:20250106T004214Z
UID:10007591-1863457200-1863464400@gracewindsor.org
SUMMARY:Choir Rehearsal
DESCRIPTION:
URL:https://gracewindsor.org/event/choir-rehearsal-5/2029-01-18/
LOCATION:Grace Church Sanctuary\, 311 Broad Street\, Windsor\, CT\, 06095\, United States
ATTACH;FMTTYPE=image/jpeg:https://gracewindsor.org/wp-content/uploads/2023/09/choir3_slide.jpg
END:VEVENT
BEGIN:VEVENT
DTSTART;TZID=America/New_York:20290121T100000
DTEND;TZID=America/New_York:20290121T113000
DTSTAMP:20260422T042005
CREATED:20241103T225703Z
LAST-MODIFIED:20241104T161715Z
UID:10006205-1863684000-1863689400@gracewindsor.org
SUMMARY:Holy Eucharist
DESCRIPTION:
URL:https://gracewindsor.org/event/holy-eucharist/2029-01-21/
LOCATION:Grace Church Sanctuary\, 311 Broad Street\, Windsor\, CT\, 06095\, United States
ATTACH;FMTTYPE=image/png:https://gracewindsor.org/wp-content/uploads/2024/02/March-29-2024-14.png
END:VEVENT
BEGIN:VEVENT
DTSTART;TZID=America/New_York:20290125T190000
DTEND;TZID=America/New_York:20290125T210000
DTSTAMP:20260422T042005
CREATED:20241231T154019Z
LAST-MODIFIED:20250106T004214Z
UID:10007592-1864062000-1864069200@gracewindsor.org
SUMMARY:Choir Rehearsal
DESCRIPTION:
URL:https://gracewindsor.org/event/choir-rehearsal-5/2029-01-25/
LOCATION:Grace Church Sanctuary\, 311 Broad Street\, Windsor\, CT\, 06095\, United States
ATTACH;FMTTYPE=image/jpeg:https://gracewindsor.org/wp-content/uploads/2023/09/choir3_slide.jpg
END:VEVENT
BEGIN:VEVENT
DTSTART;TZID=America/New_York:20290128T100000
DTEND;TZID=America/New_York:20290128T113000
DTSTAMP:20260422T042005
CREATED:20241103T225703Z
LAST-MODIFIED:20241104T161715Z
UID:10006206-1864288800-1864294200@gracewindsor.org
SUMMARY:Holy Eucharist
DESCRIPTION:
URL:https://gracewindsor.org/event/holy-eucharist/2029-01-28/
LOCATION:Grace Church Sanctuary\, 311 Broad Street\, Windsor\, CT\, 06095\, United States
ATTACH;FMTTYPE=image/png:https://gracewindsor.org/wp-content/uploads/2024/02/March-29-2024-14.png
END:VEVENT
BEGIN:VEVENT
DTSTART;TZID=America/New_York:20290201T190000
DTEND;TZID=America/New_York:20290201T210000
DTSTAMP:20260422T042005
CREATED:20241231T154019Z
LAST-MODIFIED:20250106T004214Z
UID:10007593-1864666800-1864674000@gracewindsor.org
SUMMARY:Choir Rehearsal
DESCRIPTION:
URL:https://gracewindsor.org/event/choir-rehearsal-5/2029-02-01/
LOCATION:Grace Church Sanctuary\, 311 Broad Street\, Windsor\, CT\, 06095\, United States
ATTACH;FMTTYPE=image/jpeg:https://gracewindsor.org/wp-content/uploads/2023/09/choir3_slide.jpg
END:VEVENT
BEGIN:VEVENT
DTSTART;TZID=America/New_York:20290204T100000
DTEND;TZID=America/New_York:20290204T113000
DTSTAMP:20260422T042005
CREATED:20241103T225703Z
LAST-MODIFIED:20241104T161715Z
UID:10006207-1864893600-1864899000@gracewindsor.org
SUMMARY:Holy Eucharist
DESCRIPTION:
URL:https://gracewindsor.org/event/holy-eucharist/2029-02-04/
LOCATION:Grace Church Sanctuary\, 311 Broad Street\, Windsor\, CT\, 06095\, United States
ATTACH;FMTTYPE=image/png:https://gracewindsor.org/wp-content/uploads/2024/02/March-29-2024-14.png
END:VEVENT
BEGIN:VEVENT
DTSTART;TZID=America/New_York:20290208T190000
DTEND;TZID=America/New_York:20290208T210000
DTSTAMP:20260422T042005
CREATED:20241231T154019Z
LAST-MODIFIED:20250106T004214Z
UID:10007594-1865271600-1865278800@gracewindsor.org
SUMMARY:Choir Rehearsal
DESCRIPTION:
URL:https://gracewindsor.org/event/choir-rehearsal-5/2029-02-08/
LOCATION:Grace Church Sanctuary\, 311 Broad Street\, Windsor\, CT\, 06095\, United States
ATTACH;FMTTYPE=image/jpeg:https://gracewindsor.org/wp-content/uploads/2023/09/choir3_slide.jpg
END:VEVENT
BEGIN:VEVENT
DTSTART;TZID=America/New_York:20290211T100000
DTEND;TZID=America/New_York:20290211T113000
DTSTAMP:20260422T042005
CREATED:20241103T225703Z
LAST-MODIFIED:20241104T161715Z
UID:10006208-1865498400-1865503800@gracewindsor.org
SUMMARY:Holy Eucharist
DESCRIPTION:
URL:https://gracewindsor.org/event/holy-eucharist/2029-02-11/
LOCATION:Grace Church Sanctuary\, 311 Broad Street\, Windsor\, CT\, 06095\, United States
ATTACH;FMTTYPE=image/png:https://gracewindsor.org/wp-content/uploads/2024/02/March-29-2024-14.png
END:VEVENT
BEGIN:VEVENT
DTSTART;TZID=America/New_York:20290215T190000
DTEND;TZID=America/New_York:20290215T210000
DTSTAMP:20260422T042005
CREATED:20241231T154019Z
LAST-MODIFIED:20250106T004214Z
UID:10007595-1865876400-1865883600@gracewindsor.org
SUMMARY:Choir Rehearsal
DESCRIPTION:
URL:https://gracewindsor.org/event/choir-rehearsal-5/2029-02-15/
LOCATION:Grace Church Sanctuary\, 311 Broad Street\, Windsor\, CT\, 06095\, United States
ATTACH;FMTTYPE=image/jpeg:https://gracewindsor.org/wp-content/uploads/2023/09/choir3_slide.jpg
END:VEVENT
BEGIN:VEVENT
DTSTART;TZID=America/New_York:20290218T100000
DTEND;TZID=America/New_York:20290218T113000
DTSTAMP:20260422T042005
CREATED:20241103T225703Z
LAST-MODIFIED:20241104T161715Z
UID:10006209-1866103200-1866108600@gracewindsor.org
SUMMARY:Holy Eucharist
DESCRIPTION:
URL:https://gracewindsor.org/event/holy-eucharist/2029-02-18/
LOCATION:Grace Church Sanctuary\, 311 Broad Street\, Windsor\, CT\, 06095\, United States
ATTACH;FMTTYPE=image/png:https://gracewindsor.org/wp-content/uploads/2024/02/March-29-2024-14.png
END:VEVENT
BEGIN:VEVENT
DTSTART;TZID=America/New_York:20290222T190000
DTEND;TZID=America/New_York:20290222T210000
DTSTAMP:20260422T042005
CREATED:20241231T154019Z
LAST-MODIFIED:20250106T004214Z
UID:10007596-1866481200-1866488400@gracewindsor.org
SUMMARY:Choir Rehearsal
DESCRIPTION:
URL:https://gracewindsor.org/event/choir-rehearsal-5/2029-02-22/
LOCATION:Grace Church Sanctuary\, 311 Broad Street\, Windsor\, CT\, 06095\, United States
ATTACH;FMTTYPE=image/jpeg:https://gracewindsor.org/wp-content/uploads/2023/09/choir3_slide.jpg
END:VEVENT
BEGIN:VEVENT
DTSTART;TZID=America/New_York:20290225T100000
DTEND;TZID=America/New_York:20290225T113000
DTSTAMP:20260422T042005
CREATED:20241103T225703Z
LAST-MODIFIED:20241104T161715Z
UID:10006210-1866708000-1866713400@gracewindsor.org
SUMMARY:Holy Eucharist
DESCRIPTION:
URL:https://gracewindsor.org/event/holy-eucharist/2029-02-25/
LOCATION:Grace Church Sanctuary\, 311 Broad Street\, Windsor\, CT\, 06095\, United States
ATTACH;FMTTYPE=image/png:https://gracewindsor.org/wp-content/uploads/2024/02/March-29-2024-14.png
END:VEVENT
BEGIN:VEVENT
DTSTART;TZID=America/New_York:20290301T190000
DTEND;TZID=America/New_York:20290301T210000
DTSTAMP:20260422T042005
CREATED:20241231T154019Z
LAST-MODIFIED:20250106T004214Z
UID:10007597-1867086000-1867093200@gracewindsor.org
SUMMARY:Choir Rehearsal
DESCRIPTION:
URL:https://gracewindsor.org/event/choir-rehearsal-5/2029-03-01/
LOCATION:Grace Church Sanctuary\, 311 Broad Street\, Windsor\, CT\, 06095\, United States
ATTACH;FMTTYPE=image/jpeg:https://gracewindsor.org/wp-content/uploads/2023/09/choir3_slide.jpg
END:VEVENT
BEGIN:VEVENT
DTSTART;TZID=America/New_York:20290304T100000
DTEND;TZID=America/New_York:20290304T113000
DTSTAMP:20260422T042005
CREATED:20241103T225703Z
LAST-MODIFIED:20241104T161715Z
UID:10006211-1867312800-1867318200@gracewindsor.org
SUMMARY:Holy Eucharist
DESCRIPTION:
URL:https://gracewindsor.org/event/holy-eucharist/2029-03-04/
LOCATION:Grace Church Sanctuary\, 311 Broad Street\, Windsor\, CT\, 06095\, United States
ATTACH;FMTTYPE=image/png:https://gracewindsor.org/wp-content/uploads/2024/02/March-29-2024-14.png
END:VEVENT
END:VCALENDAR