BEGIN:VCALENDAR
VERSION:2.0
PRODID:-//Grace Espicopal Church Windsor Connecticut - ECPv6.15.20//NONSGML v1.0//EN
CALSCALE:GREGORIAN
METHOD:PUBLISH
X-WR-CALNAME:Grace Espicopal Church Windsor Connecticut
X-ORIGINAL-URL:https://gracewindsor.org
X-WR-CALDESC:Events for Grace Espicopal Church Windsor Connecticut
REFRESH-INTERVAL;VALUE=DURATION:PT1H
X-Robots-Tag:noindex
X-PUBLISHED-TTL:PT1H
BEGIN:VTIMEZONE
TZID:America/New_York
BEGIN:DAYLIGHT
TZOFFSETFROM:-0500
TZOFFSETTO:-0400
TZNAME:EDT
DTSTART:20270314T070000
END:DAYLIGHT
BEGIN:STANDARD
TZOFFSETFROM:-0400
TZOFFSETTO:-0500
TZNAME:EST
DTSTART:20271107T060000
END:STANDARD
BEGIN:DAYLIGHT
TZOFFSETFROM:-0500
TZOFFSETTO:-0400
TZNAME:EDT
DTSTART:20280312T070000
END:DAYLIGHT
BEGIN:STANDARD
TZOFFSETFROM:-0400
TZOFFSETTO:-0500
TZNAME:EST
DTSTART:20281105T060000
END:STANDARD
BEGIN:DAYLIGHT
TZOFFSETFROM:-0500
TZOFFSETTO:-0400
TZNAME:EDT
DTSTART:20290311T070000
END:DAYLIGHT
BEGIN:STANDARD
TZOFFSETFROM:-0400
TZOFFSETTO:-0500
TZNAME:EST
DTSTART:20291104T060000
END:STANDARD
END:VTIMEZONE
BEGIN:VEVENT
DTSTART;TZID=America/New_York:20280217T190000
DTEND;TZID=America/New_York:20280217T210000
DTSTAMP:20260421T152527
CREATED:20241231T154019Z
LAST-MODIFIED:20250106T004214Z
UID:10007543-1834426800-1834434000@gracewindsor.org
SUMMARY:Choir Rehearsal
DESCRIPTION:
URL:https://gracewindsor.org/event/choir-rehearsal-5/2028-02-17/
LOCATION:Grace Church Sanctuary\, 311 Broad Street\, Windsor\, CT\, 06095\, United States
ATTACH;FMTTYPE=image/jpeg:https://gracewindsor.org/wp-content/uploads/2023/09/choir3_slide.jpg
END:VEVENT
BEGIN:VEVENT
DTSTART;TZID=America/New_York:20280220T100000
DTEND;TZID=America/New_York:20280220T113000
DTSTAMP:20260421T152527
CREATED:20241103T225703Z
LAST-MODIFIED:20241104T161715Z
UID:10006157-1834653600-1834659000@gracewindsor.org
SUMMARY:Holy Eucharist
DESCRIPTION:
URL:https://gracewindsor.org/event/holy-eucharist/2028-02-20/
LOCATION:Grace Church Sanctuary\, 311 Broad Street\, Windsor\, CT\, 06095\, United States
ATTACH;FMTTYPE=image/png:https://gracewindsor.org/wp-content/uploads/2024/02/March-29-2024-14.png
END:VEVENT
BEGIN:VEVENT
DTSTART;TZID=America/New_York:20280224T190000
DTEND;TZID=America/New_York:20280224T210000
DTSTAMP:20260421T152527
CREATED:20241231T154019Z
LAST-MODIFIED:20250106T004214Z
UID:10007544-1835031600-1835038800@gracewindsor.org
SUMMARY:Choir Rehearsal
DESCRIPTION:
URL:https://gracewindsor.org/event/choir-rehearsal-5/2028-02-24/
LOCATION:Grace Church Sanctuary\, 311 Broad Street\, Windsor\, CT\, 06095\, United States
ATTACH;FMTTYPE=image/jpeg:https://gracewindsor.org/wp-content/uploads/2023/09/choir3_slide.jpg
END:VEVENT
BEGIN:VEVENT
DTSTART;TZID=America/New_York:20280227T100000
DTEND;TZID=America/New_York:20280227T113000
DTSTAMP:20260421T152527
CREATED:20241103T225703Z
LAST-MODIFIED:20241104T161715Z
UID:10006158-1835258400-1835263800@gracewindsor.org
SUMMARY:Holy Eucharist
DESCRIPTION:
URL:https://gracewindsor.org/event/holy-eucharist/2028-02-27/
LOCATION:Grace Church Sanctuary\, 311 Broad Street\, Windsor\, CT\, 06095\, United States
ATTACH;FMTTYPE=image/png:https://gracewindsor.org/wp-content/uploads/2024/02/March-29-2024-14.png
END:VEVENT
BEGIN:VEVENT
DTSTART;TZID=America/New_York:20280302T190000
DTEND;TZID=America/New_York:20280302T210000
DTSTAMP:20260421T152527
CREATED:20241231T154019Z
LAST-MODIFIED:20250106T004214Z
UID:10007545-1835636400-1835643600@gracewindsor.org
SUMMARY:Choir Rehearsal
DESCRIPTION:
URL:https://gracewindsor.org/event/choir-rehearsal-5/2028-03-02/
LOCATION:Grace Church Sanctuary\, 311 Broad Street\, Windsor\, CT\, 06095\, United States
ATTACH;FMTTYPE=image/jpeg:https://gracewindsor.org/wp-content/uploads/2023/09/choir3_slide.jpg
END:VEVENT
BEGIN:VEVENT
DTSTART;TZID=America/New_York:20280305T100000
DTEND;TZID=America/New_York:20280305T113000
DTSTAMP:20260421T152527
CREATED:20241103T225703Z
LAST-MODIFIED:20241104T161715Z
UID:10006159-1835863200-1835868600@gracewindsor.org
SUMMARY:Holy Eucharist
DESCRIPTION:
URL:https://gracewindsor.org/event/holy-eucharist/2028-03-05/
LOCATION:Grace Church Sanctuary\, 311 Broad Street\, Windsor\, CT\, 06095\, United States
ATTACH;FMTTYPE=image/png:https://gracewindsor.org/wp-content/uploads/2024/02/March-29-2024-14.png
END:VEVENT
BEGIN:VEVENT
DTSTART;TZID=America/New_York:20280309T190000
DTEND;TZID=America/New_York:20280309T210000
DTSTAMP:20260421T152527
CREATED:20241231T154019Z
LAST-MODIFIED:20250106T004214Z
UID:10007546-1836241200-1836248400@gracewindsor.org
SUMMARY:Choir Rehearsal
DESCRIPTION:
URL:https://gracewindsor.org/event/choir-rehearsal-5/2028-03-09/
LOCATION:Grace Church Sanctuary\, 311 Broad Street\, Windsor\, CT\, 06095\, United States
ATTACH;FMTTYPE=image/jpeg:https://gracewindsor.org/wp-content/uploads/2023/09/choir3_slide.jpg
END:VEVENT
BEGIN:VEVENT
DTSTART;TZID=America/New_York:20280312T100000
DTEND;TZID=America/New_York:20280312T113000
DTSTAMP:20260421T152527
CREATED:20241103T225703Z
LAST-MODIFIED:20241104T161715Z
UID:10006160-1836468000-1836473400@gracewindsor.org
SUMMARY:Holy Eucharist
DESCRIPTION:
URL:https://gracewindsor.org/event/holy-eucharist/2028-03-12/
LOCATION:Grace Church Sanctuary\, 311 Broad Street\, Windsor\, CT\, 06095\, United States
ATTACH;FMTTYPE=image/png:https://gracewindsor.org/wp-content/uploads/2024/02/March-29-2024-14.png
END:VEVENT
BEGIN:VEVENT
DTSTART;TZID=America/New_York:20280316T190000
DTEND;TZID=America/New_York:20280316T210000
DTSTAMP:20260421T152527
CREATED:20241231T154019Z
LAST-MODIFIED:20250106T004214Z
UID:10007547-1836846000-1836853200@gracewindsor.org
SUMMARY:Choir Rehearsal
DESCRIPTION:
URL:https://gracewindsor.org/event/choir-rehearsal-5/2028-03-16/
LOCATION:Grace Church Sanctuary\, 311 Broad Street\, Windsor\, CT\, 06095\, United States
ATTACH;FMTTYPE=image/jpeg:https://gracewindsor.org/wp-content/uploads/2023/09/choir3_slide.jpg
END:VEVENT
BEGIN:VEVENT
DTSTART;TZID=America/New_York:20280319T100000
DTEND;TZID=America/New_York:20280319T113000
DTSTAMP:20260421T152527
CREATED:20241103T225703Z
LAST-MODIFIED:20241104T161715Z
UID:10006161-1837072800-1837078200@gracewindsor.org
SUMMARY:Holy Eucharist
DESCRIPTION:
URL:https://gracewindsor.org/event/holy-eucharist/2028-03-19/
LOCATION:Grace Church Sanctuary\, 311 Broad Street\, Windsor\, CT\, 06095\, United States
ATTACH;FMTTYPE=image/png:https://gracewindsor.org/wp-content/uploads/2024/02/March-29-2024-14.png
END:VEVENT
BEGIN:VEVENT
DTSTART;TZID=America/New_York:20280323T190000
DTEND;TZID=America/New_York:20280323T210000
DTSTAMP:20260421T152527
CREATED:20241231T154019Z
LAST-MODIFIED:20250106T004214Z
UID:10007548-1837450800-1837458000@gracewindsor.org
SUMMARY:Choir Rehearsal
DESCRIPTION:
URL:https://gracewindsor.org/event/choir-rehearsal-5/2028-03-23/
LOCATION:Grace Church Sanctuary\, 311 Broad Street\, Windsor\, CT\, 06095\, United States
ATTACH;FMTTYPE=image/jpeg:https://gracewindsor.org/wp-content/uploads/2023/09/choir3_slide.jpg
END:VEVENT
BEGIN:VEVENT
DTSTART;TZID=America/New_York:20280326T100000
DTEND;TZID=America/New_York:20280326T113000
DTSTAMP:20260421T152527
CREATED:20241103T225703Z
LAST-MODIFIED:20241104T161715Z
UID:10006162-1837677600-1837683000@gracewindsor.org
SUMMARY:Holy Eucharist
DESCRIPTION:
URL:https://gracewindsor.org/event/holy-eucharist/2028-03-26/
LOCATION:Grace Church Sanctuary\, 311 Broad Street\, Windsor\, CT\, 06095\, United States
ATTACH;FMTTYPE=image/png:https://gracewindsor.org/wp-content/uploads/2024/02/March-29-2024-14.png
END:VEVENT
BEGIN:VEVENT
DTSTART;TZID=America/New_York:20280330T190000
DTEND;TZID=America/New_York:20280330T210000
DTSTAMP:20260421T152527
CREATED:20241231T154019Z
LAST-MODIFIED:20250106T004214Z
UID:10007549-1838055600-1838062800@gracewindsor.org
SUMMARY:Choir Rehearsal
DESCRIPTION:
URL:https://gracewindsor.org/event/choir-rehearsal-5/2028-03-30/
LOCATION:Grace Church Sanctuary\, 311 Broad Street\, Windsor\, CT\, 06095\, United States
ATTACH;FMTTYPE=image/jpeg:https://gracewindsor.org/wp-content/uploads/2023/09/choir3_slide.jpg
END:VEVENT
BEGIN:VEVENT
DTSTART;TZID=America/New_York:20280402T100000
DTEND;TZID=America/New_York:20280402T113000
DTSTAMP:20260421T152527
CREATED:20241103T225703Z
LAST-MODIFIED:20241104T161715Z
UID:10006163-1838282400-1838287800@gracewindsor.org
SUMMARY:Holy Eucharist
DESCRIPTION:
URL:https://gracewindsor.org/event/holy-eucharist/2028-04-02/
LOCATION:Grace Church Sanctuary\, 311 Broad Street\, Windsor\, CT\, 06095\, United States
ATTACH;FMTTYPE=image/png:https://gracewindsor.org/wp-content/uploads/2024/02/March-29-2024-14.png
END:VEVENT
BEGIN:VEVENT
DTSTART;TZID=America/New_York:20280406T190000
DTEND;TZID=America/New_York:20280406T210000
DTSTAMP:20260421T152527
CREATED:20241231T154019Z
LAST-MODIFIED:20250106T004214Z
UID:10007550-1838660400-1838667600@gracewindsor.org
SUMMARY:Choir Rehearsal
DESCRIPTION:
URL:https://gracewindsor.org/event/choir-rehearsal-5/2028-04-06/
LOCATION:Grace Church Sanctuary\, 311 Broad Street\, Windsor\, CT\, 06095\, United States
ATTACH;FMTTYPE=image/jpeg:https://gracewindsor.org/wp-content/uploads/2023/09/choir3_slide.jpg
END:VEVENT
BEGIN:VEVENT
DTSTART;TZID=America/New_York:20280409T100000
DTEND;TZID=America/New_York:20280409T113000
DTSTAMP:20260421T152527
CREATED:20241103T225703Z
LAST-MODIFIED:20241104T161715Z
UID:10006164-1838887200-1838892600@gracewindsor.org
SUMMARY:Holy Eucharist
DESCRIPTION:
URL:https://gracewindsor.org/event/holy-eucharist/2028-04-09/
LOCATION:Grace Church Sanctuary\, 311 Broad Street\, Windsor\, CT\, 06095\, United States
ATTACH;FMTTYPE=image/png:https://gracewindsor.org/wp-content/uploads/2024/02/March-29-2024-14.png
END:VEVENT
BEGIN:VEVENT
DTSTART;TZID=America/New_York:20280413T190000
DTEND;TZID=America/New_York:20280413T210000
DTSTAMP:20260421T152527
CREATED:20241231T154019Z
LAST-MODIFIED:20250106T004214Z
UID:10007551-1839265200-1839272400@gracewindsor.org
SUMMARY:Choir Rehearsal
DESCRIPTION:
URL:https://gracewindsor.org/event/choir-rehearsal-5/2028-04-13/
LOCATION:Grace Church Sanctuary\, 311 Broad Street\, Windsor\, CT\, 06095\, United States
ATTACH;FMTTYPE=image/jpeg:https://gracewindsor.org/wp-content/uploads/2023/09/choir3_slide.jpg
END:VEVENT
BEGIN:VEVENT
DTSTART;TZID=America/New_York:20280416T100000
DTEND;TZID=America/New_York:20280416T113000
DTSTAMP:20260421T152527
CREATED:20241103T225703Z
LAST-MODIFIED:20241104T161715Z
UID:10006165-1839492000-1839497400@gracewindsor.org
SUMMARY:Holy Eucharist
DESCRIPTION:
URL:https://gracewindsor.org/event/holy-eucharist/2028-04-16/
LOCATION:Grace Church Sanctuary\, 311 Broad Street\, Windsor\, CT\, 06095\, United States
ATTACH;FMTTYPE=image/png:https://gracewindsor.org/wp-content/uploads/2024/02/March-29-2024-14.png
END:VEVENT
BEGIN:VEVENT
DTSTART;TZID=America/New_York:20280420T190000
DTEND;TZID=America/New_York:20280420T210000
DTSTAMP:20260421T152527
CREATED:20241231T154019Z
LAST-MODIFIED:20250106T004214Z
UID:10007552-1839870000-1839877200@gracewindsor.org
SUMMARY:Choir Rehearsal
DESCRIPTION:
URL:https://gracewindsor.org/event/choir-rehearsal-5/2028-04-20/
LOCATION:Grace Church Sanctuary\, 311 Broad Street\, Windsor\, CT\, 06095\, United States
ATTACH;FMTTYPE=image/jpeg:https://gracewindsor.org/wp-content/uploads/2023/09/choir3_slide.jpg
END:VEVENT
BEGIN:VEVENT
DTSTART;TZID=America/New_York:20280423T100000
DTEND;TZID=America/New_York:20280423T113000
DTSTAMP:20260421T152527
CREATED:20241103T225703Z
LAST-MODIFIED:20241104T161715Z
UID:10006166-1840096800-1840102200@gracewindsor.org
SUMMARY:Holy Eucharist
DESCRIPTION:
URL:https://gracewindsor.org/event/holy-eucharist/2028-04-23/
LOCATION:Grace Church Sanctuary\, 311 Broad Street\, Windsor\, CT\, 06095\, United States
ATTACH;FMTTYPE=image/png:https://gracewindsor.org/wp-content/uploads/2024/02/March-29-2024-14.png
END:VEVENT
BEGIN:VEVENT
DTSTART;TZID=America/New_York:20280427T190000
DTEND;TZID=America/New_York:20280427T210000
DTSTAMP:20260421T152527
CREATED:20241231T154019Z
LAST-MODIFIED:20250106T004214Z
UID:10007553-1840474800-1840482000@gracewindsor.org
SUMMARY:Choir Rehearsal
DESCRIPTION:
URL:https://gracewindsor.org/event/choir-rehearsal-5/2028-04-27/
LOCATION:Grace Church Sanctuary\, 311 Broad Street\, Windsor\, CT\, 06095\, United States
ATTACH;FMTTYPE=image/jpeg:https://gracewindsor.org/wp-content/uploads/2023/09/choir3_slide.jpg
END:VEVENT
BEGIN:VEVENT
DTSTART;TZID=America/New_York:20280430T100000
DTEND;TZID=America/New_York:20280430T113000
DTSTAMP:20260421T152527
CREATED:20241103T225703Z
LAST-MODIFIED:20241104T161715Z
UID:10006167-1840701600-1840707000@gracewindsor.org
SUMMARY:Holy Eucharist
DESCRIPTION:
URL:https://gracewindsor.org/event/holy-eucharist/2028-04-30/
LOCATION:Grace Church Sanctuary\, 311 Broad Street\, Windsor\, CT\, 06095\, United States
ATTACH;FMTTYPE=image/png:https://gracewindsor.org/wp-content/uploads/2024/02/March-29-2024-14.png
END:VEVENT
BEGIN:VEVENT
DTSTART;TZID=America/New_York:20280504T190000
DTEND;TZID=America/New_York:20280504T210000
DTSTAMP:20260421T152527
CREATED:20241231T154019Z
LAST-MODIFIED:20250106T004214Z
UID:10007554-1841079600-1841086800@gracewindsor.org
SUMMARY:Choir Rehearsal
DESCRIPTION:
URL:https://gracewindsor.org/event/choir-rehearsal-5/2028-05-04/
LOCATION:Grace Church Sanctuary\, 311 Broad Street\, Windsor\, CT\, 06095\, United States
ATTACH;FMTTYPE=image/jpeg:https://gracewindsor.org/wp-content/uploads/2023/09/choir3_slide.jpg
END:VEVENT
BEGIN:VEVENT
DTSTART;TZID=America/New_York:20280507T100000
DTEND;TZID=America/New_York:20280507T113000
DTSTAMP:20260421T152527
CREATED:20241103T225703Z
LAST-MODIFIED:20241104T161715Z
UID:10006168-1841306400-1841311800@gracewindsor.org
SUMMARY:Holy Eucharist
DESCRIPTION:
URL:https://gracewindsor.org/event/holy-eucharist/2028-05-07/
LOCATION:Grace Church Sanctuary\, 311 Broad Street\, Windsor\, CT\, 06095\, United States
ATTACH;FMTTYPE=image/png:https://gracewindsor.org/wp-content/uploads/2024/02/March-29-2024-14.png
END:VEVENT
BEGIN:VEVENT
DTSTART;TZID=America/New_York:20280511T190000
DTEND;TZID=America/New_York:20280511T210000
DTSTAMP:20260421T152527
CREATED:20241231T154019Z
LAST-MODIFIED:20250106T004214Z
UID:10007555-1841684400-1841691600@gracewindsor.org
SUMMARY:Choir Rehearsal
DESCRIPTION:
URL:https://gracewindsor.org/event/choir-rehearsal-5/2028-05-11/
LOCATION:Grace Church Sanctuary\, 311 Broad Street\, Windsor\, CT\, 06095\, United States
ATTACH;FMTTYPE=image/jpeg:https://gracewindsor.org/wp-content/uploads/2023/09/choir3_slide.jpg
END:VEVENT
BEGIN:VEVENT
DTSTART;TZID=America/New_York:20280514T100000
DTEND;TZID=America/New_York:20280514T113000
DTSTAMP:20260421T152527
CREATED:20241103T225703Z
LAST-MODIFIED:20241104T161715Z
UID:10006169-1841911200-1841916600@gracewindsor.org
SUMMARY:Holy Eucharist
DESCRIPTION:
URL:https://gracewindsor.org/event/holy-eucharist/2028-05-14/
LOCATION:Grace Church Sanctuary\, 311 Broad Street\, Windsor\, CT\, 06095\, United States
ATTACH;FMTTYPE=image/png:https://gracewindsor.org/wp-content/uploads/2024/02/March-29-2024-14.png
END:VEVENT
BEGIN:VEVENT
DTSTART;TZID=America/New_York:20280518T190000
DTEND;TZID=America/New_York:20280518T210000
DTSTAMP:20260421T152527
CREATED:20241231T154019Z
LAST-MODIFIED:20250106T004214Z
UID:10007556-1842289200-1842296400@gracewindsor.org
SUMMARY:Choir Rehearsal
DESCRIPTION:
URL:https://gracewindsor.org/event/choir-rehearsal-5/2028-05-18/
LOCATION:Grace Church Sanctuary\, 311 Broad Street\, Windsor\, CT\, 06095\, United States
ATTACH;FMTTYPE=image/jpeg:https://gracewindsor.org/wp-content/uploads/2023/09/choir3_slide.jpg
END:VEVENT
BEGIN:VEVENT
DTSTART;TZID=America/New_York:20280521T100000
DTEND;TZID=America/New_York:20280521T113000
DTSTAMP:20260421T152527
CREATED:20241103T225703Z
LAST-MODIFIED:20241104T161715Z
UID:10006170-1842516000-1842521400@gracewindsor.org
SUMMARY:Holy Eucharist
DESCRIPTION:
URL:https://gracewindsor.org/event/holy-eucharist/2028-05-21/
LOCATION:Grace Church Sanctuary\, 311 Broad Street\, Windsor\, CT\, 06095\, United States
ATTACH;FMTTYPE=image/png:https://gracewindsor.org/wp-content/uploads/2024/02/March-29-2024-14.png
END:VEVENT
BEGIN:VEVENT
DTSTART;TZID=America/New_York:20280525T190000
DTEND;TZID=America/New_York:20280525T210000
DTSTAMP:20260421T152527
CREATED:20241231T154019Z
LAST-MODIFIED:20250106T004214Z
UID:10007557-1842894000-1842901200@gracewindsor.org
SUMMARY:Choir Rehearsal
DESCRIPTION:
URL:https://gracewindsor.org/event/choir-rehearsal-5/2028-05-25/
LOCATION:Grace Church Sanctuary\, 311 Broad Street\, Windsor\, CT\, 06095\, United States
ATTACH;FMTTYPE=image/jpeg:https://gracewindsor.org/wp-content/uploads/2023/09/choir3_slide.jpg
END:VEVENT
BEGIN:VEVENT
DTSTART;TZID=America/New_York:20280528T100000
DTEND;TZID=America/New_York:20280528T113000
DTSTAMP:20260421T152527
CREATED:20241103T225703Z
LAST-MODIFIED:20241104T161715Z
UID:10006171-1843120800-1843126200@gracewindsor.org
SUMMARY:Holy Eucharist
DESCRIPTION:
URL:https://gracewindsor.org/event/holy-eucharist/2028-05-28/
LOCATION:Grace Church Sanctuary\, 311 Broad Street\, Windsor\, CT\, 06095\, United States
ATTACH;FMTTYPE=image/png:https://gracewindsor.org/wp-content/uploads/2024/02/March-29-2024-14.png
END:VEVENT
END:VCALENDAR