BEGIN:VCALENDAR
VERSION:2.0
PRODID:-//Grace Espicopal Church Windsor Connecticut - ECPv6.15.20//NONSGML v1.0//EN
CALSCALE:GREGORIAN
METHOD:PUBLISH
X-ORIGINAL-URL:https://gracewindsor.org
X-WR-CALDESC:Events for Grace Espicopal Church Windsor Connecticut
REFRESH-INTERVAL;VALUE=DURATION:PT1H
X-Robots-Tag:noindex
X-PUBLISHED-TTL:PT1H
BEGIN:VTIMEZONE
TZID:America/New_York
BEGIN:DAYLIGHT
TZOFFSETFROM:-0500
TZOFFSETTO:-0400
TZNAME:EDT
DTSTART:20260308T070000
END:DAYLIGHT
BEGIN:STANDARD
TZOFFSETFROM:-0400
TZOFFSETTO:-0500
TZNAME:EST
DTSTART:20261101T060000
END:STANDARD
BEGIN:DAYLIGHT
TZOFFSETFROM:-0500
TZOFFSETTO:-0400
TZNAME:EDT
DTSTART:20270314T070000
END:DAYLIGHT
BEGIN:STANDARD
TZOFFSETFROM:-0400
TZOFFSETTO:-0500
TZNAME:EST
DTSTART:20271107T060000
END:STANDARD
BEGIN:DAYLIGHT
TZOFFSETFROM:-0500
TZOFFSETTO:-0400
TZNAME:EDT
DTSTART:20280312T070000
END:DAYLIGHT
BEGIN:STANDARD
TZOFFSETFROM:-0400
TZOFFSETTO:-0500
TZNAME:EST
DTSTART:20281105T060000
END:STANDARD
BEGIN:DAYLIGHT
TZOFFSETFROM:-0500
TZOFFSETTO:-0400
TZNAME:EDT
DTSTART:20290311T070000
END:DAYLIGHT
BEGIN:STANDARD
TZOFFSETFROM:-0400
TZOFFSETTO:-0500
TZNAME:EST
DTSTART:20291104T060000
END:STANDARD
END:VTIMEZONE
BEGIN:VEVENT
DTSTART;TZID=America/New_York:20270930T190000
DTEND;TZID=America/New_York:20270930T210000
DTSTAMP:20260421T085718
CREATED:20241231T154019Z
LAST-MODIFIED:20250106T004214Z
UID:10007523-1822330800-1822338000@gracewindsor.org
SUMMARY:Choir Rehearsal
DESCRIPTION:
URL:https://gracewindsor.org/event/choir-rehearsal-5/2027-09-30/
LOCATION:Grace Church Sanctuary\, 311 Broad Street\, Windsor\, CT\, 06095\, United States
ATTACH;FMTTYPE=image/jpeg:https://gracewindsor.org/wp-content/uploads/2023/09/choir3_slide.jpg
END:VEVENT
BEGIN:VEVENT
DTSTART;TZID=America/New_York:20271003T100000
DTEND;TZID=America/New_York:20271003T113000
DTSTAMP:20260421T085718
CREATED:20241103T225703Z
LAST-MODIFIED:20241104T161715Z
UID:10006137-1822557600-1822563000@gracewindsor.org
SUMMARY:Holy Eucharist
DESCRIPTION:
URL:https://gracewindsor.org/event/holy-eucharist/2027-10-03/
LOCATION:Grace Church Sanctuary\, 311 Broad Street\, Windsor\, CT\, 06095\, United States
ATTACH;FMTTYPE=image/png:https://gracewindsor.org/wp-content/uploads/2024/02/March-29-2024-14.png
END:VEVENT
BEGIN:VEVENT
DTSTART;TZID=America/New_York:20271007T190000
DTEND;TZID=America/New_York:20271007T210000
DTSTAMP:20260421T085718
CREATED:20241231T154019Z
LAST-MODIFIED:20250106T004214Z
UID:10007524-1822935600-1822942800@gracewindsor.org
SUMMARY:Choir Rehearsal
DESCRIPTION:
URL:https://gracewindsor.org/event/choir-rehearsal-5/2027-10-07/
LOCATION:Grace Church Sanctuary\, 311 Broad Street\, Windsor\, CT\, 06095\, United States
ATTACH;FMTTYPE=image/jpeg:https://gracewindsor.org/wp-content/uploads/2023/09/choir3_slide.jpg
END:VEVENT
BEGIN:VEVENT
DTSTART;TZID=America/New_York:20271010T100000
DTEND;TZID=America/New_York:20271010T113000
DTSTAMP:20260421T085718
CREATED:20241103T225703Z
LAST-MODIFIED:20241104T161715Z
UID:10006138-1823162400-1823167800@gracewindsor.org
SUMMARY:Holy Eucharist
DESCRIPTION:
URL:https://gracewindsor.org/event/holy-eucharist/2027-10-10/
LOCATION:Grace Church Sanctuary\, 311 Broad Street\, Windsor\, CT\, 06095\, United States
ATTACH;FMTTYPE=image/png:https://gracewindsor.org/wp-content/uploads/2024/02/March-29-2024-14.png
END:VEVENT
BEGIN:VEVENT
DTSTART;TZID=America/New_York:20271014T190000
DTEND;TZID=America/New_York:20271014T210000
DTSTAMP:20260421T085718
CREATED:20241231T154019Z
LAST-MODIFIED:20250106T004214Z
UID:10007525-1823540400-1823547600@gracewindsor.org
SUMMARY:Choir Rehearsal
DESCRIPTION:
URL:https://gracewindsor.org/event/choir-rehearsal-5/2027-10-14/
LOCATION:Grace Church Sanctuary\, 311 Broad Street\, Windsor\, CT\, 06095\, United States
ATTACH;FMTTYPE=image/jpeg:https://gracewindsor.org/wp-content/uploads/2023/09/choir3_slide.jpg
END:VEVENT
BEGIN:VEVENT
DTSTART;TZID=America/New_York:20271017T100000
DTEND;TZID=America/New_York:20271017T113000
DTSTAMP:20260421T085718
CREATED:20241103T225703Z
LAST-MODIFIED:20241104T161715Z
UID:10006139-1823767200-1823772600@gracewindsor.org
SUMMARY:Holy Eucharist
DESCRIPTION:
URL:https://gracewindsor.org/event/holy-eucharist/2027-10-17/
LOCATION:Grace Church Sanctuary\, 311 Broad Street\, Windsor\, CT\, 06095\, United States
ATTACH;FMTTYPE=image/png:https://gracewindsor.org/wp-content/uploads/2024/02/March-29-2024-14.png
END:VEVENT
BEGIN:VEVENT
DTSTART;TZID=America/New_York:20271021T190000
DTEND;TZID=America/New_York:20271021T210000
DTSTAMP:20260421T085718
CREATED:20241231T154019Z
LAST-MODIFIED:20250106T004214Z
UID:10007526-1824145200-1824152400@gracewindsor.org
SUMMARY:Choir Rehearsal
DESCRIPTION:
URL:https://gracewindsor.org/event/choir-rehearsal-5/2027-10-21/
LOCATION:Grace Church Sanctuary\, 311 Broad Street\, Windsor\, CT\, 06095\, United States
ATTACH;FMTTYPE=image/jpeg:https://gracewindsor.org/wp-content/uploads/2023/09/choir3_slide.jpg
END:VEVENT
BEGIN:VEVENT
DTSTART;TZID=America/New_York:20271024T100000
DTEND;TZID=America/New_York:20271024T113000
DTSTAMP:20260421T085718
CREATED:20241103T225703Z
LAST-MODIFIED:20241104T161715Z
UID:10006140-1824372000-1824377400@gracewindsor.org
SUMMARY:Holy Eucharist
DESCRIPTION:
URL:https://gracewindsor.org/event/holy-eucharist/2027-10-24/
LOCATION:Grace Church Sanctuary\, 311 Broad Street\, Windsor\, CT\, 06095\, United States
ATTACH;FMTTYPE=image/png:https://gracewindsor.org/wp-content/uploads/2024/02/March-29-2024-14.png
END:VEVENT
BEGIN:VEVENT
DTSTART;TZID=America/New_York:20271028T190000
DTEND;TZID=America/New_York:20271028T210000
DTSTAMP:20260421T085718
CREATED:20241231T154019Z
LAST-MODIFIED:20250106T004214Z
UID:10007527-1824750000-1824757200@gracewindsor.org
SUMMARY:Choir Rehearsal
DESCRIPTION:
URL:https://gracewindsor.org/event/choir-rehearsal-5/2027-10-28/
LOCATION:Grace Church Sanctuary\, 311 Broad Street\, Windsor\, CT\, 06095\, United States
ATTACH;FMTTYPE=image/jpeg:https://gracewindsor.org/wp-content/uploads/2023/09/choir3_slide.jpg
END:VEVENT
BEGIN:VEVENT
DTSTART;TZID=America/New_York:20271031T100000
DTEND;TZID=America/New_York:20271031T113000
DTSTAMP:20260421T085718
CREATED:20241103T225703Z
LAST-MODIFIED:20241104T161715Z
UID:10006141-1824976800-1824982200@gracewindsor.org
SUMMARY:Holy Eucharist
DESCRIPTION:
URL:https://gracewindsor.org/event/holy-eucharist/2027-10-31/
LOCATION:Grace Church Sanctuary\, 311 Broad Street\, Windsor\, CT\, 06095\, United States
ATTACH;FMTTYPE=image/png:https://gracewindsor.org/wp-content/uploads/2024/02/March-29-2024-14.png
END:VEVENT
BEGIN:VEVENT
DTSTART;TZID=America/New_York:20271104T190000
DTEND;TZID=America/New_York:20271104T210000
DTSTAMP:20260421T085718
CREATED:20241231T154019Z
LAST-MODIFIED:20250106T004214Z
UID:10007528-1825354800-1825362000@gracewindsor.org
SUMMARY:Choir Rehearsal
DESCRIPTION:
URL:https://gracewindsor.org/event/choir-rehearsal-5/2027-11-04/
LOCATION:Grace Church Sanctuary\, 311 Broad Street\, Windsor\, CT\, 06095\, United States
ATTACH;FMTTYPE=image/jpeg:https://gracewindsor.org/wp-content/uploads/2023/09/choir3_slide.jpg
END:VEVENT
BEGIN:VEVENT
DTSTART;TZID=America/New_York:20271107T100000
DTEND;TZID=America/New_York:20271107T113000
DTSTAMP:20260421T085718
CREATED:20241103T225703Z
LAST-MODIFIED:20241104T161715Z
UID:10006142-1825581600-1825587000@gracewindsor.org
SUMMARY:Holy Eucharist
DESCRIPTION:
URL:https://gracewindsor.org/event/holy-eucharist/2027-11-07/
LOCATION:Grace Church Sanctuary\, 311 Broad Street\, Windsor\, CT\, 06095\, United States
ATTACH;FMTTYPE=image/png:https://gracewindsor.org/wp-content/uploads/2024/02/March-29-2024-14.png
END:VEVENT
BEGIN:VEVENT
DTSTART;TZID=America/New_York:20271111T190000
DTEND;TZID=America/New_York:20271111T210000
DTSTAMP:20260421T085718
CREATED:20241231T154019Z
LAST-MODIFIED:20250106T004214Z
UID:10007529-1825959600-1825966800@gracewindsor.org
SUMMARY:Choir Rehearsal
DESCRIPTION:
URL:https://gracewindsor.org/event/choir-rehearsal-5/2027-11-11/
LOCATION:Grace Church Sanctuary\, 311 Broad Street\, Windsor\, CT\, 06095\, United States
ATTACH;FMTTYPE=image/jpeg:https://gracewindsor.org/wp-content/uploads/2023/09/choir3_slide.jpg
END:VEVENT
BEGIN:VEVENT
DTSTART;TZID=America/New_York:20271114T100000
DTEND;TZID=America/New_York:20271114T113000
DTSTAMP:20260421T085718
CREATED:20241103T225703Z
LAST-MODIFIED:20241104T161715Z
UID:10006143-1826186400-1826191800@gracewindsor.org
SUMMARY:Holy Eucharist
DESCRIPTION:
URL:https://gracewindsor.org/event/holy-eucharist/2027-11-14/
LOCATION:Grace Church Sanctuary\, 311 Broad Street\, Windsor\, CT\, 06095\, United States
ATTACH;FMTTYPE=image/png:https://gracewindsor.org/wp-content/uploads/2024/02/March-29-2024-14.png
END:VEVENT
BEGIN:VEVENT
DTSTART;TZID=America/New_York:20271118T190000
DTEND;TZID=America/New_York:20271118T210000
DTSTAMP:20260421T085718
CREATED:20241231T154019Z
LAST-MODIFIED:20250106T004214Z
UID:10007530-1826564400-1826571600@gracewindsor.org
SUMMARY:Choir Rehearsal
DESCRIPTION:
URL:https://gracewindsor.org/event/choir-rehearsal-5/2027-11-18/
LOCATION:Grace Church Sanctuary\, 311 Broad Street\, Windsor\, CT\, 06095\, United States
ATTACH;FMTTYPE=image/jpeg:https://gracewindsor.org/wp-content/uploads/2023/09/choir3_slide.jpg
END:VEVENT
BEGIN:VEVENT
DTSTART;TZID=America/New_York:20271121T100000
DTEND;TZID=America/New_York:20271121T113000
DTSTAMP:20260421T085718
CREATED:20241103T225703Z
LAST-MODIFIED:20241104T161715Z
UID:10006144-1826791200-1826796600@gracewindsor.org
SUMMARY:Holy Eucharist
DESCRIPTION:
URL:https://gracewindsor.org/event/holy-eucharist/2027-11-21/
LOCATION:Grace Church Sanctuary\, 311 Broad Street\, Windsor\, CT\, 06095\, United States
ATTACH;FMTTYPE=image/png:https://gracewindsor.org/wp-content/uploads/2024/02/March-29-2024-14.png
END:VEVENT
BEGIN:VEVENT
DTSTART;TZID=America/New_York:20271125T190000
DTEND;TZID=America/New_York:20271125T210000
DTSTAMP:20260421T085718
CREATED:20241231T154019Z
LAST-MODIFIED:20250106T004214Z
UID:10007531-1827169200-1827176400@gracewindsor.org
SUMMARY:Choir Rehearsal
DESCRIPTION:
URL:https://gracewindsor.org/event/choir-rehearsal-5/2027-11-25/
LOCATION:Grace Church Sanctuary\, 311 Broad Street\, Windsor\, CT\, 06095\, United States
ATTACH;FMTTYPE=image/jpeg:https://gracewindsor.org/wp-content/uploads/2023/09/choir3_slide.jpg
END:VEVENT
BEGIN:VEVENT
DTSTART;TZID=America/New_York:20271128T100000
DTEND;TZID=America/New_York:20271128T113000
DTSTAMP:20260421T085718
CREATED:20241103T225703Z
LAST-MODIFIED:20241104T161715Z
UID:10006145-1827396000-1827401400@gracewindsor.org
SUMMARY:Holy Eucharist
DESCRIPTION:
URL:https://gracewindsor.org/event/holy-eucharist/2027-11-28/
LOCATION:Grace Church Sanctuary\, 311 Broad Street\, Windsor\, CT\, 06095\, United States
ATTACH;FMTTYPE=image/png:https://gracewindsor.org/wp-content/uploads/2024/02/March-29-2024-14.png
END:VEVENT
BEGIN:VEVENT
DTSTART;TZID=America/New_York:20271202T190000
DTEND;TZID=America/New_York:20271202T210000
DTSTAMP:20260421T085718
CREATED:20241231T154019Z
LAST-MODIFIED:20250106T004214Z
UID:10007532-1827774000-1827781200@gracewindsor.org
SUMMARY:Choir Rehearsal
DESCRIPTION:
URL:https://gracewindsor.org/event/choir-rehearsal-5/2027-12-02/
LOCATION:Grace Church Sanctuary\, 311 Broad Street\, Windsor\, CT\, 06095\, United States
ATTACH;FMTTYPE=image/jpeg:https://gracewindsor.org/wp-content/uploads/2023/09/choir3_slide.jpg
END:VEVENT
BEGIN:VEVENT
DTSTART;TZID=America/New_York:20271205T100000
DTEND;TZID=America/New_York:20271205T113000
DTSTAMP:20260421T085718
CREATED:20241103T225703Z
LAST-MODIFIED:20241104T161715Z
UID:10006146-1828000800-1828006200@gracewindsor.org
SUMMARY:Holy Eucharist
DESCRIPTION:
URL:https://gracewindsor.org/event/holy-eucharist/2027-12-05/
LOCATION:Grace Church Sanctuary\, 311 Broad Street\, Windsor\, CT\, 06095\, United States
ATTACH;FMTTYPE=image/png:https://gracewindsor.org/wp-content/uploads/2024/02/March-29-2024-14.png
END:VEVENT
BEGIN:VEVENT
DTSTART;TZID=America/New_York:20271209T190000
DTEND;TZID=America/New_York:20271209T210000
DTSTAMP:20260421T085718
CREATED:20241231T154019Z
LAST-MODIFIED:20250106T004214Z
UID:10007533-1828378800-1828386000@gracewindsor.org
SUMMARY:Choir Rehearsal
DESCRIPTION:
URL:https://gracewindsor.org/event/choir-rehearsal-5/2027-12-09/
LOCATION:Grace Church Sanctuary\, 311 Broad Street\, Windsor\, CT\, 06095\, United States
ATTACH;FMTTYPE=image/jpeg:https://gracewindsor.org/wp-content/uploads/2023/09/choir3_slide.jpg
END:VEVENT
BEGIN:VEVENT
DTSTART;TZID=America/New_York:20271212T100000
DTEND;TZID=America/New_York:20271212T113000
DTSTAMP:20260421T085718
CREATED:20241103T225703Z
LAST-MODIFIED:20241104T161715Z
UID:10006147-1828605600-1828611000@gracewindsor.org
SUMMARY:Holy Eucharist
DESCRIPTION:
URL:https://gracewindsor.org/event/holy-eucharist/2027-12-12/
LOCATION:Grace Church Sanctuary\, 311 Broad Street\, Windsor\, CT\, 06095\, United States
ATTACH;FMTTYPE=image/png:https://gracewindsor.org/wp-content/uploads/2024/02/March-29-2024-14.png
END:VEVENT
BEGIN:VEVENT
DTSTART;TZID=America/New_York:20271216T190000
DTEND;TZID=America/New_York:20271216T210000
DTSTAMP:20260421T085718
CREATED:20241231T154019Z
LAST-MODIFIED:20250106T004214Z
UID:10007534-1828983600-1828990800@gracewindsor.org
SUMMARY:Choir Rehearsal
DESCRIPTION:
URL:https://gracewindsor.org/event/choir-rehearsal-5/2027-12-16/
LOCATION:Grace Church Sanctuary\, 311 Broad Street\, Windsor\, CT\, 06095\, United States
ATTACH;FMTTYPE=image/jpeg:https://gracewindsor.org/wp-content/uploads/2023/09/choir3_slide.jpg
END:VEVENT
BEGIN:VEVENT
DTSTART;TZID=America/New_York:20271219T100000
DTEND;TZID=America/New_York:20271219T113000
DTSTAMP:20260421T085718
CREATED:20241103T225703Z
LAST-MODIFIED:20241104T161715Z
UID:10006148-1829210400-1829215800@gracewindsor.org
SUMMARY:Holy Eucharist
DESCRIPTION:
URL:https://gracewindsor.org/event/holy-eucharist/2027-12-19/
LOCATION:Grace Church Sanctuary\, 311 Broad Street\, Windsor\, CT\, 06095\, United States
ATTACH;FMTTYPE=image/png:https://gracewindsor.org/wp-content/uploads/2024/02/March-29-2024-14.png
END:VEVENT
BEGIN:VEVENT
DTSTART;TZID=America/New_York:20271223T190000
DTEND;TZID=America/New_York:20271223T210000
DTSTAMP:20260421T085718
CREATED:20241231T154019Z
LAST-MODIFIED:20250106T004214Z
UID:10007535-1829588400-1829595600@gracewindsor.org
SUMMARY:Choir Rehearsal
DESCRIPTION:
URL:https://gracewindsor.org/event/choir-rehearsal-5/2027-12-23/
LOCATION:Grace Church Sanctuary\, 311 Broad Street\, Windsor\, CT\, 06095\, United States
ATTACH;FMTTYPE=image/jpeg:https://gracewindsor.org/wp-content/uploads/2023/09/choir3_slide.jpg
END:VEVENT
BEGIN:VEVENT
DTSTART;TZID=America/New_York:20271226T100000
DTEND;TZID=America/New_York:20271226T113000
DTSTAMP:20260421T085718
CREATED:20241103T225703Z
LAST-MODIFIED:20241104T161715Z
UID:10006149-1829815200-1829820600@gracewindsor.org
SUMMARY:Holy Eucharist
DESCRIPTION:
URL:https://gracewindsor.org/event/holy-eucharist/2027-12-26/
LOCATION:Grace Church Sanctuary\, 311 Broad Street\, Windsor\, CT\, 06095\, United States
ATTACH;FMTTYPE=image/png:https://gracewindsor.org/wp-content/uploads/2024/02/March-29-2024-14.png
END:VEVENT
BEGIN:VEVENT
DTSTART;TZID=America/New_York:20271230T190000
DTEND;TZID=America/New_York:20271230T210000
DTSTAMP:20260421T085718
CREATED:20241231T154019Z
LAST-MODIFIED:20250106T004214Z
UID:10007536-1830193200-1830200400@gracewindsor.org
SUMMARY:Choir Rehearsal
DESCRIPTION:
URL:https://gracewindsor.org/event/choir-rehearsal-5/2027-12-30/
LOCATION:Grace Church Sanctuary\, 311 Broad Street\, Windsor\, CT\, 06095\, United States
ATTACH;FMTTYPE=image/jpeg:https://gracewindsor.org/wp-content/uploads/2023/09/choir3_slide.jpg
END:VEVENT
BEGIN:VEVENT
DTSTART;TZID=America/New_York:20280102T100000
DTEND;TZID=America/New_York:20280102T113000
DTSTAMP:20260421T085718
CREATED:20241103T225703Z
LAST-MODIFIED:20241104T161715Z
UID:10006150-1830420000-1830425400@gracewindsor.org
SUMMARY:Holy Eucharist
DESCRIPTION:
URL:https://gracewindsor.org/event/holy-eucharist/2028-01-02/
LOCATION:Grace Church Sanctuary\, 311 Broad Street\, Windsor\, CT\, 06095\, United States
ATTACH;FMTTYPE=image/png:https://gracewindsor.org/wp-content/uploads/2024/02/March-29-2024-14.png
END:VEVENT
BEGIN:VEVENT
DTSTART;TZID=America/New_York:20280106T190000
DTEND;TZID=America/New_York:20280106T210000
DTSTAMP:20260421T085718
CREATED:20241231T154019Z
LAST-MODIFIED:20250106T004214Z
UID:10007537-1830798000-1830805200@gracewindsor.org
SUMMARY:Choir Rehearsal
DESCRIPTION:
URL:https://gracewindsor.org/event/choir-rehearsal-5/2028-01-06/
LOCATION:Grace Church Sanctuary\, 311 Broad Street\, Windsor\, CT\, 06095\, United States
ATTACH;FMTTYPE=image/jpeg:https://gracewindsor.org/wp-content/uploads/2023/09/choir3_slide.jpg
END:VEVENT
BEGIN:VEVENT
DTSTART;TZID=America/New_York:20280109T100000
DTEND;TZID=America/New_York:20280109T113000
DTSTAMP:20260421T085718
CREATED:20241103T225703Z
LAST-MODIFIED:20241104T161715Z
UID:10006151-1831024800-1831030200@gracewindsor.org
SUMMARY:Holy Eucharist
DESCRIPTION:
URL:https://gracewindsor.org/event/holy-eucharist/2028-01-09/
LOCATION:Grace Church Sanctuary\, 311 Broad Street\, Windsor\, CT\, 06095\, United States
ATTACH;FMTTYPE=image/png:https://gracewindsor.org/wp-content/uploads/2024/02/March-29-2024-14.png
END:VEVENT
END:VCALENDAR