BEGIN:VCALENDAR
VERSION:2.0
PRODID:-//Grace Espicopal Church Windsor Connecticut - ECPv6.15.20//NONSGML v1.0//EN
CALSCALE:GREGORIAN
METHOD:PUBLISH
X-WR-CALNAME:Grace Espicopal Church Windsor Connecticut
X-ORIGINAL-URL:https://gracewindsor.org
X-WR-CALDESC:Events for Grace Espicopal Church Windsor Connecticut
REFRESH-INTERVAL;VALUE=DURATION:PT1H
X-Robots-Tag:noindex
X-PUBLISHED-TTL:PT1H
BEGIN:VTIMEZONE
TZID:America/New_York
BEGIN:DAYLIGHT
TZOFFSETFROM:-0500
TZOFFSETTO:-0400
TZNAME:EDT
DTSTART:20260308T070000
END:DAYLIGHT
BEGIN:STANDARD
TZOFFSETFROM:-0400
TZOFFSETTO:-0500
TZNAME:EST
DTSTART:20261101T060000
END:STANDARD
BEGIN:DAYLIGHT
TZOFFSETFROM:-0500
TZOFFSETTO:-0400
TZNAME:EDT
DTSTART:20270314T070000
END:DAYLIGHT
BEGIN:STANDARD
TZOFFSETFROM:-0400
TZOFFSETTO:-0500
TZNAME:EST
DTSTART:20271107T060000
END:STANDARD
BEGIN:DAYLIGHT
TZOFFSETFROM:-0500
TZOFFSETTO:-0400
TZNAME:EDT
DTSTART:20280312T070000
END:DAYLIGHT
BEGIN:STANDARD
TZOFFSETFROM:-0400
TZOFFSETTO:-0500
TZNAME:EST
DTSTART:20281105T060000
END:STANDARD
END:VTIMEZONE
BEGIN:VEVENT
DTSTART;TZID=America/New_York:20270722T190000
DTEND;TZID=America/New_York:20270722T210000
DTSTAMP:20260421T060036
CREATED:20241231T154019Z
LAST-MODIFIED:20250106T004214Z
UID:10007513-1816282800-1816290000@gracewindsor.org
SUMMARY:Choir Rehearsal
DESCRIPTION:
URL:https://gracewindsor.org/event/choir-rehearsal-5/2027-07-22/
LOCATION:Grace Church Sanctuary\, 311 Broad Street\, Windsor\, CT\, 06095\, United States
ATTACH;FMTTYPE=image/jpeg:https://gracewindsor.org/wp-content/uploads/2023/09/choir3_slide.jpg
END:VEVENT
BEGIN:VEVENT
DTSTART;TZID=America/New_York:20270725T100000
DTEND;TZID=America/New_York:20270725T113000
DTSTAMP:20260421T060036
CREATED:20241103T225703Z
LAST-MODIFIED:20241104T161715Z
UID:10006127-1816509600-1816515000@gracewindsor.org
SUMMARY:Holy Eucharist
DESCRIPTION:
URL:https://gracewindsor.org/event/holy-eucharist/2027-07-25/
LOCATION:Grace Church Sanctuary\, 311 Broad Street\, Windsor\, CT\, 06095\, United States
ATTACH;FMTTYPE=image/png:https://gracewindsor.org/wp-content/uploads/2024/02/March-29-2024-14.png
END:VEVENT
BEGIN:VEVENT
DTSTART;TZID=America/New_York:20270729T190000
DTEND;TZID=America/New_York:20270729T210000
DTSTAMP:20260421T060036
CREATED:20241231T154019Z
LAST-MODIFIED:20250106T004214Z
UID:10007514-1816887600-1816894800@gracewindsor.org
SUMMARY:Choir Rehearsal
DESCRIPTION:
URL:https://gracewindsor.org/event/choir-rehearsal-5/2027-07-29/
LOCATION:Grace Church Sanctuary\, 311 Broad Street\, Windsor\, CT\, 06095\, United States
ATTACH;FMTTYPE=image/jpeg:https://gracewindsor.org/wp-content/uploads/2023/09/choir3_slide.jpg
END:VEVENT
BEGIN:VEVENT
DTSTART;TZID=America/New_York:20270801T100000
DTEND;TZID=America/New_York:20270801T113000
DTSTAMP:20260421T060036
CREATED:20241103T225703Z
LAST-MODIFIED:20241104T161715Z
UID:10006128-1817114400-1817119800@gracewindsor.org
SUMMARY:Holy Eucharist
DESCRIPTION:
URL:https://gracewindsor.org/event/holy-eucharist/2027-08-01/
LOCATION:Grace Church Sanctuary\, 311 Broad Street\, Windsor\, CT\, 06095\, United States
ATTACH;FMTTYPE=image/png:https://gracewindsor.org/wp-content/uploads/2024/02/March-29-2024-14.png
END:VEVENT
BEGIN:VEVENT
DTSTART;TZID=America/New_York:20270805T190000
DTEND;TZID=America/New_York:20270805T210000
DTSTAMP:20260421T060036
CREATED:20241231T154019Z
LAST-MODIFIED:20250106T004214Z
UID:10007515-1817492400-1817499600@gracewindsor.org
SUMMARY:Choir Rehearsal
DESCRIPTION:
URL:https://gracewindsor.org/event/choir-rehearsal-5/2027-08-05/
LOCATION:Grace Church Sanctuary\, 311 Broad Street\, Windsor\, CT\, 06095\, United States
ATTACH;FMTTYPE=image/jpeg:https://gracewindsor.org/wp-content/uploads/2023/09/choir3_slide.jpg
END:VEVENT
BEGIN:VEVENT
DTSTART;TZID=America/New_York:20270808T100000
DTEND;TZID=America/New_York:20270808T113000
DTSTAMP:20260421T060036
CREATED:20241103T225703Z
LAST-MODIFIED:20241104T161715Z
UID:10006129-1817719200-1817724600@gracewindsor.org
SUMMARY:Holy Eucharist
DESCRIPTION:
URL:https://gracewindsor.org/event/holy-eucharist/2027-08-08/
LOCATION:Grace Church Sanctuary\, 311 Broad Street\, Windsor\, CT\, 06095\, United States
ATTACH;FMTTYPE=image/png:https://gracewindsor.org/wp-content/uploads/2024/02/March-29-2024-14.png
END:VEVENT
BEGIN:VEVENT
DTSTART;TZID=America/New_York:20270812T190000
DTEND;TZID=America/New_York:20270812T210000
DTSTAMP:20260421T060036
CREATED:20241231T154019Z
LAST-MODIFIED:20250106T004214Z
UID:10007516-1818097200-1818104400@gracewindsor.org
SUMMARY:Choir Rehearsal
DESCRIPTION:
URL:https://gracewindsor.org/event/choir-rehearsal-5/2027-08-12/
LOCATION:Grace Church Sanctuary\, 311 Broad Street\, Windsor\, CT\, 06095\, United States
ATTACH;FMTTYPE=image/jpeg:https://gracewindsor.org/wp-content/uploads/2023/09/choir3_slide.jpg
END:VEVENT
BEGIN:VEVENT
DTSTART;TZID=America/New_York:20270815T100000
DTEND;TZID=America/New_York:20270815T113000
DTSTAMP:20260421T060036
CREATED:20241103T225703Z
LAST-MODIFIED:20241104T161715Z
UID:10006130-1818324000-1818329400@gracewindsor.org
SUMMARY:Holy Eucharist
DESCRIPTION:
URL:https://gracewindsor.org/event/holy-eucharist/2027-08-15/
LOCATION:Grace Church Sanctuary\, 311 Broad Street\, Windsor\, CT\, 06095\, United States
ATTACH;FMTTYPE=image/png:https://gracewindsor.org/wp-content/uploads/2024/02/March-29-2024-14.png
END:VEVENT
BEGIN:VEVENT
DTSTART;TZID=America/New_York:20270819T190000
DTEND;TZID=America/New_York:20270819T210000
DTSTAMP:20260421T060036
CREATED:20241231T154019Z
LAST-MODIFIED:20250106T004214Z
UID:10007517-1818702000-1818709200@gracewindsor.org
SUMMARY:Choir Rehearsal
DESCRIPTION:
URL:https://gracewindsor.org/event/choir-rehearsal-5/2027-08-19/
LOCATION:Grace Church Sanctuary\, 311 Broad Street\, Windsor\, CT\, 06095\, United States
ATTACH;FMTTYPE=image/jpeg:https://gracewindsor.org/wp-content/uploads/2023/09/choir3_slide.jpg
END:VEVENT
BEGIN:VEVENT
DTSTART;TZID=America/New_York:20270822T100000
DTEND;TZID=America/New_York:20270822T113000
DTSTAMP:20260421T060036
CREATED:20241103T225703Z
LAST-MODIFIED:20241104T161715Z
UID:10006131-1818928800-1818934200@gracewindsor.org
SUMMARY:Holy Eucharist
DESCRIPTION:
URL:https://gracewindsor.org/event/holy-eucharist/2027-08-22/
LOCATION:Grace Church Sanctuary\, 311 Broad Street\, Windsor\, CT\, 06095\, United States
ATTACH;FMTTYPE=image/png:https://gracewindsor.org/wp-content/uploads/2024/02/March-29-2024-14.png
END:VEVENT
BEGIN:VEVENT
DTSTART;TZID=America/New_York:20270826T190000
DTEND;TZID=America/New_York:20270826T210000
DTSTAMP:20260421T060036
CREATED:20241231T154019Z
LAST-MODIFIED:20250106T004214Z
UID:10007518-1819306800-1819314000@gracewindsor.org
SUMMARY:Choir Rehearsal
DESCRIPTION:
URL:https://gracewindsor.org/event/choir-rehearsal-5/2027-08-26/
LOCATION:Grace Church Sanctuary\, 311 Broad Street\, Windsor\, CT\, 06095\, United States
ATTACH;FMTTYPE=image/jpeg:https://gracewindsor.org/wp-content/uploads/2023/09/choir3_slide.jpg
END:VEVENT
BEGIN:VEVENT
DTSTART;TZID=America/New_York:20270829T100000
DTEND;TZID=America/New_York:20270829T113000
DTSTAMP:20260421T060036
CREATED:20241103T225703Z
LAST-MODIFIED:20241104T161715Z
UID:10006132-1819533600-1819539000@gracewindsor.org
SUMMARY:Holy Eucharist
DESCRIPTION:
URL:https://gracewindsor.org/event/holy-eucharist/2027-08-29/
LOCATION:Grace Church Sanctuary\, 311 Broad Street\, Windsor\, CT\, 06095\, United States
ATTACH;FMTTYPE=image/png:https://gracewindsor.org/wp-content/uploads/2024/02/March-29-2024-14.png
END:VEVENT
BEGIN:VEVENT
DTSTART;TZID=America/New_York:20270902T190000
DTEND;TZID=America/New_York:20270902T210000
DTSTAMP:20260421T060036
CREATED:20241231T154019Z
LAST-MODIFIED:20250106T004214Z
UID:10007519-1819911600-1819918800@gracewindsor.org
SUMMARY:Choir Rehearsal
DESCRIPTION:
URL:https://gracewindsor.org/event/choir-rehearsal-5/2027-09-02/
LOCATION:Grace Church Sanctuary\, 311 Broad Street\, Windsor\, CT\, 06095\, United States
ATTACH;FMTTYPE=image/jpeg:https://gracewindsor.org/wp-content/uploads/2023/09/choir3_slide.jpg
END:VEVENT
BEGIN:VEVENT
DTSTART;TZID=America/New_York:20270905T100000
DTEND;TZID=America/New_York:20270905T113000
DTSTAMP:20260421T060036
CREATED:20241103T225703Z
LAST-MODIFIED:20241104T161715Z
UID:10006133-1820138400-1820143800@gracewindsor.org
SUMMARY:Holy Eucharist
DESCRIPTION:
URL:https://gracewindsor.org/event/holy-eucharist/2027-09-05/
LOCATION:Grace Church Sanctuary\, 311 Broad Street\, Windsor\, CT\, 06095\, United States
ATTACH;FMTTYPE=image/png:https://gracewindsor.org/wp-content/uploads/2024/02/March-29-2024-14.png
END:VEVENT
BEGIN:VEVENT
DTSTART;TZID=America/New_York:20270909T190000
DTEND;TZID=America/New_York:20270909T210000
DTSTAMP:20260421T060036
CREATED:20241231T154019Z
LAST-MODIFIED:20250106T004214Z
UID:10007520-1820516400-1820523600@gracewindsor.org
SUMMARY:Choir Rehearsal
DESCRIPTION:
URL:https://gracewindsor.org/event/choir-rehearsal-5/2027-09-09/
LOCATION:Grace Church Sanctuary\, 311 Broad Street\, Windsor\, CT\, 06095\, United States
ATTACH;FMTTYPE=image/jpeg:https://gracewindsor.org/wp-content/uploads/2023/09/choir3_slide.jpg
END:VEVENT
BEGIN:VEVENT
DTSTART;TZID=America/New_York:20270912T100000
DTEND;TZID=America/New_York:20270912T113000
DTSTAMP:20260421T060036
CREATED:20241103T225703Z
LAST-MODIFIED:20241104T161715Z
UID:10006134-1820743200-1820748600@gracewindsor.org
SUMMARY:Holy Eucharist
DESCRIPTION:
URL:https://gracewindsor.org/event/holy-eucharist/2027-09-12/
LOCATION:Grace Church Sanctuary\, 311 Broad Street\, Windsor\, CT\, 06095\, United States
ATTACH;FMTTYPE=image/png:https://gracewindsor.org/wp-content/uploads/2024/02/March-29-2024-14.png
END:VEVENT
BEGIN:VEVENT
DTSTART;TZID=America/New_York:20270916T190000
DTEND;TZID=America/New_York:20270916T210000
DTSTAMP:20260421T060036
CREATED:20241231T154019Z
LAST-MODIFIED:20250106T004214Z
UID:10007521-1821121200-1821128400@gracewindsor.org
SUMMARY:Choir Rehearsal
DESCRIPTION:
URL:https://gracewindsor.org/event/choir-rehearsal-5/2027-09-16/
LOCATION:Grace Church Sanctuary\, 311 Broad Street\, Windsor\, CT\, 06095\, United States
ATTACH;FMTTYPE=image/jpeg:https://gracewindsor.org/wp-content/uploads/2023/09/choir3_slide.jpg
END:VEVENT
BEGIN:VEVENT
DTSTART;TZID=America/New_York:20270919T100000
DTEND;TZID=America/New_York:20270919T113000
DTSTAMP:20260421T060036
CREATED:20241103T225703Z
LAST-MODIFIED:20241104T161715Z
UID:10006135-1821348000-1821353400@gracewindsor.org
SUMMARY:Holy Eucharist
DESCRIPTION:
URL:https://gracewindsor.org/event/holy-eucharist/2027-09-19/
LOCATION:Grace Church Sanctuary\, 311 Broad Street\, Windsor\, CT\, 06095\, United States
ATTACH;FMTTYPE=image/png:https://gracewindsor.org/wp-content/uploads/2024/02/March-29-2024-14.png
END:VEVENT
BEGIN:VEVENT
DTSTART;TZID=America/New_York:20270923T190000
DTEND;TZID=America/New_York:20270923T210000
DTSTAMP:20260421T060036
CREATED:20241231T154019Z
LAST-MODIFIED:20250106T004214Z
UID:10007522-1821726000-1821733200@gracewindsor.org
SUMMARY:Choir Rehearsal
DESCRIPTION:
URL:https://gracewindsor.org/event/choir-rehearsal-5/2027-09-23/
LOCATION:Grace Church Sanctuary\, 311 Broad Street\, Windsor\, CT\, 06095\, United States
ATTACH;FMTTYPE=image/jpeg:https://gracewindsor.org/wp-content/uploads/2023/09/choir3_slide.jpg
END:VEVENT
BEGIN:VEVENT
DTSTART;TZID=America/New_York:20270926T100000
DTEND;TZID=America/New_York:20270926T113000
DTSTAMP:20260421T060036
CREATED:20241103T225703Z
LAST-MODIFIED:20241104T161715Z
UID:10006136-1821952800-1821958200@gracewindsor.org
SUMMARY:Holy Eucharist
DESCRIPTION:
URL:https://gracewindsor.org/event/holy-eucharist/2027-09-26/
LOCATION:Grace Church Sanctuary\, 311 Broad Street\, Windsor\, CT\, 06095\, United States
ATTACH;FMTTYPE=image/png:https://gracewindsor.org/wp-content/uploads/2024/02/March-29-2024-14.png
END:VEVENT
BEGIN:VEVENT
DTSTART;TZID=America/New_York:20270930T190000
DTEND;TZID=America/New_York:20270930T210000
DTSTAMP:20260421T060036
CREATED:20241231T154019Z
LAST-MODIFIED:20250106T004214Z
UID:10007523-1822330800-1822338000@gracewindsor.org
SUMMARY:Choir Rehearsal
DESCRIPTION:
URL:https://gracewindsor.org/event/choir-rehearsal-5/2027-09-30/
LOCATION:Grace Church Sanctuary\, 311 Broad Street\, Windsor\, CT\, 06095\, United States
ATTACH;FMTTYPE=image/jpeg:https://gracewindsor.org/wp-content/uploads/2023/09/choir3_slide.jpg
END:VEVENT
BEGIN:VEVENT
DTSTART;TZID=America/New_York:20271003T100000
DTEND;TZID=America/New_York:20271003T113000
DTSTAMP:20260421T060036
CREATED:20241103T225703Z
LAST-MODIFIED:20241104T161715Z
UID:10006137-1822557600-1822563000@gracewindsor.org
SUMMARY:Holy Eucharist
DESCRIPTION:
URL:https://gracewindsor.org/event/holy-eucharist/2027-10-03/
LOCATION:Grace Church Sanctuary\, 311 Broad Street\, Windsor\, CT\, 06095\, United States
ATTACH;FMTTYPE=image/png:https://gracewindsor.org/wp-content/uploads/2024/02/March-29-2024-14.png
END:VEVENT
BEGIN:VEVENT
DTSTART;TZID=America/New_York:20271007T190000
DTEND;TZID=America/New_York:20271007T210000
DTSTAMP:20260421T060036
CREATED:20241231T154019Z
LAST-MODIFIED:20250106T004214Z
UID:10007524-1822935600-1822942800@gracewindsor.org
SUMMARY:Choir Rehearsal
DESCRIPTION:
URL:https://gracewindsor.org/event/choir-rehearsal-5/2027-10-07/
LOCATION:Grace Church Sanctuary\, 311 Broad Street\, Windsor\, CT\, 06095\, United States
ATTACH;FMTTYPE=image/jpeg:https://gracewindsor.org/wp-content/uploads/2023/09/choir3_slide.jpg
END:VEVENT
BEGIN:VEVENT
DTSTART;TZID=America/New_York:20271010T100000
DTEND;TZID=America/New_York:20271010T113000
DTSTAMP:20260421T060036
CREATED:20241103T225703Z
LAST-MODIFIED:20241104T161715Z
UID:10006138-1823162400-1823167800@gracewindsor.org
SUMMARY:Holy Eucharist
DESCRIPTION:
URL:https://gracewindsor.org/event/holy-eucharist/2027-10-10/
LOCATION:Grace Church Sanctuary\, 311 Broad Street\, Windsor\, CT\, 06095\, United States
ATTACH;FMTTYPE=image/png:https://gracewindsor.org/wp-content/uploads/2024/02/March-29-2024-14.png
END:VEVENT
BEGIN:VEVENT
DTSTART;TZID=America/New_York:20271014T190000
DTEND;TZID=America/New_York:20271014T210000
DTSTAMP:20260421T060036
CREATED:20241231T154019Z
LAST-MODIFIED:20250106T004214Z
UID:10007525-1823540400-1823547600@gracewindsor.org
SUMMARY:Choir Rehearsal
DESCRIPTION:
URL:https://gracewindsor.org/event/choir-rehearsal-5/2027-10-14/
LOCATION:Grace Church Sanctuary\, 311 Broad Street\, Windsor\, CT\, 06095\, United States
ATTACH;FMTTYPE=image/jpeg:https://gracewindsor.org/wp-content/uploads/2023/09/choir3_slide.jpg
END:VEVENT
BEGIN:VEVENT
DTSTART;TZID=America/New_York:20271017T100000
DTEND;TZID=America/New_York:20271017T113000
DTSTAMP:20260421T060036
CREATED:20241103T225703Z
LAST-MODIFIED:20241104T161715Z
UID:10006139-1823767200-1823772600@gracewindsor.org
SUMMARY:Holy Eucharist
DESCRIPTION:
URL:https://gracewindsor.org/event/holy-eucharist/2027-10-17/
LOCATION:Grace Church Sanctuary\, 311 Broad Street\, Windsor\, CT\, 06095\, United States
ATTACH;FMTTYPE=image/png:https://gracewindsor.org/wp-content/uploads/2024/02/March-29-2024-14.png
END:VEVENT
BEGIN:VEVENT
DTSTART;TZID=America/New_York:20271021T190000
DTEND;TZID=America/New_York:20271021T210000
DTSTAMP:20260421T060036
CREATED:20241231T154019Z
LAST-MODIFIED:20250106T004214Z
UID:10007526-1824145200-1824152400@gracewindsor.org
SUMMARY:Choir Rehearsal
DESCRIPTION:
URL:https://gracewindsor.org/event/choir-rehearsal-5/2027-10-21/
LOCATION:Grace Church Sanctuary\, 311 Broad Street\, Windsor\, CT\, 06095\, United States
ATTACH;FMTTYPE=image/jpeg:https://gracewindsor.org/wp-content/uploads/2023/09/choir3_slide.jpg
END:VEVENT
BEGIN:VEVENT
DTSTART;TZID=America/New_York:20271024T100000
DTEND;TZID=America/New_York:20271024T113000
DTSTAMP:20260421T060036
CREATED:20241103T225703Z
LAST-MODIFIED:20241104T161715Z
UID:10006140-1824372000-1824377400@gracewindsor.org
SUMMARY:Holy Eucharist
DESCRIPTION:
URL:https://gracewindsor.org/event/holy-eucharist/2027-10-24/
LOCATION:Grace Church Sanctuary\, 311 Broad Street\, Windsor\, CT\, 06095\, United States
ATTACH;FMTTYPE=image/png:https://gracewindsor.org/wp-content/uploads/2024/02/March-29-2024-14.png
END:VEVENT
BEGIN:VEVENT
DTSTART;TZID=America/New_York:20271028T190000
DTEND;TZID=America/New_York:20271028T210000
DTSTAMP:20260421T060036
CREATED:20241231T154019Z
LAST-MODIFIED:20250106T004214Z
UID:10007527-1824750000-1824757200@gracewindsor.org
SUMMARY:Choir Rehearsal
DESCRIPTION:
URL:https://gracewindsor.org/event/choir-rehearsal-5/2027-10-28/
LOCATION:Grace Church Sanctuary\, 311 Broad Street\, Windsor\, CT\, 06095\, United States
ATTACH;FMTTYPE=image/jpeg:https://gracewindsor.org/wp-content/uploads/2023/09/choir3_slide.jpg
END:VEVENT
BEGIN:VEVENT
DTSTART;TZID=America/New_York:20271031T100000
DTEND;TZID=America/New_York:20271031T113000
DTSTAMP:20260421T060036
CREATED:20241103T225703Z
LAST-MODIFIED:20241104T161715Z
UID:10006141-1824976800-1824982200@gracewindsor.org
SUMMARY:Holy Eucharist
DESCRIPTION:
URL:https://gracewindsor.org/event/holy-eucharist/2027-10-31/
LOCATION:Grace Church Sanctuary\, 311 Broad Street\, Windsor\, CT\, 06095\, United States
ATTACH;FMTTYPE=image/png:https://gracewindsor.org/wp-content/uploads/2024/02/March-29-2024-14.png
END:VEVENT
END:VCALENDAR