BEGIN:VCALENDAR
VERSION:2.0
PRODID:-//Grace Espicopal Church Windsor Connecticut - ECPv6.15.20//NONSGML v1.0//EN
CALSCALE:GREGORIAN
METHOD:PUBLISH
X-WR-CALNAME:Grace Espicopal Church Windsor Connecticut
X-ORIGINAL-URL:https://gracewindsor.org
X-WR-CALDESC:Events for Grace Espicopal Church Windsor Connecticut
REFRESH-INTERVAL;VALUE=DURATION:PT1H
X-Robots-Tag:noindex
X-PUBLISHED-TTL:PT1H
BEGIN:VTIMEZONE
TZID:America/New_York
BEGIN:DAYLIGHT
TZOFFSETFROM:-0500
TZOFFSETTO:-0400
TZNAME:EDT
DTSTART:20250309T070000
END:DAYLIGHT
BEGIN:STANDARD
TZOFFSETFROM:-0400
TZOFFSETTO:-0500
TZNAME:EST
DTSTART:20251102T060000
END:STANDARD
BEGIN:DAYLIGHT
TZOFFSETFROM:-0500
TZOFFSETTO:-0400
TZNAME:EDT
DTSTART:20260308T070000
END:DAYLIGHT
BEGIN:STANDARD
TZOFFSETFROM:-0400
TZOFFSETTO:-0500
TZNAME:EST
DTSTART:20261101T060000
END:STANDARD
BEGIN:DAYLIGHT
TZOFFSETFROM:-0500
TZOFFSETTO:-0400
TZNAME:EDT
DTSTART:20270314T070000
END:DAYLIGHT
BEGIN:STANDARD
TZOFFSETFROM:-0400
TZOFFSETTO:-0500
TZNAME:EST
DTSTART:20271107T060000
END:STANDARD
BEGIN:DAYLIGHT
TZOFFSETFROM:-0500
TZOFFSETTO:-0400
TZNAME:EDT
DTSTART:20280312T070000
END:DAYLIGHT
BEGIN:STANDARD
TZOFFSETFROM:-0400
TZOFFSETTO:-0500
TZNAME:EST
DTSTART:20281105T060000
END:STANDARD
END:VTIMEZONE
BEGIN:VEVENT
DTSTART;TZID=America/New_York:20261029T190000
DTEND;TZID=America/New_York:20261029T210000
DTSTAMP:20260424T021926
CREATED:20241231T154422Z
LAST-MODIFIED:20250106T004336Z
UID:10007736-1793300400-1793307600@gracewindsor.org
SUMMARY:BSA Troop 149/1149
DESCRIPTION:
URL:https://gracewindsor.org/event/bsa-troop-149-1149/2026-10-29/
LOCATION:Grace Church Great Hall\, 311 Broad Street\, Windsor\, 06095
ATTACH;FMTTYPE=image/png:https://gracewindsor.org/wp-content/uploads/2023/10/March-29-2024-7.png
END:VEVENT
BEGIN:VEVENT
DTSTART;TZID=America/New_York:20261103T190000
DTEND;TZID=America/New_York:20261103T210000
DTSTAMP:20260424T021926
CREATED:20240825T001317Z
LAST-MODIFIED:20241104T162342Z
UID:10000443-1793732400-1793739600@gracewindsor.org
SUMMARY:Scottish Dancers
DESCRIPTION:
URL:https://gracewindsor.org/event/scottish-dancers-2/2026-11-03/
LOCATION:Grace Church Great Hall\, 311 Broad Street\, Windsor\, 06095
CATEGORIES:Meetings
ATTACH;FMTTYPE=image/png:https://gracewindsor.org/wp-content/uploads/2023/06/March-29-2024-6.png
END:VEVENT
BEGIN:VEVENT
DTSTART;TZID=America/New_York:20261104T101500
DTEND;TZID=America/New_York:20261104T113000
DTSTAMP:20260424T021926
CREATED:20241018T212328Z
LAST-MODIFIED:20241018T212519Z
UID:10005797-1793787300-1793791800@gracewindsor.org
SUMMARY:Body\, Mind & Spirt
DESCRIPTION:
URL:https://gracewindsor.org/event/body-mind-spirt-6/2026-11-04/
LOCATION:Grace Church Great Hall\, 311 Broad Street\, Windsor\, 06095
ATTACH;FMTTYPE=image/png:https://gracewindsor.org/wp-content/uploads/2024/03/March-29-2024-8.png
END:VEVENT
BEGIN:VEVENT
DTSTART;TZID=America/New_York:20261105T190000
DTEND;TZID=America/New_York:20261105T210000
DTSTAMP:20260424T021926
CREATED:20241231T154422Z
LAST-MODIFIED:20250106T004336Z
UID:10007737-1793905200-1793912400@gracewindsor.org
SUMMARY:BSA Troop 149/1149
DESCRIPTION:
URL:https://gracewindsor.org/event/bsa-troop-149-1149/2026-11-05/
LOCATION:Grace Church Great Hall\, 311 Broad Street\, Windsor\, 06095
ATTACH;FMTTYPE=image/png:https://gracewindsor.org/wp-content/uploads/2023/10/March-29-2024-7.png
END:VEVENT
BEGIN:VEVENT
DTSTART;TZID=America/New_York:20261110T190000
DTEND;TZID=America/New_York:20261110T210000
DTSTAMP:20260424T021926
CREATED:20240825T001317Z
LAST-MODIFIED:20241104T162342Z
UID:10000444-1794337200-1794344400@gracewindsor.org
SUMMARY:Scottish Dancers
DESCRIPTION:
URL:https://gracewindsor.org/event/scottish-dancers-2/2026-11-10/
LOCATION:Grace Church Great Hall\, 311 Broad Street\, Windsor\, 06095
CATEGORIES:Meetings
ATTACH;FMTTYPE=image/png:https://gracewindsor.org/wp-content/uploads/2023/06/March-29-2024-6.png
END:VEVENT
BEGIN:VEVENT
DTSTART;TZID=America/New_York:20261111T101500
DTEND;TZID=America/New_York:20261111T113000
DTSTAMP:20260424T021926
CREATED:20241018T212328Z
LAST-MODIFIED:20241018T212519Z
UID:10005798-1794392100-1794396600@gracewindsor.org
SUMMARY:Body\, Mind & Spirt
DESCRIPTION:
URL:https://gracewindsor.org/event/body-mind-spirt-6/2026-11-11/
LOCATION:Grace Church Great Hall\, 311 Broad Street\, Windsor\, 06095
ATTACH;FMTTYPE=image/png:https://gracewindsor.org/wp-content/uploads/2024/03/March-29-2024-8.png
END:VEVENT
BEGIN:VEVENT
DTSTART;TZID=America/New_York:20261112T190000
DTEND;TZID=America/New_York:20261112T210000
DTSTAMP:20260424T021926
CREATED:20241231T154422Z
LAST-MODIFIED:20250106T004336Z
UID:10007738-1794510000-1794517200@gracewindsor.org
SUMMARY:BSA Troop 149/1149
DESCRIPTION:
URL:https://gracewindsor.org/event/bsa-troop-149-1149/2026-11-12/
LOCATION:Grace Church Great Hall\, 311 Broad Street\, Windsor\, 06095
ATTACH;FMTTYPE=image/png:https://gracewindsor.org/wp-content/uploads/2023/10/March-29-2024-7.png
END:VEVENT
BEGIN:VEVENT
DTSTART;TZID=America/New_York:20261117T190000
DTEND;TZID=America/New_York:20261117T210000
DTSTAMP:20260424T021926
CREATED:20240825T001317Z
LAST-MODIFIED:20241104T162342Z
UID:10000445-1794942000-1794949200@gracewindsor.org
SUMMARY:Scottish Dancers
DESCRIPTION:
URL:https://gracewindsor.org/event/scottish-dancers-2/2026-11-17/
LOCATION:Grace Church Great Hall\, 311 Broad Street\, Windsor\, 06095
CATEGORIES:Meetings
ATTACH;FMTTYPE=image/png:https://gracewindsor.org/wp-content/uploads/2023/06/March-29-2024-6.png
END:VEVENT
BEGIN:VEVENT
DTSTART;TZID=America/New_York:20261118T101500
DTEND;TZID=America/New_York:20261118T113000
DTSTAMP:20260424T021926
CREATED:20241018T212328Z
LAST-MODIFIED:20241018T212519Z
UID:10005799-1794996900-1795001400@gracewindsor.org
SUMMARY:Body\, Mind & Spirt
DESCRIPTION:
URL:https://gracewindsor.org/event/body-mind-spirt-6/2026-11-18/
LOCATION:Grace Church Great Hall\, 311 Broad Street\, Windsor\, 06095
ATTACH;FMTTYPE=image/png:https://gracewindsor.org/wp-content/uploads/2024/03/March-29-2024-8.png
END:VEVENT
BEGIN:VEVENT
DTSTART;TZID=America/New_York:20261119T190000
DTEND;TZID=America/New_York:20261119T210000
DTSTAMP:20260424T021926
CREATED:20241231T154422Z
LAST-MODIFIED:20250106T004336Z
UID:10007739-1795114800-1795122000@gracewindsor.org
SUMMARY:BSA Troop 149/1149
DESCRIPTION:
URL:https://gracewindsor.org/event/bsa-troop-149-1149/2026-11-19/
LOCATION:Grace Church Great Hall\, 311 Broad Street\, Windsor\, 06095
ATTACH;FMTTYPE=image/png:https://gracewindsor.org/wp-content/uploads/2023/10/March-29-2024-7.png
END:VEVENT
BEGIN:VEVENT
DTSTART;TZID=America/New_York:20261124T190000
DTEND;TZID=America/New_York:20261124T210000
DTSTAMP:20260424T021926
CREATED:20240825T001317Z
LAST-MODIFIED:20241104T162342Z
UID:10000446-1795546800-1795554000@gracewindsor.org
SUMMARY:Scottish Dancers
DESCRIPTION:
URL:https://gracewindsor.org/event/scottish-dancers-2/2026-11-24/
LOCATION:Grace Church Great Hall\, 311 Broad Street\, Windsor\, 06095
CATEGORIES:Meetings
ATTACH;FMTTYPE=image/png:https://gracewindsor.org/wp-content/uploads/2023/06/March-29-2024-6.png
END:VEVENT
BEGIN:VEVENT
DTSTART;TZID=America/New_York:20261125T101500
DTEND;TZID=America/New_York:20261125T113000
DTSTAMP:20260424T021926
CREATED:20241018T212328Z
LAST-MODIFIED:20241018T212519Z
UID:10005800-1795601700-1795606200@gracewindsor.org
SUMMARY:Body\, Mind & Spirt
DESCRIPTION:
URL:https://gracewindsor.org/event/body-mind-spirt-6/2026-11-25/
LOCATION:Grace Church Great Hall\, 311 Broad Street\, Windsor\, 06095
ATTACH;FMTTYPE=image/png:https://gracewindsor.org/wp-content/uploads/2024/03/March-29-2024-8.png
END:VEVENT
BEGIN:VEVENT
DTSTART;TZID=America/New_York:20261126T190000
DTEND;TZID=America/New_York:20261126T210000
DTSTAMP:20260424T021926
CREATED:20241231T154422Z
LAST-MODIFIED:20250106T004336Z
UID:10007740-1795719600-1795726800@gracewindsor.org
SUMMARY:BSA Troop 149/1149
DESCRIPTION:
URL:https://gracewindsor.org/event/bsa-troop-149-1149/2026-11-26/
LOCATION:Grace Church Great Hall\, 311 Broad Street\, Windsor\, 06095
ATTACH;FMTTYPE=image/png:https://gracewindsor.org/wp-content/uploads/2023/10/March-29-2024-7.png
END:VEVENT
BEGIN:VEVENT
DTSTART;TZID=America/New_York:20261201T190000
DTEND;TZID=America/New_York:20261201T210000
DTSTAMP:20260424T021926
CREATED:20240825T001317Z
LAST-MODIFIED:20241104T162342Z
UID:10000447-1796151600-1796158800@gracewindsor.org
SUMMARY:Scottish Dancers
DESCRIPTION:
URL:https://gracewindsor.org/event/scottish-dancers-2/2026-12-01/
LOCATION:Grace Church Great Hall\, 311 Broad Street\, Windsor\, 06095
CATEGORIES:Meetings
ATTACH;FMTTYPE=image/png:https://gracewindsor.org/wp-content/uploads/2023/06/March-29-2024-6.png
END:VEVENT
BEGIN:VEVENT
DTSTART;TZID=America/New_York:20261202T101500
DTEND;TZID=America/New_York:20261202T113000
DTSTAMP:20260424T021926
CREATED:20241018T212328Z
LAST-MODIFIED:20241018T212519Z
UID:10005801-1796206500-1796211000@gracewindsor.org
SUMMARY:Body\, Mind & Spirt
DESCRIPTION:
URL:https://gracewindsor.org/event/body-mind-spirt-6/2026-12-02/
LOCATION:Grace Church Great Hall\, 311 Broad Street\, Windsor\, 06095
ATTACH;FMTTYPE=image/png:https://gracewindsor.org/wp-content/uploads/2024/03/March-29-2024-8.png
END:VEVENT
BEGIN:VEVENT
DTSTART;TZID=America/New_York:20261203T190000
DTEND;TZID=America/New_York:20261203T210000
DTSTAMP:20260424T021926
CREATED:20241231T154422Z
LAST-MODIFIED:20250106T004336Z
UID:10007741-1796324400-1796331600@gracewindsor.org
SUMMARY:BSA Troop 149/1149
DESCRIPTION:
URL:https://gracewindsor.org/event/bsa-troop-149-1149/2026-12-03/
LOCATION:Grace Church Great Hall\, 311 Broad Street\, Windsor\, 06095
ATTACH;FMTTYPE=image/png:https://gracewindsor.org/wp-content/uploads/2023/10/March-29-2024-7.png
END:VEVENT
BEGIN:VEVENT
DTSTART;TZID=America/New_York:20261208T190000
DTEND;TZID=America/New_York:20261208T210000
DTSTAMP:20260424T021926
CREATED:20240825T001317Z
LAST-MODIFIED:20241104T162342Z
UID:10000448-1796756400-1796763600@gracewindsor.org
SUMMARY:Scottish Dancers
DESCRIPTION:
URL:https://gracewindsor.org/event/scottish-dancers-2/2026-12-08/
LOCATION:Grace Church Great Hall\, 311 Broad Street\, Windsor\, 06095
CATEGORIES:Meetings
ATTACH;FMTTYPE=image/png:https://gracewindsor.org/wp-content/uploads/2023/06/March-29-2024-6.png
END:VEVENT
BEGIN:VEVENT
DTSTART;TZID=America/New_York:20261209T101500
DTEND;TZID=America/New_York:20261209T113000
DTSTAMP:20260424T021926
CREATED:20241018T212328Z
LAST-MODIFIED:20241018T212519Z
UID:10005802-1796811300-1796815800@gracewindsor.org
SUMMARY:Body\, Mind & Spirt
DESCRIPTION:
URL:https://gracewindsor.org/event/body-mind-spirt-6/2026-12-09/
LOCATION:Grace Church Great Hall\, 311 Broad Street\, Windsor\, 06095
ATTACH;FMTTYPE=image/png:https://gracewindsor.org/wp-content/uploads/2024/03/March-29-2024-8.png
END:VEVENT
BEGIN:VEVENT
DTSTART;TZID=America/New_York:20261210T190000
DTEND;TZID=America/New_York:20261210T210000
DTSTAMP:20260424T021926
CREATED:20241231T154422Z
LAST-MODIFIED:20250106T004336Z
UID:10007742-1796929200-1796936400@gracewindsor.org
SUMMARY:BSA Troop 149/1149
DESCRIPTION:
URL:https://gracewindsor.org/event/bsa-troop-149-1149/2026-12-10/
LOCATION:Grace Church Great Hall\, 311 Broad Street\, Windsor\, 06095
ATTACH;FMTTYPE=image/png:https://gracewindsor.org/wp-content/uploads/2023/10/March-29-2024-7.png
END:VEVENT
BEGIN:VEVENT
DTSTART;TZID=America/New_York:20261215T190000
DTEND;TZID=America/New_York:20261215T210000
DTSTAMP:20260424T021926
CREATED:20240825T001317Z
LAST-MODIFIED:20241104T162342Z
UID:10000449-1797361200-1797368400@gracewindsor.org
SUMMARY:Scottish Dancers
DESCRIPTION:
URL:https://gracewindsor.org/event/scottish-dancers-2/2026-12-15/
LOCATION:Grace Church Great Hall\, 311 Broad Street\, Windsor\, 06095
CATEGORIES:Meetings
ATTACH;FMTTYPE=image/png:https://gracewindsor.org/wp-content/uploads/2023/06/March-29-2024-6.png
END:VEVENT
BEGIN:VEVENT
DTSTART;TZID=America/New_York:20261216T101500
DTEND;TZID=America/New_York:20261216T113000
DTSTAMP:20260424T021926
CREATED:20241018T212328Z
LAST-MODIFIED:20241018T212519Z
UID:10005803-1797416100-1797420600@gracewindsor.org
SUMMARY:Body\, Mind & Spirt
DESCRIPTION:
URL:https://gracewindsor.org/event/body-mind-spirt-6/2026-12-16/
LOCATION:Grace Church Great Hall\, 311 Broad Street\, Windsor\, 06095
ATTACH;FMTTYPE=image/png:https://gracewindsor.org/wp-content/uploads/2024/03/March-29-2024-8.png
END:VEVENT
BEGIN:VEVENT
DTSTART;TZID=America/New_York:20261217T190000
DTEND;TZID=America/New_York:20261217T210000
DTSTAMP:20260424T021926
CREATED:20241231T154422Z
LAST-MODIFIED:20250106T004336Z
UID:10007743-1797534000-1797541200@gracewindsor.org
SUMMARY:BSA Troop 149/1149
DESCRIPTION:
URL:https://gracewindsor.org/event/bsa-troop-149-1149/2026-12-17/
LOCATION:Grace Church Great Hall\, 311 Broad Street\, Windsor\, 06095
ATTACH;FMTTYPE=image/png:https://gracewindsor.org/wp-content/uploads/2023/10/March-29-2024-7.png
END:VEVENT
BEGIN:VEVENT
DTSTART;TZID=America/New_York:20261222T190000
DTEND;TZID=America/New_York:20261222T210000
DTSTAMP:20260424T021926
CREATED:20240825T001317Z
LAST-MODIFIED:20241104T162342Z
UID:10000450-1797966000-1797973200@gracewindsor.org
SUMMARY:Scottish Dancers
DESCRIPTION:
URL:https://gracewindsor.org/event/scottish-dancers-2/2026-12-22/
LOCATION:Grace Church Great Hall\, 311 Broad Street\, Windsor\, 06095
CATEGORIES:Meetings
ATTACH;FMTTYPE=image/png:https://gracewindsor.org/wp-content/uploads/2023/06/March-29-2024-6.png
END:VEVENT
BEGIN:VEVENT
DTSTART;TZID=America/New_York:20261223T101500
DTEND;TZID=America/New_York:20261223T113000
DTSTAMP:20260424T021926
CREATED:20241018T212328Z
LAST-MODIFIED:20241018T212519Z
UID:10005804-1798020900-1798025400@gracewindsor.org
SUMMARY:Body\, Mind & Spirt
DESCRIPTION:
URL:https://gracewindsor.org/event/body-mind-spirt-6/2026-12-23/
LOCATION:Grace Church Great Hall\, 311 Broad Street\, Windsor\, 06095
ATTACH;FMTTYPE=image/png:https://gracewindsor.org/wp-content/uploads/2024/03/March-29-2024-8.png
END:VEVENT
BEGIN:VEVENT
DTSTART;TZID=America/New_York:20261224T190000
DTEND;TZID=America/New_York:20261224T210000
DTSTAMP:20260424T021926
CREATED:20241231T154422Z
LAST-MODIFIED:20250106T004336Z
UID:10007744-1798138800-1798146000@gracewindsor.org
SUMMARY:BSA Troop 149/1149
DESCRIPTION:
URL:https://gracewindsor.org/event/bsa-troop-149-1149/2026-12-24/
LOCATION:Grace Church Great Hall\, 311 Broad Street\, Windsor\, 06095
ATTACH;FMTTYPE=image/png:https://gracewindsor.org/wp-content/uploads/2023/10/March-29-2024-7.png
END:VEVENT
BEGIN:VEVENT
DTSTART;TZID=America/New_York:20261229T190000
DTEND;TZID=America/New_York:20261229T210000
DTSTAMP:20260424T021926
CREATED:20240825T001317Z
LAST-MODIFIED:20241104T162342Z
UID:10000451-1798570800-1798578000@gracewindsor.org
SUMMARY:Scottish Dancers
DESCRIPTION:
URL:https://gracewindsor.org/event/scottish-dancers-2/2026-12-29/
LOCATION:Grace Church Great Hall\, 311 Broad Street\, Windsor\, 06095
CATEGORIES:Meetings
ATTACH;FMTTYPE=image/png:https://gracewindsor.org/wp-content/uploads/2023/06/March-29-2024-6.png
END:VEVENT
BEGIN:VEVENT
DTSTART;TZID=America/New_York:20261230T101500
DTEND;TZID=America/New_York:20261230T113000
DTSTAMP:20260424T021926
CREATED:20241018T212328Z
LAST-MODIFIED:20241018T212519Z
UID:10005805-1798625700-1798630200@gracewindsor.org
SUMMARY:Body\, Mind & Spirt
DESCRIPTION:
URL:https://gracewindsor.org/event/body-mind-spirt-6/2026-12-30/
LOCATION:Grace Church Great Hall\, 311 Broad Street\, Windsor\, 06095
ATTACH;FMTTYPE=image/png:https://gracewindsor.org/wp-content/uploads/2024/03/March-29-2024-8.png
END:VEVENT
BEGIN:VEVENT
DTSTART;TZID=America/New_York:20261231T190000
DTEND;TZID=America/New_York:20261231T210000
DTSTAMP:20260424T021926
CREATED:20241231T154422Z
LAST-MODIFIED:20250106T004336Z
UID:10007745-1798743600-1798750800@gracewindsor.org
SUMMARY:BSA Troop 149/1149
DESCRIPTION:
URL:https://gracewindsor.org/event/bsa-troop-149-1149/2026-12-31/
LOCATION:Grace Church Great Hall\, 311 Broad Street\, Windsor\, 06095
ATTACH;FMTTYPE=image/png:https://gracewindsor.org/wp-content/uploads/2023/10/March-29-2024-7.png
END:VEVENT
BEGIN:VEVENT
DTSTART;TZID=America/New_York:20270105T190000
DTEND;TZID=America/New_York:20270105T210000
DTSTAMP:20260424T021926
CREATED:20240825T001317Z
LAST-MODIFIED:20241104T162342Z
UID:10000452-1799175600-1799182800@gracewindsor.org
SUMMARY:Scottish Dancers
DESCRIPTION:
URL:https://gracewindsor.org/event/scottish-dancers-2/2027-01-05/
LOCATION:Grace Church Great Hall\, 311 Broad Street\, Windsor\, 06095
CATEGORIES:Meetings
ATTACH;FMTTYPE=image/png:https://gracewindsor.org/wp-content/uploads/2023/06/March-29-2024-6.png
END:VEVENT
BEGIN:VEVENT
DTSTART;TZID=America/New_York:20270106T101500
DTEND;TZID=America/New_York:20270106T113000
DTSTAMP:20260424T021926
CREATED:20241018T212328Z
LAST-MODIFIED:20241018T212519Z
UID:10005806-1799230500-1799235000@gracewindsor.org
SUMMARY:Body\, Mind & Spirt
DESCRIPTION:
URL:https://gracewindsor.org/event/body-mind-spirt-6/2027-01-06/
LOCATION:Grace Church Great Hall\, 311 Broad Street\, Windsor\, 06095
ATTACH;FMTTYPE=image/png:https://gracewindsor.org/wp-content/uploads/2024/03/March-29-2024-8.png
END:VEVENT
END:VCALENDAR