BEGIN:VCALENDAR
VERSION:2.0
PRODID:-//Grace Espicopal Church Windsor Connecticut - ECPv6.15.20//NONSGML v1.0//EN
CALSCALE:GREGORIAN
METHOD:PUBLISH
X-WR-CALNAME:Grace Espicopal Church Windsor Connecticut
X-ORIGINAL-URL:https://gracewindsor.org
X-WR-CALDESC:Events for Grace Espicopal Church Windsor Connecticut
REFRESH-INTERVAL;VALUE=DURATION:PT1H
X-Robots-Tag:noindex
X-PUBLISHED-TTL:PT1H
BEGIN:VTIMEZONE
TZID:America/New_York
BEGIN:DAYLIGHT
TZOFFSETFROM:-0500
TZOFFSETTO:-0400
TZNAME:EDT
DTSTART:20250309T070000
END:DAYLIGHT
BEGIN:STANDARD
TZOFFSETFROM:-0400
TZOFFSETTO:-0500
TZNAME:EST
DTSTART:20251102T060000
END:STANDARD
BEGIN:DAYLIGHT
TZOFFSETFROM:-0500
TZOFFSETTO:-0400
TZNAME:EDT
DTSTART:20260308T070000
END:DAYLIGHT
BEGIN:STANDARD
TZOFFSETFROM:-0400
TZOFFSETTO:-0500
TZNAME:EST
DTSTART:20261101T060000
END:STANDARD
BEGIN:DAYLIGHT
TZOFFSETFROM:-0500
TZOFFSETTO:-0400
TZNAME:EDT
DTSTART:20270314T070000
END:DAYLIGHT
BEGIN:STANDARD
TZOFFSETFROM:-0400
TZOFFSETTO:-0500
TZNAME:EST
DTSTART:20271107T060000
END:STANDARD
END:VTIMEZONE
BEGIN:VEVENT
DTSTART;TZID=America/New_York:20260610T101500
DTEND;TZID=America/New_York:20260610T113000
DTSTAMP:20260423T170651
CREATED:20241018T212328Z
LAST-MODIFIED:20241018T212519Z
UID:10005776-1781086500-1781091000@gracewindsor.org
SUMMARY:Body\, Mind & Spirt
DESCRIPTION:
URL:https://gracewindsor.org/event/body-mind-spirt-6/2026-06-10/
LOCATION:Grace Church Great Hall\, 311 Broad Street\, Windsor\, 06095
ATTACH;FMTTYPE=image/png:https://gracewindsor.org/wp-content/uploads/2024/03/March-29-2024-8.png
END:VEVENT
BEGIN:VEVENT
DTSTART;TZID=America/New_York:20260611T190000
DTEND;TZID=America/New_York:20260611T210000
DTSTAMP:20260423T170651
CREATED:20241231T154422Z
LAST-MODIFIED:20250106T004336Z
UID:10007716-1781204400-1781211600@gracewindsor.org
SUMMARY:BSA Troop 149/1149
DESCRIPTION:
URL:https://gracewindsor.org/event/bsa-troop-149-1149/2026-06-11/
LOCATION:Grace Church Great Hall\, 311 Broad Street\, Windsor\, 06095
ATTACH;FMTTYPE=image/png:https://gracewindsor.org/wp-content/uploads/2023/10/March-29-2024-7.png
END:VEVENT
BEGIN:VEVENT
DTSTART;TZID=America/New_York:20260616T190000
DTEND;TZID=America/New_York:20260616T210000
DTSTAMP:20260423T170651
CREATED:20240825T001317Z
LAST-MODIFIED:20241104T162342Z
UID:10000423-1781636400-1781643600@gracewindsor.org
SUMMARY:Scottish Dancers
DESCRIPTION:
URL:https://gracewindsor.org/event/scottish-dancers-2/2026-06-16/
LOCATION:Grace Church Great Hall\, 311 Broad Street\, Windsor\, 06095
CATEGORIES:Meetings
ATTACH;FMTTYPE=image/png:https://gracewindsor.org/wp-content/uploads/2023/06/March-29-2024-6.png
END:VEVENT
BEGIN:VEVENT
DTSTART;TZID=America/New_York:20260617T101500
DTEND;TZID=America/New_York:20260617T113000
DTSTAMP:20260423T170651
CREATED:20241018T212328Z
LAST-MODIFIED:20241018T212519Z
UID:10005777-1781691300-1781695800@gracewindsor.org
SUMMARY:Body\, Mind & Spirt
DESCRIPTION:
URL:https://gracewindsor.org/event/body-mind-spirt-6/2026-06-17/
LOCATION:Grace Church Great Hall\, 311 Broad Street\, Windsor\, 06095
ATTACH;FMTTYPE=image/png:https://gracewindsor.org/wp-content/uploads/2024/03/March-29-2024-8.png
END:VEVENT
BEGIN:VEVENT
DTSTART;TZID=America/New_York:20260618T190000
DTEND;TZID=America/New_York:20260618T210000
DTSTAMP:20260423T170651
CREATED:20241231T154422Z
LAST-MODIFIED:20250106T004336Z
UID:10007717-1781809200-1781816400@gracewindsor.org
SUMMARY:BSA Troop 149/1149
DESCRIPTION:
URL:https://gracewindsor.org/event/bsa-troop-149-1149/2026-06-18/
LOCATION:Grace Church Great Hall\, 311 Broad Street\, Windsor\, 06095
ATTACH;FMTTYPE=image/png:https://gracewindsor.org/wp-content/uploads/2023/10/March-29-2024-7.png
END:VEVENT
BEGIN:VEVENT
DTSTART;TZID=America/New_York:20260623T190000
DTEND;TZID=America/New_York:20260623T210000
DTSTAMP:20260423T170651
CREATED:20240825T001317Z
LAST-MODIFIED:20241104T162342Z
UID:10000424-1782241200-1782248400@gracewindsor.org
SUMMARY:Scottish Dancers
DESCRIPTION:
URL:https://gracewindsor.org/event/scottish-dancers-2/2026-06-23/
LOCATION:Grace Church Great Hall\, 311 Broad Street\, Windsor\, 06095
CATEGORIES:Meetings
ATTACH;FMTTYPE=image/png:https://gracewindsor.org/wp-content/uploads/2023/06/March-29-2024-6.png
END:VEVENT
BEGIN:VEVENT
DTSTART;TZID=America/New_York:20260624T101500
DTEND;TZID=America/New_York:20260624T113000
DTSTAMP:20260423T170651
CREATED:20241018T212328Z
LAST-MODIFIED:20241018T212519Z
UID:10005778-1782296100-1782300600@gracewindsor.org
SUMMARY:Body\, Mind & Spirt
DESCRIPTION:
URL:https://gracewindsor.org/event/body-mind-spirt-6/2026-06-24/
LOCATION:Grace Church Great Hall\, 311 Broad Street\, Windsor\, 06095
ATTACH;FMTTYPE=image/png:https://gracewindsor.org/wp-content/uploads/2024/03/March-29-2024-8.png
END:VEVENT
BEGIN:VEVENT
DTSTART;TZID=America/New_York:20260625T190000
DTEND;TZID=America/New_York:20260625T210000
DTSTAMP:20260423T170651
CREATED:20241231T154422Z
LAST-MODIFIED:20250106T004336Z
UID:10007718-1782414000-1782421200@gracewindsor.org
SUMMARY:BSA Troop 149/1149
DESCRIPTION:
URL:https://gracewindsor.org/event/bsa-troop-149-1149/2026-06-25/
LOCATION:Grace Church Great Hall\, 311 Broad Street\, Windsor\, 06095
ATTACH;FMTTYPE=image/png:https://gracewindsor.org/wp-content/uploads/2023/10/March-29-2024-7.png
END:VEVENT
BEGIN:VEVENT
DTSTART;TZID=America/New_York:20260630T190000
DTEND;TZID=America/New_York:20260630T210000
DTSTAMP:20260423T170651
CREATED:20240825T001317Z
LAST-MODIFIED:20241104T162342Z
UID:10000425-1782846000-1782853200@gracewindsor.org
SUMMARY:Scottish Dancers
DESCRIPTION:
URL:https://gracewindsor.org/event/scottish-dancers-2/2026-06-30/
LOCATION:Grace Church Great Hall\, 311 Broad Street\, Windsor\, 06095
CATEGORIES:Meetings
ATTACH;FMTTYPE=image/png:https://gracewindsor.org/wp-content/uploads/2023/06/March-29-2024-6.png
END:VEVENT
BEGIN:VEVENT
DTSTART;TZID=America/New_York:20260701T101500
DTEND;TZID=America/New_York:20260701T113000
DTSTAMP:20260423T170651
CREATED:20241018T212328Z
LAST-MODIFIED:20241018T212519Z
UID:10005779-1782900900-1782905400@gracewindsor.org
SUMMARY:Body\, Mind & Spirt
DESCRIPTION:
URL:https://gracewindsor.org/event/body-mind-spirt-6/2026-07-01/
LOCATION:Grace Church Great Hall\, 311 Broad Street\, Windsor\, 06095
ATTACH;FMTTYPE=image/png:https://gracewindsor.org/wp-content/uploads/2024/03/March-29-2024-8.png
END:VEVENT
BEGIN:VEVENT
DTSTART;TZID=America/New_York:20260702T190000
DTEND;TZID=America/New_York:20260702T210000
DTSTAMP:20260423T170651
CREATED:20241231T154422Z
LAST-MODIFIED:20250106T004336Z
UID:10007719-1783018800-1783026000@gracewindsor.org
SUMMARY:BSA Troop 149/1149
DESCRIPTION:
URL:https://gracewindsor.org/event/bsa-troop-149-1149/2026-07-02/
LOCATION:Grace Church Great Hall\, 311 Broad Street\, Windsor\, 06095
ATTACH;FMTTYPE=image/png:https://gracewindsor.org/wp-content/uploads/2023/10/March-29-2024-7.png
END:VEVENT
BEGIN:VEVENT
DTSTART;TZID=America/New_York:20260707T190000
DTEND;TZID=America/New_York:20260707T210000
DTSTAMP:20260423T170651
CREATED:20240825T001317Z
LAST-MODIFIED:20241104T162342Z
UID:10000426-1783450800-1783458000@gracewindsor.org
SUMMARY:Scottish Dancers
DESCRIPTION:
URL:https://gracewindsor.org/event/scottish-dancers-2/2026-07-07/
LOCATION:Grace Church Great Hall\, 311 Broad Street\, Windsor\, 06095
CATEGORIES:Meetings
ATTACH;FMTTYPE=image/png:https://gracewindsor.org/wp-content/uploads/2023/06/March-29-2024-6.png
END:VEVENT
BEGIN:VEVENT
DTSTART;TZID=America/New_York:20260708T101500
DTEND;TZID=America/New_York:20260708T113000
DTSTAMP:20260423T170651
CREATED:20241018T212328Z
LAST-MODIFIED:20241018T212519Z
UID:10005780-1783505700-1783510200@gracewindsor.org
SUMMARY:Body\, Mind & Spirt
DESCRIPTION:
URL:https://gracewindsor.org/event/body-mind-spirt-6/2026-07-08/
LOCATION:Grace Church Great Hall\, 311 Broad Street\, Windsor\, 06095
ATTACH;FMTTYPE=image/png:https://gracewindsor.org/wp-content/uploads/2024/03/March-29-2024-8.png
END:VEVENT
BEGIN:VEVENT
DTSTART;TZID=America/New_York:20260709T190000
DTEND;TZID=America/New_York:20260709T210000
DTSTAMP:20260423T170651
CREATED:20241231T154422Z
LAST-MODIFIED:20250106T004336Z
UID:10007720-1783623600-1783630800@gracewindsor.org
SUMMARY:BSA Troop 149/1149
DESCRIPTION:
URL:https://gracewindsor.org/event/bsa-troop-149-1149/2026-07-09/
LOCATION:Grace Church Great Hall\, 311 Broad Street\, Windsor\, 06095
ATTACH;FMTTYPE=image/png:https://gracewindsor.org/wp-content/uploads/2023/10/March-29-2024-7.png
END:VEVENT
BEGIN:VEVENT
DTSTART;TZID=America/New_York:20260714T190000
DTEND;TZID=America/New_York:20260714T210000
DTSTAMP:20260423T170651
CREATED:20240825T001317Z
LAST-MODIFIED:20241104T162342Z
UID:10000427-1784055600-1784062800@gracewindsor.org
SUMMARY:Scottish Dancers
DESCRIPTION:
URL:https://gracewindsor.org/event/scottish-dancers-2/2026-07-14/
LOCATION:Grace Church Great Hall\, 311 Broad Street\, Windsor\, 06095
CATEGORIES:Meetings
ATTACH;FMTTYPE=image/png:https://gracewindsor.org/wp-content/uploads/2023/06/March-29-2024-6.png
END:VEVENT
BEGIN:VEVENT
DTSTART;TZID=America/New_York:20260715T101500
DTEND;TZID=America/New_York:20260715T113000
DTSTAMP:20260423T170651
CREATED:20241018T212328Z
LAST-MODIFIED:20241018T212519Z
UID:10005781-1784110500-1784115000@gracewindsor.org
SUMMARY:Body\, Mind & Spirt
DESCRIPTION:
URL:https://gracewindsor.org/event/body-mind-spirt-6/2026-07-15/
LOCATION:Grace Church Great Hall\, 311 Broad Street\, Windsor\, 06095
ATTACH;FMTTYPE=image/png:https://gracewindsor.org/wp-content/uploads/2024/03/March-29-2024-8.png
END:VEVENT
BEGIN:VEVENT
DTSTART;TZID=America/New_York:20260716T190000
DTEND;TZID=America/New_York:20260716T210000
DTSTAMP:20260423T170651
CREATED:20241231T154422Z
LAST-MODIFIED:20250106T004336Z
UID:10007721-1784228400-1784235600@gracewindsor.org
SUMMARY:BSA Troop 149/1149
DESCRIPTION:
URL:https://gracewindsor.org/event/bsa-troop-149-1149/2026-07-16/
LOCATION:Grace Church Great Hall\, 311 Broad Street\, Windsor\, 06095
ATTACH;FMTTYPE=image/png:https://gracewindsor.org/wp-content/uploads/2023/10/March-29-2024-7.png
END:VEVENT
BEGIN:VEVENT
DTSTART;TZID=America/New_York:20260721T190000
DTEND;TZID=America/New_York:20260721T210000
DTSTAMP:20260423T170651
CREATED:20240825T001317Z
LAST-MODIFIED:20241104T162342Z
UID:10000428-1784660400-1784667600@gracewindsor.org
SUMMARY:Scottish Dancers
DESCRIPTION:
URL:https://gracewindsor.org/event/scottish-dancers-2/2026-07-21/
LOCATION:Grace Church Great Hall\, 311 Broad Street\, Windsor\, 06095
CATEGORIES:Meetings
ATTACH;FMTTYPE=image/png:https://gracewindsor.org/wp-content/uploads/2023/06/March-29-2024-6.png
END:VEVENT
BEGIN:VEVENT
DTSTART;TZID=America/New_York:20260722T101500
DTEND;TZID=America/New_York:20260722T113000
DTSTAMP:20260423T170651
CREATED:20241018T212328Z
LAST-MODIFIED:20241018T212519Z
UID:10005782-1784715300-1784719800@gracewindsor.org
SUMMARY:Body\, Mind & Spirt
DESCRIPTION:
URL:https://gracewindsor.org/event/body-mind-spirt-6/2026-07-22/
LOCATION:Grace Church Great Hall\, 311 Broad Street\, Windsor\, 06095
ATTACH;FMTTYPE=image/png:https://gracewindsor.org/wp-content/uploads/2024/03/March-29-2024-8.png
END:VEVENT
BEGIN:VEVENT
DTSTART;TZID=America/New_York:20260723T190000
DTEND;TZID=America/New_York:20260723T210000
DTSTAMP:20260423T170651
CREATED:20241231T154422Z
LAST-MODIFIED:20250106T004336Z
UID:10007722-1784833200-1784840400@gracewindsor.org
SUMMARY:BSA Troop 149/1149
DESCRIPTION:
URL:https://gracewindsor.org/event/bsa-troop-149-1149/2026-07-23/
LOCATION:Grace Church Great Hall\, 311 Broad Street\, Windsor\, 06095
ATTACH;FMTTYPE=image/png:https://gracewindsor.org/wp-content/uploads/2023/10/March-29-2024-7.png
END:VEVENT
BEGIN:VEVENT
DTSTART;TZID=America/New_York:20260728T190000
DTEND;TZID=America/New_York:20260728T210000
DTSTAMP:20260423T170651
CREATED:20240825T001317Z
LAST-MODIFIED:20241104T162342Z
UID:10000429-1785265200-1785272400@gracewindsor.org
SUMMARY:Scottish Dancers
DESCRIPTION:
URL:https://gracewindsor.org/event/scottish-dancers-2/2026-07-28/
LOCATION:Grace Church Great Hall\, 311 Broad Street\, Windsor\, 06095
CATEGORIES:Meetings
ATTACH;FMTTYPE=image/png:https://gracewindsor.org/wp-content/uploads/2023/06/March-29-2024-6.png
END:VEVENT
BEGIN:VEVENT
DTSTART;TZID=America/New_York:20260729T101500
DTEND;TZID=America/New_York:20260729T113000
DTSTAMP:20260423T170651
CREATED:20241018T212328Z
LAST-MODIFIED:20241018T212519Z
UID:10005783-1785320100-1785324600@gracewindsor.org
SUMMARY:Body\, Mind & Spirt
DESCRIPTION:
URL:https://gracewindsor.org/event/body-mind-spirt-6/2026-07-29/
LOCATION:Grace Church Great Hall\, 311 Broad Street\, Windsor\, 06095
ATTACH;FMTTYPE=image/png:https://gracewindsor.org/wp-content/uploads/2024/03/March-29-2024-8.png
END:VEVENT
BEGIN:VEVENT
DTSTART;TZID=America/New_York:20260730T190000
DTEND;TZID=America/New_York:20260730T210000
DTSTAMP:20260423T170651
CREATED:20241231T154422Z
LAST-MODIFIED:20250106T004336Z
UID:10007723-1785438000-1785445200@gracewindsor.org
SUMMARY:BSA Troop 149/1149
DESCRIPTION:
URL:https://gracewindsor.org/event/bsa-troop-149-1149/2026-07-30/
LOCATION:Grace Church Great Hall\, 311 Broad Street\, Windsor\, 06095
ATTACH;FMTTYPE=image/png:https://gracewindsor.org/wp-content/uploads/2023/10/March-29-2024-7.png
END:VEVENT
BEGIN:VEVENT
DTSTART;TZID=America/New_York:20260804T190000
DTEND;TZID=America/New_York:20260804T210000
DTSTAMP:20260423T170651
CREATED:20240825T001317Z
LAST-MODIFIED:20241104T162342Z
UID:10000430-1785870000-1785877200@gracewindsor.org
SUMMARY:Scottish Dancers
DESCRIPTION:
URL:https://gracewindsor.org/event/scottish-dancers-2/2026-08-04/
LOCATION:Grace Church Great Hall\, 311 Broad Street\, Windsor\, 06095
CATEGORIES:Meetings
ATTACH;FMTTYPE=image/png:https://gracewindsor.org/wp-content/uploads/2023/06/March-29-2024-6.png
END:VEVENT
BEGIN:VEVENT
DTSTART;TZID=America/New_York:20260805T101500
DTEND;TZID=America/New_York:20260805T113000
DTSTAMP:20260423T170651
CREATED:20241018T212328Z
LAST-MODIFIED:20241018T212519Z
UID:10005784-1785924900-1785929400@gracewindsor.org
SUMMARY:Body\, Mind & Spirt
DESCRIPTION:
URL:https://gracewindsor.org/event/body-mind-spirt-6/2026-08-05/
LOCATION:Grace Church Great Hall\, 311 Broad Street\, Windsor\, 06095
ATTACH;FMTTYPE=image/png:https://gracewindsor.org/wp-content/uploads/2024/03/March-29-2024-8.png
END:VEVENT
BEGIN:VEVENT
DTSTART;TZID=America/New_York:20260806T190000
DTEND;TZID=America/New_York:20260806T210000
DTSTAMP:20260423T170651
CREATED:20241231T154422Z
LAST-MODIFIED:20250106T004336Z
UID:10007724-1786042800-1786050000@gracewindsor.org
SUMMARY:BSA Troop 149/1149
DESCRIPTION:
URL:https://gracewindsor.org/event/bsa-troop-149-1149/2026-08-06/
LOCATION:Grace Church Great Hall\, 311 Broad Street\, Windsor\, 06095
ATTACH;FMTTYPE=image/png:https://gracewindsor.org/wp-content/uploads/2023/10/March-29-2024-7.png
END:VEVENT
BEGIN:VEVENT
DTSTART;TZID=America/New_York:20260811T190000
DTEND;TZID=America/New_York:20260811T210000
DTSTAMP:20260423T170651
CREATED:20240825T001317Z
LAST-MODIFIED:20241104T162342Z
UID:10000431-1786474800-1786482000@gracewindsor.org
SUMMARY:Scottish Dancers
DESCRIPTION:
URL:https://gracewindsor.org/event/scottish-dancers-2/2026-08-11/
LOCATION:Grace Church Great Hall\, 311 Broad Street\, Windsor\, 06095
CATEGORIES:Meetings
ATTACH;FMTTYPE=image/png:https://gracewindsor.org/wp-content/uploads/2023/06/March-29-2024-6.png
END:VEVENT
BEGIN:VEVENT
DTSTART;TZID=America/New_York:20260812T101500
DTEND;TZID=America/New_York:20260812T113000
DTSTAMP:20260423T170651
CREATED:20241018T212328Z
LAST-MODIFIED:20241018T212519Z
UID:10005785-1786529700-1786534200@gracewindsor.org
SUMMARY:Body\, Mind & Spirt
DESCRIPTION:
URL:https://gracewindsor.org/event/body-mind-spirt-6/2026-08-12/
LOCATION:Grace Church Great Hall\, 311 Broad Street\, Windsor\, 06095
ATTACH;FMTTYPE=image/png:https://gracewindsor.org/wp-content/uploads/2024/03/March-29-2024-8.png
END:VEVENT
BEGIN:VEVENT
DTSTART;TZID=America/New_York:20260813T190000
DTEND;TZID=America/New_York:20260813T210000
DTSTAMP:20260423T170651
CREATED:20241231T154422Z
LAST-MODIFIED:20250106T004336Z
UID:10007725-1786647600-1786654800@gracewindsor.org
SUMMARY:BSA Troop 149/1149
DESCRIPTION:
URL:https://gracewindsor.org/event/bsa-troop-149-1149/2026-08-13/
LOCATION:Grace Church Great Hall\, 311 Broad Street\, Windsor\, 06095
ATTACH;FMTTYPE=image/png:https://gracewindsor.org/wp-content/uploads/2023/10/March-29-2024-7.png
END:VEVENT
BEGIN:VEVENT
DTSTART;TZID=America/New_York:20260818T190000
DTEND;TZID=America/New_York:20260818T210000
DTSTAMP:20260423T170651
CREATED:20240825T001317Z
LAST-MODIFIED:20241104T162342Z
UID:10000432-1787079600-1787086800@gracewindsor.org
SUMMARY:Scottish Dancers
DESCRIPTION:
URL:https://gracewindsor.org/event/scottish-dancers-2/2026-08-18/
LOCATION:Grace Church Great Hall\, 311 Broad Street\, Windsor\, 06095
CATEGORIES:Meetings
ATTACH;FMTTYPE=image/png:https://gracewindsor.org/wp-content/uploads/2023/06/March-29-2024-6.png
END:VEVENT
END:VCALENDAR