BEGIN:VCALENDAR
VERSION:2.0
PRODID:-//Grace Espicopal Church Windsor Connecticut - ECPv6.15.20//NONSGML v1.0//EN
CALSCALE:GREGORIAN
METHOD:PUBLISH
X-WR-CALNAME:Grace Espicopal Church Windsor Connecticut
X-ORIGINAL-URL:https://gracewindsor.org
X-WR-CALDESC:Events for Grace Espicopal Church Windsor Connecticut
REFRESH-INTERVAL;VALUE=DURATION:PT1H
X-Robots-Tag:noindex
X-PUBLISHED-TTL:PT1H
BEGIN:VTIMEZONE
TZID:America/New_York
BEGIN:DAYLIGHT
TZOFFSETFROM:-0500
TZOFFSETTO:-0400
TZNAME:EDT
DTSTART:20250309T070000
END:DAYLIGHT
BEGIN:STANDARD
TZOFFSETFROM:-0400
TZOFFSETTO:-0500
TZNAME:EST
DTSTART:20251102T060000
END:STANDARD
BEGIN:DAYLIGHT
TZOFFSETFROM:-0500
TZOFFSETTO:-0400
TZNAME:EDT
DTSTART:20260308T070000
END:DAYLIGHT
BEGIN:STANDARD
TZOFFSETFROM:-0400
TZOFFSETTO:-0500
TZNAME:EST
DTSTART:20261101T060000
END:STANDARD
BEGIN:DAYLIGHT
TZOFFSETFROM:-0500
TZOFFSETTO:-0400
TZNAME:EDT
DTSTART:20270314T070000
END:DAYLIGHT
BEGIN:STANDARD
TZOFFSETFROM:-0400
TZOFFSETTO:-0500
TZNAME:EST
DTSTART:20271107T060000
END:STANDARD
END:VTIMEZONE
BEGIN:VEVENT
DTSTART;TZID=America/New_York:20260428T190000
DTEND;TZID=America/New_York:20260428T210000
DTSTAMP:20260423T060343
CREATED:20240825T001317Z
LAST-MODIFIED:20241104T162342Z
UID:10000416-1777402800-1777410000@gracewindsor.org
SUMMARY:Scottish Dancers
DESCRIPTION:
URL:https://gracewindsor.org/event/scottish-dancers-2/2026-04-28/
LOCATION:Grace Church Great Hall\, 311 Broad Street\, Windsor\, 06095
CATEGORIES:Meetings
ATTACH;FMTTYPE=image/png:https://gracewindsor.org/wp-content/uploads/2023/06/March-29-2024-6.png
END:VEVENT
BEGIN:VEVENT
DTSTART;TZID=America/New_York:20260505T190000
DTEND;TZID=America/New_York:20260505T210000
DTSTAMP:20260423T060343
CREATED:20240825T001317Z
LAST-MODIFIED:20241104T162342Z
UID:10000417-1778007600-1778014800@gracewindsor.org
SUMMARY:Scottish Dancers
DESCRIPTION:
URL:https://gracewindsor.org/event/scottish-dancers-2/2026-05-05/
LOCATION:Grace Church Great Hall\, 311 Broad Street\, Windsor\, 06095
CATEGORIES:Meetings
ATTACH;FMTTYPE=image/png:https://gracewindsor.org/wp-content/uploads/2023/06/March-29-2024-6.png
END:VEVENT
BEGIN:VEVENT
DTSTART;TZID=America/New_York:20260512T190000
DTEND;TZID=America/New_York:20260512T210000
DTSTAMP:20260423T060343
CREATED:20240825T001317Z
LAST-MODIFIED:20241104T162342Z
UID:10000418-1778612400-1778619600@gracewindsor.org
SUMMARY:Scottish Dancers
DESCRIPTION:
URL:https://gracewindsor.org/event/scottish-dancers-2/2026-05-12/
LOCATION:Grace Church Great Hall\, 311 Broad Street\, Windsor\, 06095
CATEGORIES:Meetings
ATTACH;FMTTYPE=image/png:https://gracewindsor.org/wp-content/uploads/2023/06/March-29-2024-6.png
END:VEVENT
BEGIN:VEVENT
DTSTART;TZID=America/New_York:20260519T190000
DTEND;TZID=America/New_York:20260519T210000
DTSTAMP:20260423T060343
CREATED:20240825T001317Z
LAST-MODIFIED:20241104T162342Z
UID:10000419-1779217200-1779224400@gracewindsor.org
SUMMARY:Scottish Dancers
DESCRIPTION:
URL:https://gracewindsor.org/event/scottish-dancers-2/2026-05-19/
LOCATION:Grace Church Great Hall\, 311 Broad Street\, Windsor\, 06095
CATEGORIES:Meetings
ATTACH;FMTTYPE=image/png:https://gracewindsor.org/wp-content/uploads/2023/06/March-29-2024-6.png
END:VEVENT
BEGIN:VEVENT
DTSTART;TZID=America/New_York:20260526T190000
DTEND;TZID=America/New_York:20260526T210000
DTSTAMP:20260423T060343
CREATED:20240825T001317Z
LAST-MODIFIED:20241104T162342Z
UID:10000420-1779822000-1779829200@gracewindsor.org
SUMMARY:Scottish Dancers
DESCRIPTION:
URL:https://gracewindsor.org/event/scottish-dancers-2/2026-05-26/
LOCATION:Grace Church Great Hall\, 311 Broad Street\, Windsor\, 06095
CATEGORIES:Meetings
ATTACH;FMTTYPE=image/png:https://gracewindsor.org/wp-content/uploads/2023/06/March-29-2024-6.png
END:VEVENT
BEGIN:VEVENT
DTSTART;TZID=America/New_York:20260602T190000
DTEND;TZID=America/New_York:20260602T210000
DTSTAMP:20260423T060343
CREATED:20240825T001317Z
LAST-MODIFIED:20241104T162342Z
UID:10000421-1780426800-1780434000@gracewindsor.org
SUMMARY:Scottish Dancers
DESCRIPTION:
URL:https://gracewindsor.org/event/scottish-dancers-2/2026-06-02/
LOCATION:Grace Church Great Hall\, 311 Broad Street\, Windsor\, 06095
CATEGORIES:Meetings
ATTACH;FMTTYPE=image/png:https://gracewindsor.org/wp-content/uploads/2023/06/March-29-2024-6.png
END:VEVENT
BEGIN:VEVENT
DTSTART;TZID=America/New_York:20260609T190000
DTEND;TZID=America/New_York:20260609T210000
DTSTAMP:20260423T060343
CREATED:20240825T001317Z
LAST-MODIFIED:20241104T162342Z
UID:10000422-1781031600-1781038800@gracewindsor.org
SUMMARY:Scottish Dancers
DESCRIPTION:
URL:https://gracewindsor.org/event/scottish-dancers-2/2026-06-09/
LOCATION:Grace Church Great Hall\, 311 Broad Street\, Windsor\, 06095
CATEGORIES:Meetings
ATTACH;FMTTYPE=image/png:https://gracewindsor.org/wp-content/uploads/2023/06/March-29-2024-6.png
END:VEVENT
BEGIN:VEVENT
DTSTART;TZID=America/New_York:20260616T190000
DTEND;TZID=America/New_York:20260616T210000
DTSTAMP:20260423T060343
CREATED:20240825T001317Z
LAST-MODIFIED:20241104T162342Z
UID:10000423-1781636400-1781643600@gracewindsor.org
SUMMARY:Scottish Dancers
DESCRIPTION:
URL:https://gracewindsor.org/event/scottish-dancers-2/2026-06-16/
LOCATION:Grace Church Great Hall\, 311 Broad Street\, Windsor\, 06095
CATEGORIES:Meetings
ATTACH;FMTTYPE=image/png:https://gracewindsor.org/wp-content/uploads/2023/06/March-29-2024-6.png
END:VEVENT
BEGIN:VEVENT
DTSTART;TZID=America/New_York:20260623T190000
DTEND;TZID=America/New_York:20260623T210000
DTSTAMP:20260423T060343
CREATED:20240825T001317Z
LAST-MODIFIED:20241104T162342Z
UID:10000424-1782241200-1782248400@gracewindsor.org
SUMMARY:Scottish Dancers
DESCRIPTION:
URL:https://gracewindsor.org/event/scottish-dancers-2/2026-06-23/
LOCATION:Grace Church Great Hall\, 311 Broad Street\, Windsor\, 06095
CATEGORIES:Meetings
ATTACH;FMTTYPE=image/png:https://gracewindsor.org/wp-content/uploads/2023/06/March-29-2024-6.png
END:VEVENT
BEGIN:VEVENT
DTSTART;TZID=America/New_York:20260630T190000
DTEND;TZID=America/New_York:20260630T210000
DTSTAMP:20260423T060343
CREATED:20240825T001317Z
LAST-MODIFIED:20241104T162342Z
UID:10000425-1782846000-1782853200@gracewindsor.org
SUMMARY:Scottish Dancers
DESCRIPTION:
URL:https://gracewindsor.org/event/scottish-dancers-2/2026-06-30/
LOCATION:Grace Church Great Hall\, 311 Broad Street\, Windsor\, 06095
CATEGORIES:Meetings
ATTACH;FMTTYPE=image/png:https://gracewindsor.org/wp-content/uploads/2023/06/March-29-2024-6.png
END:VEVENT
BEGIN:VEVENT
DTSTART;TZID=America/New_York:20260707T190000
DTEND;TZID=America/New_York:20260707T210000
DTSTAMP:20260423T060343
CREATED:20240825T001317Z
LAST-MODIFIED:20241104T162342Z
UID:10000426-1783450800-1783458000@gracewindsor.org
SUMMARY:Scottish Dancers
DESCRIPTION:
URL:https://gracewindsor.org/event/scottish-dancers-2/2026-07-07/
LOCATION:Grace Church Great Hall\, 311 Broad Street\, Windsor\, 06095
CATEGORIES:Meetings
ATTACH;FMTTYPE=image/png:https://gracewindsor.org/wp-content/uploads/2023/06/March-29-2024-6.png
END:VEVENT
BEGIN:VEVENT
DTSTART;TZID=America/New_York:20260714T190000
DTEND;TZID=America/New_York:20260714T210000
DTSTAMP:20260423T060343
CREATED:20240825T001317Z
LAST-MODIFIED:20241104T162342Z
UID:10000427-1784055600-1784062800@gracewindsor.org
SUMMARY:Scottish Dancers
DESCRIPTION:
URL:https://gracewindsor.org/event/scottish-dancers-2/2026-07-14/
LOCATION:Grace Church Great Hall\, 311 Broad Street\, Windsor\, 06095
CATEGORIES:Meetings
ATTACH;FMTTYPE=image/png:https://gracewindsor.org/wp-content/uploads/2023/06/March-29-2024-6.png
END:VEVENT
BEGIN:VEVENT
DTSTART;TZID=America/New_York:20260721T190000
DTEND;TZID=America/New_York:20260721T210000
DTSTAMP:20260423T060343
CREATED:20240825T001317Z
LAST-MODIFIED:20241104T162342Z
UID:10000428-1784660400-1784667600@gracewindsor.org
SUMMARY:Scottish Dancers
DESCRIPTION:
URL:https://gracewindsor.org/event/scottish-dancers-2/2026-07-21/
LOCATION:Grace Church Great Hall\, 311 Broad Street\, Windsor\, 06095
CATEGORIES:Meetings
ATTACH;FMTTYPE=image/png:https://gracewindsor.org/wp-content/uploads/2023/06/March-29-2024-6.png
END:VEVENT
BEGIN:VEVENT
DTSTART;TZID=America/New_York:20260728T190000
DTEND;TZID=America/New_York:20260728T210000
DTSTAMP:20260423T060343
CREATED:20240825T001317Z
LAST-MODIFIED:20241104T162342Z
UID:10000429-1785265200-1785272400@gracewindsor.org
SUMMARY:Scottish Dancers
DESCRIPTION:
URL:https://gracewindsor.org/event/scottish-dancers-2/2026-07-28/
LOCATION:Grace Church Great Hall\, 311 Broad Street\, Windsor\, 06095
CATEGORIES:Meetings
ATTACH;FMTTYPE=image/png:https://gracewindsor.org/wp-content/uploads/2023/06/March-29-2024-6.png
END:VEVENT
BEGIN:VEVENT
DTSTART;TZID=America/New_York:20260804T190000
DTEND;TZID=America/New_York:20260804T210000
DTSTAMP:20260423T060343
CREATED:20240825T001317Z
LAST-MODIFIED:20241104T162342Z
UID:10000430-1785870000-1785877200@gracewindsor.org
SUMMARY:Scottish Dancers
DESCRIPTION:
URL:https://gracewindsor.org/event/scottish-dancers-2/2026-08-04/
LOCATION:Grace Church Great Hall\, 311 Broad Street\, Windsor\, 06095
CATEGORIES:Meetings
ATTACH;FMTTYPE=image/png:https://gracewindsor.org/wp-content/uploads/2023/06/March-29-2024-6.png
END:VEVENT
BEGIN:VEVENT
DTSTART;TZID=America/New_York:20260811T190000
DTEND;TZID=America/New_York:20260811T210000
DTSTAMP:20260423T060343
CREATED:20240825T001317Z
LAST-MODIFIED:20241104T162342Z
UID:10000431-1786474800-1786482000@gracewindsor.org
SUMMARY:Scottish Dancers
DESCRIPTION:
URL:https://gracewindsor.org/event/scottish-dancers-2/2026-08-11/
LOCATION:Grace Church Great Hall\, 311 Broad Street\, Windsor\, 06095
CATEGORIES:Meetings
ATTACH;FMTTYPE=image/png:https://gracewindsor.org/wp-content/uploads/2023/06/March-29-2024-6.png
END:VEVENT
BEGIN:VEVENT
DTSTART;TZID=America/New_York:20260818T190000
DTEND;TZID=America/New_York:20260818T210000
DTSTAMP:20260423T060343
CREATED:20240825T001317Z
LAST-MODIFIED:20241104T162342Z
UID:10000432-1787079600-1787086800@gracewindsor.org
SUMMARY:Scottish Dancers
DESCRIPTION:
URL:https://gracewindsor.org/event/scottish-dancers-2/2026-08-18/
LOCATION:Grace Church Great Hall\, 311 Broad Street\, Windsor\, 06095
CATEGORIES:Meetings
ATTACH;FMTTYPE=image/png:https://gracewindsor.org/wp-content/uploads/2023/06/March-29-2024-6.png
END:VEVENT
BEGIN:VEVENT
DTSTART;TZID=America/New_York:20260825T190000
DTEND;TZID=America/New_York:20260825T210000
DTSTAMP:20260423T060343
CREATED:20240825T001317Z
LAST-MODIFIED:20241104T162342Z
UID:10000433-1787684400-1787691600@gracewindsor.org
SUMMARY:Scottish Dancers
DESCRIPTION:
URL:https://gracewindsor.org/event/scottish-dancers-2/2026-08-25/
LOCATION:Grace Church Great Hall\, 311 Broad Street\, Windsor\, 06095
CATEGORIES:Meetings
ATTACH;FMTTYPE=image/png:https://gracewindsor.org/wp-content/uploads/2023/06/March-29-2024-6.png
END:VEVENT
BEGIN:VEVENT
DTSTART;TZID=America/New_York:20260901T190000
DTEND;TZID=America/New_York:20260901T210000
DTSTAMP:20260423T060343
CREATED:20240825T001317Z
LAST-MODIFIED:20241104T162342Z
UID:10000434-1788289200-1788296400@gracewindsor.org
SUMMARY:Scottish Dancers
DESCRIPTION:
URL:https://gracewindsor.org/event/scottish-dancers-2/2026-09-01/
LOCATION:Grace Church Great Hall\, 311 Broad Street\, Windsor\, 06095
CATEGORIES:Meetings
ATTACH;FMTTYPE=image/png:https://gracewindsor.org/wp-content/uploads/2023/06/March-29-2024-6.png
END:VEVENT
BEGIN:VEVENT
DTSTART;TZID=America/New_York:20260908T190000
DTEND;TZID=America/New_York:20260908T210000
DTSTAMP:20260423T060343
CREATED:20240825T001317Z
LAST-MODIFIED:20241104T162342Z
UID:10000435-1788894000-1788901200@gracewindsor.org
SUMMARY:Scottish Dancers
DESCRIPTION:
URL:https://gracewindsor.org/event/scottish-dancers-2/2026-09-08/
LOCATION:Grace Church Great Hall\, 311 Broad Street\, Windsor\, 06095
CATEGORIES:Meetings
ATTACH;FMTTYPE=image/png:https://gracewindsor.org/wp-content/uploads/2023/06/March-29-2024-6.png
END:VEVENT
BEGIN:VEVENT
DTSTART;TZID=America/New_York:20260915T190000
DTEND;TZID=America/New_York:20260915T210000
DTSTAMP:20260423T060343
CREATED:20240825T001317Z
LAST-MODIFIED:20241104T162342Z
UID:10000436-1789498800-1789506000@gracewindsor.org
SUMMARY:Scottish Dancers
DESCRIPTION:
URL:https://gracewindsor.org/event/scottish-dancers-2/2026-09-15/
LOCATION:Grace Church Great Hall\, 311 Broad Street\, Windsor\, 06095
CATEGORIES:Meetings
ATTACH;FMTTYPE=image/png:https://gracewindsor.org/wp-content/uploads/2023/06/March-29-2024-6.png
END:VEVENT
BEGIN:VEVENT
DTSTART;TZID=America/New_York:20260922T190000
DTEND;TZID=America/New_York:20260922T210000
DTSTAMP:20260423T060343
CREATED:20240825T001317Z
LAST-MODIFIED:20241104T162342Z
UID:10000437-1790103600-1790110800@gracewindsor.org
SUMMARY:Scottish Dancers
DESCRIPTION:
URL:https://gracewindsor.org/event/scottish-dancers-2/2026-09-22/
LOCATION:Grace Church Great Hall\, 311 Broad Street\, Windsor\, 06095
CATEGORIES:Meetings
ATTACH;FMTTYPE=image/png:https://gracewindsor.org/wp-content/uploads/2023/06/March-29-2024-6.png
END:VEVENT
BEGIN:VEVENT
DTSTART;TZID=America/New_York:20260929T190000
DTEND;TZID=America/New_York:20260929T210000
DTSTAMP:20260423T060343
CREATED:20240825T001317Z
LAST-MODIFIED:20241104T162342Z
UID:10000438-1790708400-1790715600@gracewindsor.org
SUMMARY:Scottish Dancers
DESCRIPTION:
URL:https://gracewindsor.org/event/scottish-dancers-2/2026-09-29/
LOCATION:Grace Church Great Hall\, 311 Broad Street\, Windsor\, 06095
CATEGORIES:Meetings
ATTACH;FMTTYPE=image/png:https://gracewindsor.org/wp-content/uploads/2023/06/March-29-2024-6.png
END:VEVENT
BEGIN:VEVENT
DTSTART;TZID=America/New_York:20261006T190000
DTEND;TZID=America/New_York:20261006T210000
DTSTAMP:20260423T060343
CREATED:20240825T001317Z
LAST-MODIFIED:20241104T162342Z
UID:10000439-1791313200-1791320400@gracewindsor.org
SUMMARY:Scottish Dancers
DESCRIPTION:
URL:https://gracewindsor.org/event/scottish-dancers-2/2026-10-06/
LOCATION:Grace Church Great Hall\, 311 Broad Street\, Windsor\, 06095
CATEGORIES:Meetings
ATTACH;FMTTYPE=image/png:https://gracewindsor.org/wp-content/uploads/2023/06/March-29-2024-6.png
END:VEVENT
BEGIN:VEVENT
DTSTART;TZID=America/New_York:20261013T190000
DTEND;TZID=America/New_York:20261013T210000
DTSTAMP:20260423T060343
CREATED:20240825T001317Z
LAST-MODIFIED:20241104T162342Z
UID:10000440-1791918000-1791925200@gracewindsor.org
SUMMARY:Scottish Dancers
DESCRIPTION:
URL:https://gracewindsor.org/event/scottish-dancers-2/2026-10-13/
LOCATION:Grace Church Great Hall\, 311 Broad Street\, Windsor\, 06095
CATEGORIES:Meetings
ATTACH;FMTTYPE=image/png:https://gracewindsor.org/wp-content/uploads/2023/06/March-29-2024-6.png
END:VEVENT
BEGIN:VEVENT
DTSTART;TZID=America/New_York:20261020T190000
DTEND;TZID=America/New_York:20261020T210000
DTSTAMP:20260423T060343
CREATED:20240825T001317Z
LAST-MODIFIED:20241104T162342Z
UID:10000441-1792522800-1792530000@gracewindsor.org
SUMMARY:Scottish Dancers
DESCRIPTION:
URL:https://gracewindsor.org/event/scottish-dancers-2/2026-10-20/
LOCATION:Grace Church Great Hall\, 311 Broad Street\, Windsor\, 06095
CATEGORIES:Meetings
ATTACH;FMTTYPE=image/png:https://gracewindsor.org/wp-content/uploads/2023/06/March-29-2024-6.png
END:VEVENT
BEGIN:VEVENT
DTSTART;TZID=America/New_York:20261027T190000
DTEND;TZID=America/New_York:20261027T210000
DTSTAMP:20260423T060343
CREATED:20240825T001317Z
LAST-MODIFIED:20241104T162342Z
UID:10000442-1793127600-1793134800@gracewindsor.org
SUMMARY:Scottish Dancers
DESCRIPTION:
URL:https://gracewindsor.org/event/scottish-dancers-2/2026-10-27/
LOCATION:Grace Church Great Hall\, 311 Broad Street\, Windsor\, 06095
CATEGORIES:Meetings
ATTACH;FMTTYPE=image/png:https://gracewindsor.org/wp-content/uploads/2023/06/March-29-2024-6.png
END:VEVENT
BEGIN:VEVENT
DTSTART;TZID=America/New_York:20261103T190000
DTEND;TZID=America/New_York:20261103T210000
DTSTAMP:20260423T060343
CREATED:20240825T001317Z
LAST-MODIFIED:20241104T162342Z
UID:10000443-1793732400-1793739600@gracewindsor.org
SUMMARY:Scottish Dancers
DESCRIPTION:
URL:https://gracewindsor.org/event/scottish-dancers-2/2026-11-03/
LOCATION:Grace Church Great Hall\, 311 Broad Street\, Windsor\, 06095
CATEGORIES:Meetings
ATTACH;FMTTYPE=image/png:https://gracewindsor.org/wp-content/uploads/2023/06/March-29-2024-6.png
END:VEVENT
BEGIN:VEVENT
DTSTART;TZID=America/New_York:20261110T190000
DTEND;TZID=America/New_York:20261110T210000
DTSTAMP:20260423T060343
CREATED:20240825T001317Z
LAST-MODIFIED:20241104T162342Z
UID:10000444-1794337200-1794344400@gracewindsor.org
SUMMARY:Scottish Dancers
DESCRIPTION:
URL:https://gracewindsor.org/event/scottish-dancers-2/2026-11-10/
LOCATION:Grace Church Great Hall\, 311 Broad Street\, Windsor\, 06095
CATEGORIES:Meetings
ATTACH;FMTTYPE=image/png:https://gracewindsor.org/wp-content/uploads/2023/06/March-29-2024-6.png
END:VEVENT
BEGIN:VEVENT
DTSTART;TZID=America/New_York:20261117T190000
DTEND;TZID=America/New_York:20261117T210000
DTSTAMP:20260423T060343
CREATED:20240825T001317Z
LAST-MODIFIED:20241104T162342Z
UID:10000445-1794942000-1794949200@gracewindsor.org
SUMMARY:Scottish Dancers
DESCRIPTION:
URL:https://gracewindsor.org/event/scottish-dancers-2/2026-11-17/
LOCATION:Grace Church Great Hall\, 311 Broad Street\, Windsor\, 06095
CATEGORIES:Meetings
ATTACH;FMTTYPE=image/png:https://gracewindsor.org/wp-content/uploads/2023/06/March-29-2024-6.png
END:VEVENT
END:VCALENDAR